BEGIN:VCALENDAR
VERSION:2.0
PRODID:-//Friends of Bushwick Inlet Park - ECPv6.15.20//NONSGML v1.0//EN
CALSCALE:GREGORIAN
METHOD:PUBLISH
X-WR-CALNAME:Friends of Bushwick Inlet Park
X-ORIGINAL-URL:https://bushwickinletpark.org
X-WR-CALDESC:Events for Friends of Bushwick Inlet Park
REFRESH-INTERVAL;VALUE=DURATION:PT1H
X-Robots-Tag:noindex
X-PUBLISHED-TTL:PT1H
BEGIN:VTIMEZONE
TZID:America/New_York
BEGIN:DAYLIGHT
TZOFFSETFROM:-0500
TZOFFSETTO:-0400
TZNAME:EDT
DTSTART:20210314T070000
END:DAYLIGHT
BEGIN:STANDARD
TZOFFSETFROM:-0400
TZOFFSETTO:-0500
TZNAME:EST
DTSTART:20211107T060000
END:STANDARD
BEGIN:DAYLIGHT
TZOFFSETFROM:-0500
TZOFFSETTO:-0400
TZNAME:EDT
DTSTART:20220313T070000
END:DAYLIGHT
BEGIN:STANDARD
TZOFFSETFROM:-0400
TZOFFSETTO:-0500
TZNAME:EST
DTSTART:20221106T060000
END:STANDARD
BEGIN:DAYLIGHT
TZOFFSETFROM:-0500
TZOFFSETTO:-0400
TZNAME:EDT
DTSTART:20230312T070000
END:DAYLIGHT
BEGIN:STANDARD
TZOFFSETFROM:-0400
TZOFFSETTO:-0500
TZNAME:EST
DTSTART:20231105T060000
END:STANDARD
END:VTIMEZONE
BEGIN:VEVENT
DTSTART;TZID=America/New_York:20220630T203000
DTEND;TZID=America/New_York:20220630T220000
DTSTAMP:20260425T215040
CREATED:20220604T132031Z
LAST-MODIFIED:20220622T172825Z
UID:10000053-1656621000-1656626400@bushwickinletpark.org
SUMMARY:Movies Under The Stars: Joe Papp in Five Acts
DESCRIPTION:Through Movies Under the Stars\, the Mayor’s Office of Media and Entertainment and NYC Parks bring more than 150 film screenings to parks throughout the five boroughs. Enjoy family-friendly entertainment in the city’s parks and playgrounds\, ranging from great new movies to all-time classics. Our movies have chairs reserved for seniors and people with disabilities\, so that everyone can enjoy a good movie. Bring some food\, find a great spot\, and enjoy the show! \nJoe Papp in Five Acts (2012\, Directors Tracie Holder\, Karen Thorsen) tells the story of this indomitable\, feisty\, street-wise champion of the arts. As founder of The Public Theater\, Free Shakespeare in the Park and producer of groundbreaking plays like Hair\, A Chorus Line and for colored girls who have considered suicide/ when the rainbow is enuf\, Papp believed great art was for everyone\, not just a privileged few. A cultural change agent for more than fifty years\, Papp’s stages held up a mirror to society with work that reflected the reality of people’s lives. \nPapp worked to expand public access to the arts. “We have public libraries\,” he would argue\, “Why not public theaters?” He recognized the role artists could play in building a more democratic\, inclusive society. At a time when theatre was largely the domain of white men\, he was convinced that women\, LGBTQIA+\, BIPOC and other marginalized communities\, denied power elsewhere in society\, could develop it on the stage. His goal was a “theater of inclusion” on-stage\, backstage\, and in the audience. \nFeaturing rare footage from the 50s to Papp’s death in 1991\, and up-close scenes from the performances themselves\, Joe Papp in Five Acts tells his own story without narration. His great accomplishments and his own\, often tumultuous\, personal history is told by the artists he helped create—and\, in some cases\, tried to destroy—including actors Kevin Kline\, James Earl Jones\, Meryl Streep\, Olympia Dukakis\, Mandy Patinkin\, Martin Sheen\, Christopher Walken and playwrights Larry Kramer\, and David Hare among others. \n***Directors Tracie Holder and Karen Thorsen will introduce the film.
URL:https://bushwickinletpark.org/event/joe-papp-in-five-acts/
LOCATION:Bushwick Inlet Park (50 Kent Ave)\, 50 Kent Ave\, Brooklyn\, NY\, 11249\, United States
CATEGORIES:50 Kent,Film,Upcoming Events
ATTACH;FMTTYPE=image/jpeg:https://eadn-wc01-5191420.nxedge.io/wp-content/uploads/2022/06/joe-papp-in-five-acts.jpeg
ORGANIZER;CN="NYC Parks & Recreation":MAILTO:BKspecialevents@parks.nyc.gov
GEO:40.7231845;-73.9597003
X-APPLE-STRUCTURED-LOCATION;VALUE=URI;X-ADDRESS=Bushwick Inlet Park (50 Kent Ave) 50 Kent Ave Brooklyn NY 11249 United States;X-APPLE-RADIUS=500;X-TITLE=50 Kent Ave:geo:-73.9597003,40.7231845
END:VEVENT
END:VCALENDAR