BEGIN:VCALENDAR
VERSION:2.0
PRODID:-//Friends of Bushwick Inlet Park - ECPv6.15.20//NONSGML v1.0//EN
CALSCALE:GREGORIAN
METHOD:PUBLISH
X-WR-CALNAME:Friends of Bushwick Inlet Park
X-ORIGINAL-URL:https://bushwickinletpark.org
X-WR-CALDESC:Events for Friends of Bushwick Inlet Park
REFRESH-INTERVAL;VALUE=DURATION:PT1H
X-Robots-Tag:noindex
X-PUBLISHED-TTL:PT1H
BEGIN:VTIMEZONE
TZID:America/New_York
BEGIN:DAYLIGHT
TZOFFSETFROM:-0500
TZOFFSETTO:-0400
TZNAME:EDT
DTSTART:20220313T070000
END:DAYLIGHT
BEGIN:STANDARD
TZOFFSETFROM:-0400
TZOFFSETTO:-0500
TZNAME:EST
DTSTART:20221106T060000
END:STANDARD
BEGIN:DAYLIGHT
TZOFFSETFROM:-0500
TZOFFSETTO:-0400
TZNAME:EDT
DTSTART:20230312T070000
END:DAYLIGHT
BEGIN:STANDARD
TZOFFSETFROM:-0400
TZOFFSETTO:-0500
TZNAME:EST
DTSTART:20231105T060000
END:STANDARD
BEGIN:DAYLIGHT
TZOFFSETFROM:-0500
TZOFFSETTO:-0400
TZNAME:EDT
DTSTART:20240310T070000
END:DAYLIGHT
BEGIN:STANDARD
TZOFFSETFROM:-0400
TZOFFSETTO:-0500
TZNAME:EST
DTSTART:20241103T060000
END:STANDARD
END:VTIMEZONE
BEGIN:VEVENT
DTSTART;TZID=America/New_York:20230511T200000
DTEND;TZID=America/New_York:20230511T223000
DTSTAMP:20260425T062537
CREATED:20230509T175057Z
LAST-MODIFIED:20231214T025005Z
UID:10000502-1683835200-1683844200@bushwickinletpark.org
SUMMARY:Movies Under the Stars: Everything Everywhere All at Once
DESCRIPTION:Grab a blanket and come enjoy a movie in a neighborhood park or playground! This summer\, NYC Parks and The Mayor’s Office of Media and Entertainment will host family-friendly movie showings across the five boroughs. \nA middle-aged Chinese immigrant is swept up into an insane adventure in which she alone can save existence by exploring other universes and connecting with the lives she could have led. \nMovies begin at dusk. This event is FREE and open to the public. Glass bottles and alcoholic beverages are strictly prohibited. In the event of heavy rain or extreme weather\, the screening may be canceled. The decision to cancel the event will be made prior to the screening and will be promptly posted on our website. \nFor more information visit nyc.gov/parks or call 311. Contact (212) 360-1430 or accessibility@parks.nyc.gov for more information regarding accessibility.
URL:https://bushwickinletpark.org/event/movies-under-the-stars-everything-everywhere-all-at-once/
LOCATION:Bushwick Inlet Park (50 Kent Ave)\, 50 Kent Ave\, Brooklyn\, NY\, 11249\, United States
CATEGORIES:50 Kent,Film
ATTACH;FMTTYPE=:
ORGANIZER;CN="NYC Parks & Recreation":MAILTO:BKspecialevents@parks.nyc.gov
GEO:40.7231845;-73.9597003
X-APPLE-STRUCTURED-LOCATION;VALUE=URI;X-ADDRESS=Bushwick Inlet Park (50 Kent Ave) 50 Kent Ave Brooklyn NY 11249 United States;X-APPLE-RADIUS=500;X-TITLE=50 Kent Ave:geo:-73.9597003,40.7231845
END:VEVENT
END:VCALENDAR