BEGIN:VCALENDAR
VERSION:2.0
PRODID:-//Friends of Bushwick Inlet Park - ECPv6.15.20//NONSGML v1.0//EN
CALSCALE:GREGORIAN
METHOD:PUBLISH
X-WR-CALNAME:Friends of Bushwick Inlet Park
X-ORIGINAL-URL:https://bushwickinletpark.org
X-WR-CALDESC:Events for Friends of Bushwick Inlet Park
REFRESH-INTERVAL;VALUE=DURATION:PT1H
X-Robots-Tag:noindex
X-PUBLISHED-TTL:PT1H
BEGIN:VTIMEZONE
TZID:America/New_York
BEGIN:DAYLIGHT
TZOFFSETFROM:-0500
TZOFFSETTO:-0400
TZNAME:EDT
DTSTART:20170312T070000
END:DAYLIGHT
BEGIN:STANDARD
TZOFFSETFROM:-0400
TZOFFSETTO:-0500
TZNAME:EST
DTSTART:20171105T060000
END:STANDARD
BEGIN:DAYLIGHT
TZOFFSETFROM:-0500
TZOFFSETTO:-0400
TZNAME:EDT
DTSTART:20180311T070000
END:DAYLIGHT
BEGIN:STANDARD
TZOFFSETFROM:-0400
TZOFFSETTO:-0500
TZNAME:EST
DTSTART:20181104T060000
END:STANDARD
BEGIN:DAYLIGHT
TZOFFSETFROM:-0500
TZOFFSETTO:-0400
TZNAME:EDT
DTSTART:20190310T070000
END:DAYLIGHT
BEGIN:STANDARD
TZOFFSETFROM:-0400
TZOFFSETTO:-0500
TZNAME:EST
DTSTART:20191103T060000
END:STANDARD
END:VTIMEZONE
BEGIN:VEVENT
DTSTART;TZID=America/New_York:20180617T100000
DTEND;TZID=America/New_York:20180617T110000
DTSTAMP:20260423T120302
CREATED:20180516T124706Z
LAST-MODIFIED:20180518T142349Z
UID:10000078-1529229600-1529233200@bushwickinletpark.org
SUMMARY:All Levels Yoga in the Park!
DESCRIPTION:Our friends at Hosh Yoga are hosting donation based yoga in the park. Come join us and bring Your Own Mat (BYOM)! \nOpen to all levels and all bodies\, this class focuses on the Vinyasa practice of linking breath and movement while flowing from one pose to the next. A great opportunity to get outside this summer\, rejuvenate the body\, and calm the mind\, while taking in some Vitamin D! We will focus on both strength & energy combined with balance & mindfulness. Be prepared for an energetic yet grounding practice that challenges both the mind and body. \nTo get us an accurate headcount\, please say your coming via our Facebook event.
URL:https://bushwickinletpark.org/event/all-levels-yoga-in-the-park-2-5/
LOCATION:Bushwick Inlet Park (50 Kent Ave)\, 50 Kent Ave\, Brooklyn\, NY\, 11249\, United States
CATEGORIES:50 Kent,All Levels Yoga in the Park,Upcoming Events
ATTACH;FMTTYPE=image/jpeg:https://eadn-wc01-5191420.nxedge.io/wp-content/uploads/2018/05/patrick-hendry-45138-unsplash.jpg
ORGANIZER;CN="Friends of Bushwick Inlet Park":MAILTO:info@bushwickinletpark.org
GEO:40.7231845;-73.9597003
X-APPLE-STRUCTURED-LOCATION;VALUE=URI;X-ADDRESS=Bushwick Inlet Park (50 Kent Ave) 50 Kent Ave Brooklyn NY 11249 United States;X-APPLE-RADIUS=500;X-TITLE=50 Kent Ave:geo:-73.9597003,40.7231845
END:VEVENT
BEGIN:VEVENT
DTSTART;TZID=America/New_York:20180610T100000
DTEND;TZID=America/New_York:20180610T110000
DTSTAMP:20260423T120302
CREATED:20180516T124638Z
LAST-MODIFIED:20180518T142349Z
UID:10000077-1528624800-1528628400@bushwickinletpark.org
SUMMARY:All Levels Yoga in the Park!
DESCRIPTION:Our friends at Hosh Yoga are hosting donation based yoga in the park. Come join us and bring Your Own Mat (BYOM)! \nOpen to all levels and all bodies\, this class focuses on the Vinyasa practice of linking breath and movement while flowing from one pose to the next. A great opportunity to get outside this summer\, rejuvenate the body\, and calm the mind\, while taking in some Vitamin D! We will focus on both strength & energy combined with balance & mindfulness. Be prepared for an energetic yet grounding practice that challenges both the mind and body. \nTo get us an accurate headcount\, please say your coming via our Facebook event.
URL:https://bushwickinletpark.org/event/all-levels-yoga-in-the-park-2-4/
LOCATION:Bushwick Inlet Park (50 Kent Ave)\, 50 Kent Ave\, Brooklyn\, NY\, 11249\, United States
CATEGORIES:50 Kent,All Levels Yoga in the Park,Upcoming Events
ATTACH;FMTTYPE=image/jpeg:https://eadn-wc01-5191420.nxedge.io/wp-content/uploads/2018/05/patrick-hendry-45138-unsplash.jpg
ORGANIZER;CN="Friends of Bushwick Inlet Park":MAILTO:info@bushwickinletpark.org
GEO:40.7231845;-73.9597003
X-APPLE-STRUCTURED-LOCATION;VALUE=URI;X-ADDRESS=Bushwick Inlet Park (50 Kent Ave) 50 Kent Ave Brooklyn NY 11249 United States;X-APPLE-RADIUS=500;X-TITLE=50 Kent Ave:geo:-73.9597003,40.7231845
END:VEVENT
BEGIN:VEVENT
DTSTART;TZID=America/New_York:20180603T100000
DTEND;TZID=America/New_York:20180603T110000
DTSTAMP:20260423T120302
CREATED:20180516T124539Z
LAST-MODIFIED:20180518T142349Z
UID:10000076-1528020000-1528023600@bushwickinletpark.org
SUMMARY:All Levels Yoga in the Park!
DESCRIPTION:Our friends at Hosh Yoga are hosting donation based yoga in the park. Come join us and bring Your Own Mat (BYOM)! \nOpen to all levels and all bodies\, this class focuses on the Vinyasa practice of linking breath and movement while flowing from one pose to the next. A great opportunity to get outside this summer\, rejuvenate the body\, and calm the mind\, while taking in some Vitamin D! We will focus on both strength & energy combined with balance & mindfulness. Be prepared for an energetic yet grounding practice that challenges both the mind and body. \nTo get us an accurate headcount\, please say your coming via our Facebook event.
URL:https://bushwickinletpark.org/event/all-levels-yoga-in-the-park-2-3/
LOCATION:Bushwick Inlet Park (50 Kent Ave)\, 50 Kent Ave\, Brooklyn\, NY\, 11249\, United States
CATEGORIES:50 Kent,All Levels Yoga in the Park,Upcoming Events
ATTACH;FMTTYPE=image/jpeg:https://eadn-wc01-5191420.nxedge.io/wp-content/uploads/2018/05/patrick-hendry-45138-unsplash.jpg
ORGANIZER;CN="Friends of Bushwick Inlet Park":MAILTO:info@bushwickinletpark.org
GEO:40.7231845;-73.9597003
X-APPLE-STRUCTURED-LOCATION;VALUE=URI;X-ADDRESS=Bushwick Inlet Park (50 Kent Ave) 50 Kent Ave Brooklyn NY 11249 United States;X-APPLE-RADIUS=500;X-TITLE=50 Kent Ave:geo:-73.9597003,40.7231845
END:VEVENT
BEGIN:VEVENT
DTSTART;TZID=America/New_York:20180527T100000
DTEND;TZID=America/New_York:20180527T110000
DTSTAMP:20260423T120302
CREATED:20180516T124505Z
LAST-MODIFIED:20180527T121219Z
UID:10000075-1527415200-1527418800@bushwickinletpark.org
SUMMARY:Postponed: All Levels Yoga in the Park!
DESCRIPTION:Update: Due to recent rain\, we’ve postponed this to our next Sunday yoga event. \nOur friends at Hosh Yoga are hosting donation based yoga in the park. Come join us and bring Your Own Mat (BYOM)! \nOpen to all levels and all bodies\, this class focuses on the Vinyasa practice of linking breath and movement while flowing from one pose to the next. A great opportunity to get outside this summer\, rejuvenate the body\, and calm the mind\, while taking in some Vitamin D! We will focus on both strength & energy combined with balance & mindfulness. Be prepared for an energetic yet grounding practice that challenges both the mind and body. \nTo get us an accurate headcount\, please say your coming via our Facebook event.
URL:https://bushwickinletpark.org/event/all-levels-yoga-in-the-park-2-2/
LOCATION:Bushwick Inlet Park (50 Kent Ave)\, 50 Kent Ave\, Brooklyn\, NY\, 11249\, United States
CATEGORIES:50 Kent,All Levels Yoga in the Park,Upcoming Events
ATTACH;FMTTYPE=image/jpeg:https://eadn-wc01-5191420.nxedge.io/wp-content/uploads/2018/05/patrick-hendry-45138-unsplash.jpg
ORGANIZER;CN="Friends of Bushwick Inlet Park":MAILTO:info@bushwickinletpark.org
GEO:40.7231845;-73.9597003
X-APPLE-STRUCTURED-LOCATION;VALUE=URI;X-ADDRESS=Bushwick Inlet Park (50 Kent Ave) 50 Kent Ave Brooklyn NY 11249 United States;X-APPLE-RADIUS=500;X-TITLE=50 Kent Ave:geo:-73.9597003,40.7231845
END:VEVENT
BEGIN:VEVENT
DTSTART;TZID=America/New_York:20180520T100000
DTEND;TZID=America/New_York:20180520T110000
DTSTAMP:20260423T120302
CREATED:20180516T123420Z
LAST-MODIFIED:20180518T171822Z
UID:10000061-1526810400-1526814000@bushwickinletpark.org
SUMMARY:Postponed: All Levels Yoga in the Park!
DESCRIPTION:Update: Due to recent rain\, we’ve postponed this to our next Sunday yoga event. \nOur friends at Hosh Yoga are hosting donation based yoga in the park. Come join us and bring Your Own Mat (BYOM)! \nOpen to all levels and all bodies\, this class focuses on the Vinyasa practice of linking breath and movement while flowing from one pose to the next. A great opportunity to get outside this summer\, rejuvenate the body\, and calm the mind\, while taking in some Vitamin D! We will focus on both strength & energy combined with balance & mindfulness. Be prepared for an energetic yet grounding practice that challenges both the mind and body. \nTo get us an accurate headcount\, please see updates on our Facebook event.
URL:https://bushwickinletpark.org/event/all-levels-yoga-in-the-park-2/
LOCATION:Bushwick Inlet Park (50 Kent Ave)\, 50 Kent Ave\, Brooklyn\, NY\, 11249\, United States
CATEGORIES:50 Kent,All Levels Yoga in the Park,Upcoming Events
ATTACH;FMTTYPE=image/jpeg:https://eadn-wc01-5191420.nxedge.io/wp-content/uploads/2018/05/patrick-hendry-45138-unsplash.jpg
ORGANIZER;CN="Friends of Bushwick Inlet Park":MAILTO:info@bushwickinletpark.org
GEO:40.7231845;-73.9597003
X-APPLE-STRUCTURED-LOCATION;VALUE=URI;X-ADDRESS=Bushwick Inlet Park (50 Kent Ave) 50 Kent Ave Brooklyn NY 11249 United States;X-APPLE-RADIUS=500;X-TITLE=50 Kent Ave:geo:-73.9597003,40.7231845
END:VEVENT
END:VCALENDAR