BEGIN:VCALENDAR
VERSION:2.0
PRODID:-//Friends of Bushwick Inlet Park - ECPv6.15.20//NONSGML v1.0//EN
CALSCALE:GREGORIAN
METHOD:PUBLISH
X-WR-CALNAME:Friends of Bushwick Inlet Park
X-ORIGINAL-URL:https://bushwickinletpark.org
X-WR-CALDESC:Events for Friends of Bushwick Inlet Park
REFRESH-INTERVAL;VALUE=DURATION:PT1H
X-Robots-Tag:noindex
X-PUBLISHED-TTL:PT1H
BEGIN:VTIMEZONE
TZID:America/New_York
BEGIN:DAYLIGHT
TZOFFSETFROM:-0500
TZOFFSETTO:-0400
TZNAME:EDT
DTSTART:20210314T070000
END:DAYLIGHT
BEGIN:STANDARD
TZOFFSETFROM:-0400
TZOFFSETTO:-0500
TZNAME:EST
DTSTART:20211107T060000
END:STANDARD
BEGIN:DAYLIGHT
TZOFFSETFROM:-0500
TZOFFSETTO:-0400
TZNAME:EDT
DTSTART:20220313T070000
END:DAYLIGHT
BEGIN:STANDARD
TZOFFSETFROM:-0400
TZOFFSETTO:-0500
TZNAME:EST
DTSTART:20221106T060000
END:STANDARD
BEGIN:DAYLIGHT
TZOFFSETFROM:-0500
TZOFFSETTO:-0400
TZNAME:EDT
DTSTART:20230312T070000
END:DAYLIGHT
BEGIN:STANDARD
TZOFFSETFROM:-0400
TZOFFSETTO:-0500
TZNAME:EST
DTSTART:20231105T060000
END:STANDARD
END:VTIMEZONE
BEGIN:VEVENT
DTSTART;TZID=America/New_York:20220615T180000
DTEND;TZID=America/New_York:20220615T193000
DTSTAMP:20260425T210401
CREATED:20220516T004537Z
LAST-MODIFIED:20220612T122426Z
UID:10000052-1655316000-1655321400@bushwickinletpark.org
SUMMARY:Weeding Wednesdays
DESCRIPTION:Join us every week as we weed\, mulch\, tend bushes and blossoms\, sometimes plant and water (if necessary). We have tools and gloves (but bring yours if you have them). Bring a water bottle. Everyone welcome but please note in your sign up if you are bringing others. See you there! \nPlease register.
URL:https://bushwickinletpark.org/event/weeding-wednesdays-2022-2/
LOCATION:Bushwick Inlet Park (86K)\, 86 Kent Ave\, Brooklyn\, NY\, 11249\, United States
CATEGORIES:86 Kent,Gardening
ATTACH;FMTTYPE=image/jpeg:https://eadn-wc01-5191420.nxedge.io/wp-content/uploads/2022/05/weeding-wed-header-2022-16x9-1.jpg
ORGANIZER;CN="Friends of Bushwick Inlet Park":MAILTO:info@bushwickinletpark.org
GEO:40.72206;-73.9614455
X-APPLE-STRUCTURED-LOCATION;VALUE=URI;X-ADDRESS=Bushwick Inlet Park (86K) 86 Kent Ave Brooklyn NY 11249 United States;X-APPLE-RADIUS=500;X-TITLE=86 Kent Ave:geo:-73.9614455,40.72206
END:VEVENT
BEGIN:VEVENT
DTSTART;TZID=America/New_York:20220623T183000
DTEND;TZID=America/New_York:20220623T200000
DTSTAMP:20260425T210401
CREATED:20220617T134648Z
LAST-MODIFIED:20220622T154330Z
UID:10000056-1656009000-1656014400@bushwickinletpark.org
SUMMARY:Summer Music in BIP 2022: Alma Adentro
DESCRIPTION:For the second summer FBIP brings music to the beautiful waterfront in Bushwick Inlet Park with our Summer Music in BIP 2022 series. Come take in a skyline river sunset on the 86 Kent shoreline esplanade while absorbing great musical vibes from multiple genres. \nWe’re kicking off this season with Alma Adentro for the first El Puente CADRE show! \nAlma Adentro is a New York City-based Puerto Rican musical ensemble that brings back the nostalgia of the Latin-American Boleros\, Guarachas & Cha cha chás with a dash of Danza Puertorriqueña. Named after the Sylvia Rexach song “Alma Adentro” or “Inside of your soul” in English\, this group of musicians seeks to touch our hearts through music with Yazmín Morales-Vicente (vocals)\, William Vázquez (guitar)\, Luis Rodríguez (Cuatro) and Elías De Jesús (percussion). To learn more about Alma Adentro\, you can follow them on Instagram @almaadentro787. \nA big thanks goes out this year’s sponsors: \n\nCity Parks Foundation\nEl Puente\nNYC Ferry\nNorth Brooklyn Parks Alliance\n25 Kent\nNYC Department of Parks & Recreation\nJazz Foundation of American\nRubenstein Partners\nNYC Department of Cultural Affairs\nBrooklyn Arts Council\nNew York State Council on the Arts\n\nPlease join us!
URL:https://bushwickinletpark.org/event/summer-music-in-bip-2022-alma-adentro/
LOCATION:Bushwick Inlet Park (86K)\, 86 Kent Ave\, Brooklyn\, NY\, 11249\, United States
CATEGORIES:86 Kent,Summer Music in BIP,Upcoming Events
ATTACH;FMTTYPE=image/jpeg:https://eadn-wc01-5191420.nxedge.io/wp-content/uploads/2022/06/alma-adentro-2021-16x9-2.jpg
ORGANIZER;CN="Friends of Bushwick Inlet Park":MAILTO:info@bushwickinletpark.org
GEO:40.72206;-73.9614455
X-APPLE-STRUCTURED-LOCATION;VALUE=URI;X-ADDRESS=Bushwick Inlet Park (86K) 86 Kent Ave Brooklyn NY 11249 United States;X-APPLE-RADIUS=500;X-TITLE=86 Kent Ave:geo:-73.9614455,40.72206
END:VEVENT
BEGIN:VEVENT
DTSTART;TZID=America/New_York:20220630T183000
DTEND;TZID=America/New_York:20220630T200000
DTSTAMP:20260425T210401
CREATED:20220617T135436Z
LAST-MODIFIED:20220617T142310Z
UID:10000057-1656613800-1656619200@bushwickinletpark.org
SUMMARY:Summer Music in BIP 2022: Alvin Flythe
DESCRIPTION:For the second summer FBIP brings music to the beautiful waterfront in Bushwick Inlet Park with our Summer Music in BIP 2022 series. Come take in a skyline river sunset on the 86 Kent shoreline esplanade while absorbing great musical vibes from multiple genres. \nNext\, the Jazz Foundation of America brings us Alvin Flythe and the Flythetime. \nQueens native Alvin Wink Flythe started playing music at the age of six and has been a professional saxophonist for more than 50 years. At the age of 12\, he had the honor of playing with his cousin Duke Ellington\, and has since shared the stage with greats like Dizzy Gillespie\, Roy Haynes\, and Dr. Lonnie Smith\, touring Europe and the Caribbean. Flythe’s style is influenced by John Coltrane\, Dexter Gordon\, Sonny Rollins\, and Sonny Stitt\, and combines a funk aesthetic with classic jazz tones. \nA big thanks goes out this year’s sponsors: \n\nCity Parks Foundation\nEl Puente\nNYC Ferry\nNorth Brooklyn Parks Alliance\n25 Kent\nNYC Department of Parks & Recreation\nJazz Foundation of American\nRubenstein Partners\nNYC Department of Cultural Affairs\nBrooklyn Arts Council\nNew York State Council on the Arts\n\nPlease join us!
URL:https://bushwickinletpark.org/event/summer-music-in-bip-2022-alvin-flythe/
LOCATION:Bushwick Inlet Park (86K)\, 86 Kent Ave\, Brooklyn\, NY\, 11249\, United States
CATEGORIES:86 Kent,Summer Music in BIP,Upcoming Events
ATTACH;FMTTYPE=image/jpeg:https://eadn-wc01-5191420.nxedge.io/wp-content/uploads/2021/06/alvin-flythe.jpg
ORGANIZER;CN="Friends of Bushwick Inlet Park":MAILTO:info@bushwickinletpark.org
GEO:40.72206;-73.9614455
X-APPLE-STRUCTURED-LOCATION;VALUE=URI;X-ADDRESS=Bushwick Inlet Park (86K) 86 Kent Ave Brooklyn NY 11249 United States;X-APPLE-RADIUS=500;X-TITLE=86 Kent Ave:geo:-73.9614455,40.72206
END:VEVENT
END:VCALENDAR