BEGIN:VCALENDAR
VERSION:2.0
PRODID:-//Friends of Bushwick Inlet Park - ECPv6.15.20//NONSGML v1.0//EN
CALSCALE:GREGORIAN
METHOD:PUBLISH
X-ORIGINAL-URL:https://bushwickinletpark.org
X-WR-CALDESC:Events for Friends of Bushwick Inlet Park
REFRESH-INTERVAL;VALUE=DURATION:PT1H
X-Robots-Tag:noindex
X-PUBLISHED-TTL:PT1H
BEGIN:VTIMEZONE
TZID:America/New_York
BEGIN:DAYLIGHT
TZOFFSETFROM:-0500
TZOFFSETTO:-0400
TZNAME:EDT
DTSTART:20210314T070000
END:DAYLIGHT
BEGIN:STANDARD
TZOFFSETFROM:-0400
TZOFFSETTO:-0500
TZNAME:EST
DTSTART:20211107T060000
END:STANDARD
BEGIN:DAYLIGHT
TZOFFSETFROM:-0500
TZOFFSETTO:-0400
TZNAME:EDT
DTSTART:20220313T070000
END:DAYLIGHT
BEGIN:STANDARD
TZOFFSETFROM:-0400
TZOFFSETTO:-0500
TZNAME:EST
DTSTART:20221106T060000
END:STANDARD
BEGIN:DAYLIGHT
TZOFFSETFROM:-0500
TZOFFSETTO:-0400
TZNAME:EDT
DTSTART:20230312T070000
END:DAYLIGHT
BEGIN:STANDARD
TZOFFSETFROM:-0400
TZOFFSETTO:-0500
TZNAME:EST
DTSTART:20231105T060000
END:STANDARD
END:VTIMEZONE
BEGIN:VEVENT
DTSTART;TZID=America/New_York:20220804T183000
DTEND;TZID=America/New_York:20220804T200000
DTSTAMP:20260425T180239
CREATED:20220618T015238Z
LAST-MODIFIED:20220629T010911Z
UID:10000193-1659637800-1659643200@bushwickinletpark.org
SUMMARY:Summer Music in BIP 2022: Gerry Eastman
DESCRIPTION:For the second summer FBIP brings music to the beautiful waterfront in Bushwick Inlet Park with our Summer Music in BIP 2022 series. Come take in a skyline river sunset on the 86 Kent shoreline esplanade while absorbing great musical vibes from multiple genres. \nNext\, the Jazz Foundation of America brings us guitarist Gerry Eastman and his sextet. (From Brooklyn Buzz:) Gerry Eastman is a prominent musician of the New York scene and is known for his work as a guitarist\, composer\, producer\, bassist\, arranger\, conductor\, and bandleader. He founded the Williamsburg Music Center in 1981 to foster the creation\, performance\, and appreciation of American classical music. \nA big thanks goes out this year’s sponsors: \n\nCity Parks Foundation\nEl Puente\nNYC Ferry\nNorth Brooklyn Parks Alliance\n25 Kent\nNYC Department of Parks & Recreation\nJazz Foundation of American\nRubenstein Partners\nNYC Department of Cultural Affairs\nBrooklyn Arts Council\nNew York State Council on the Arts\n\nPlease join us!
URL:https://bushwickinletpark.org/event/summer-music-in-bip-2022-gerry-eastman/
LOCATION:Bushwick Inlet Park (86K)\, 86 Kent Ave\, Brooklyn\, NY\, 11249\, United States
CATEGORIES:86 Kent,Summer Music in BIP,Upcoming Events
ATTACH;FMTTYPE=image/jpeg:https://eadn-wc01-5191420.nxedge.io/wp-content/uploads/2022/06/Gerry-Eastman-16x9-1.jpg
ORGANIZER;CN="Friends of Bushwick Inlet Park":MAILTO:info@bushwickinletpark.org
GEO:40.72206;-73.9614455
X-APPLE-STRUCTURED-LOCATION;VALUE=URI;X-ADDRESS=Bushwick Inlet Park (86K) 86 Kent Ave Brooklyn NY 11249 United States;X-APPLE-RADIUS=500;X-TITLE=86 Kent Ave:geo:-73.9614455,40.72206
END:VEVENT
BEGIN:VEVENT
DTSTART;TZID=America/New_York:20220811T183000
DTEND;TZID=America/New_York:20220811T200000
DTSTAMP:20260425T180239
CREATED:20220618T015708Z
LAST-MODIFIED:20221101T181241Z
UID:10000194-1660242600-1660248000@bushwickinletpark.org
SUMMARY:Summer Music in BIP 2022: Bomba Yo
DESCRIPTION:For the second summer FBIP brings music to the beautiful waterfront in Bushwick Inlet Park with our Summer Music in BIP 2022 series. Come take in a skyline river sunset on the 86 Kent shoreline esplanade while absorbing great musical vibes from multiple genres.\n\nWe are winding way up with Bombay Yo for our final El Puente CADRE show!\n\nBomba Yo ignites the ancestral rhythms of Bomba\, an African derived music and dance tradition developed in Puerto Rico. The synergy of call and response singing\, drumming and dance provide the foundation for a dynamic interplay between the solo drummer and dancer. BombaYo stirs the soul in a way that only music and dance can to uplift and celebrate our deeper humanity. BombaYo creates an intergenerational and participatory experience that honors people of all ages and abilities.\n\nA big thanks goes out this year’s sponsors:\n\n 	City Parks Foundation\n 	El Puente\n 	NYC Ferry\n 	North Brooklyn Parks Alliance\n 	25 Kent\n 	NYC Department of Parks & Recreation\n 	Jazz Foundation of American\n 	Rubenstein Partners\n 	NYC Department of Cultural Affairs\n 	Brooklyn Arts Council\n 	New York State Council on the Arts\n\nPlease join us!
URL:https://bushwickinletpark.org/event/summer-music-in-bip-2022-bomba-yo/
LOCATION:Bushwick Inlet Park (86K)\, 86 Kent Ave\, Brooklyn\, NY\, 11249\, United States
CATEGORIES:86 Kent,Summer Music in BIP,Upcoming Events
ATTACH;FMTTYPE=image/jpeg:https://eadn-wc01-5191420.nxedge.io/wp-content/uploads/2022/06/bomba-yo-bip-2021-alt-16x9-1.jpg
ORGANIZER;CN="Friends of Bushwick Inlet Park":MAILTO:info@bushwickinletpark.org
GEO:40.72206;-73.9614455
X-APPLE-STRUCTURED-LOCATION;VALUE=URI;X-ADDRESS=Bushwick Inlet Park (86K) 86 Kent Ave Brooklyn NY 11249 United States;X-APPLE-RADIUS=500;X-TITLE=86 Kent Ave:geo:-73.9614455,40.72206
END:VEVENT
END:VCALENDAR