BEGIN:VCALENDAR
VERSION:2.0
PRODID:-//Friends of Bushwick Inlet Park - ECPv6.15.20//NONSGML v1.0//EN
CALSCALE:GREGORIAN
METHOD:PUBLISH
X-ORIGINAL-URL:https://bushwickinletpark.org
X-WR-CALDESC:Events for Friends of Bushwick Inlet Park
REFRESH-INTERVAL;VALUE=DURATION:PT1H
X-Robots-Tag:noindex
X-PUBLISHED-TTL:PT1H
BEGIN:VTIMEZONE
TZID:America/New_York
BEGIN:DAYLIGHT
TZOFFSETFROM:-0500
TZOFFSETTO:-0400
TZNAME:EDT
DTSTART:20210314T070000
END:DAYLIGHT
BEGIN:STANDARD
TZOFFSETFROM:-0400
TZOFFSETTO:-0500
TZNAME:EST
DTSTART:20211107T060000
END:STANDARD
BEGIN:DAYLIGHT
TZOFFSETFROM:-0500
TZOFFSETTO:-0400
TZNAME:EDT
DTSTART:20220313T070000
END:DAYLIGHT
BEGIN:STANDARD
TZOFFSETFROM:-0400
TZOFFSETTO:-0500
TZNAME:EST
DTSTART:20221106T060000
END:STANDARD
BEGIN:DAYLIGHT
TZOFFSETFROM:-0500
TZOFFSETTO:-0400
TZNAME:EDT
DTSTART:20230312T070000
END:DAYLIGHT
BEGIN:STANDARD
TZOFFSETFROM:-0400
TZOFFSETTO:-0500
TZNAME:EST
DTSTART:20231105T060000
END:STANDARD
END:VTIMEZONE
BEGIN:VEVENT
DTSTART;TZID=America/New_York:20221203T133000
DTEND;TZID=America/New_York:20221203T163000
DTSTAMP:20260425T124145
CREATED:20221122T145404Z
LAST-MODIFIED:20231214T025021Z
UID:10000213-1670074200-1670085000@bushwickinletpark.org
SUMMARY:Create a Phenology Wheel Artwork
DESCRIPTION:Join us to create a Phenology Wheel Artwork! \nAs we approach the winter solstice and the end of the year\, it is a great time to reflect on seasons and cycles. We will view examples of phenology wheels and discuss some local cycles in relation to our park\, from the evident flora and fauna changes to the more subtle such as the tides and aquatic life cycles. \nPhenology is the study of cycles or periodic events in nature. You’ll learn to set up a wheel and use it to create a visual record of different cycles such as moon phases\, weather\, temperature\, flower growth\, seasonal changes of leaves\, the tides\, bird migration\, animal life cycles\, or any other natural cycles and personal observations. \nFriends of Bushwick Inlet Park will provide art supplies\, but feel free to bring your own (if you have!) for this guided art project for beginners and artists of all levels. \nIf you’d like to bring your own\, we recommend: \n\npencil\ncolored pencils or watercolors\nruler\, compass\, and protractor\npaper appropriate for your pencils or watercolors\n\nThere will also be a template if you prefer to trace your wheel. There will be a good amount of working time for feedback and tips and techniques. \nNo experience necessary. *Registration required. \nTaught by Monica Schroeder\, scientific illustrator \n* Please register only if you plan to actually attend. The class size is small to ensure an intimate hands on learning experience. \nChildren 14 and over (high school students) are welcome but must be accompanied by a parent or guardian at all times.
URL:https://bushwickinletpark.org/event/create-a-phenology-wheel-artwork/
LOCATION:Bushwick Inlet Park Building\, 86 Kent Ave\, Brooklyn\, NY\, 11249\, United States
CATEGORIES:86 Kent,Class,Environmental Education,Upcoming Events
ATTACH;FMTTYPE=:
ORGANIZER;CN="Friends of Bushwick Inlet Park":MAILTO:info@bushwickinletpark.org
GEO:40.72206;-73.9614455
X-APPLE-STRUCTURED-LOCATION;VALUE=URI;X-ADDRESS=Bushwick Inlet Park Building 86 Kent Ave Brooklyn NY 11249 United States;X-APPLE-RADIUS=500;X-TITLE=86 Kent Ave:geo:-73.9614455,40.72206
END:VEVENT
END:VCALENDAR