BEGIN:VCALENDAR
VERSION:2.0
PRODID:-//Friends of Bushwick Inlet Park - ECPv6.15.20//NONSGML v1.0//EN
CALSCALE:GREGORIAN
METHOD:PUBLISH
X-WR-CALNAME:Friends of Bushwick Inlet Park
X-ORIGINAL-URL:https://bushwickinletpark.org
X-WR-CALDESC:Events for Friends of Bushwick Inlet Park
REFRESH-INTERVAL;VALUE=DURATION:PT1H
X-Robots-Tag:noindex
X-PUBLISHED-TTL:PT1H
BEGIN:VTIMEZONE
TZID:America/New_York
BEGIN:DAYLIGHT
TZOFFSETFROM:-0500
TZOFFSETTO:-0400
TZNAME:EDT
DTSTART:20220313T070000
END:DAYLIGHT
BEGIN:STANDARD
TZOFFSETFROM:-0400
TZOFFSETTO:-0500
TZNAME:EST
DTSTART:20221106T060000
END:STANDARD
BEGIN:DAYLIGHT
TZOFFSETFROM:-0500
TZOFFSETTO:-0400
TZNAME:EDT
DTSTART:20230312T070000
END:DAYLIGHT
BEGIN:STANDARD
TZOFFSETFROM:-0400
TZOFFSETTO:-0500
TZNAME:EST
DTSTART:20231105T060000
END:STANDARD
BEGIN:DAYLIGHT
TZOFFSETFROM:-0500
TZOFFSETTO:-0400
TZNAME:EDT
DTSTART:20240310T070000
END:DAYLIGHT
BEGIN:STANDARD
TZOFFSETFROM:-0400
TZOFFSETTO:-0500
TZNAME:EST
DTSTART:20241103T060000
END:STANDARD
END:VTIMEZONE
BEGIN:VEVENT
DTSTART;TZID=America/New_York:20230301T183000
DTEND;TZID=America/New_York:20230301T200000
DTSTAMP:20260425T083610
CREATED:20230223T143219Z
LAST-MODIFIED:20231214T025005Z
UID:10000216-1677695400-1677700800@bushwickinletpark.org
SUMMARY:Vernal Convocation ‘23
DESCRIPTION:Come hear about all things Bushwick Inlet Park! Also engage in a panel presentation and discussion about resilient park design! \nWhat’s going on with the various parts of Bushwick Inlet Park? What kind of programming is FBIP creating this year? Parcel status\, stewardship\, programming\, gardening\, volunteer opportunities (we need you!)\, oyster surveying\, and this year’s Summer Music Series – we’ll tell all! \nAlso\, join us for The New Resilience- Beyond USACE HATS\, a seminar presentation & panel discussion with: \n\nAlice Shay & Mikalya Hoskins\, leading urban design and strategic planning projects with Buro Happold’s Cities team\, Buro Happold\nTyler Taba\, Senior Manager for Climate Policy\, Waterfront Alliance\, Rise2Resilience\nWillis Elkins\, Executive Director\, Newtown Creek Alliance\n\nThe Buro Happold team will explore how public open space can be designed to serve as a resilient defense in the face of current and increasing climate impacts\, and as a more thoughtful alternative to blunt hard infrastructure options. \nTyler Taba and Willis Elkins will tie this directly to the USACE NYNJHATS storm risk management concept and to the local North Brooklyn landscape. \nQ&A to follow. \nFree registration required.
URL:https://bushwickinletpark.org/event/vernal-convocation-23/
LOCATION:Bushwick Inlet Park Building\, 86 Kent Ave\, Brooklyn\, NY\, 11249\, United States
CATEGORIES:86 Kent,Environmental Education,Upcoming Events
ATTACH;FMTTYPE=:
ORGANIZER;CN="Friends of Bushwick Inlet Park":MAILTO:info@bushwickinletpark.org
GEO:40.72206;-73.9614455
X-APPLE-STRUCTURED-LOCATION;VALUE=URI;X-ADDRESS=Bushwick Inlet Park Building 86 Kent Ave Brooklyn NY 11249 United States;X-APPLE-RADIUS=500;X-TITLE=86 Kent Ave:geo:-73.9614455,40.72206
END:VEVENT
BEGIN:VEVENT
DTSTART;TZID=America/New_York:20230325T140000
DTEND;TZID=America/New_York:20230325T163000
DTSTAMP:20260425T083610
CREATED:20230314T131018Z
LAST-MODIFIED:20231214T025005Z
UID:10000217-1679752800-1679761800@bushwickinletpark.org
SUMMARY:Painted Paper Collage
DESCRIPTION:Join Friends of Bushwick Inlet Park for an afternoon of painting & cut paper collaging with local gardener\, artist & card designer Llubav. \nLlubav is a member of the Java Street Community Garden in Greenpoint\, a neighborhood of north Brooklyn\, NY. The plants from her plot and around the garden are often the subjects of many of her paintings and greeting cards. She is also inspired from her trips to other gardens like Wave Hill in NYC and her travels to the South West. \nShe will share her tips and techniques in creating her beautiful and whimsical designs. We will hand paint on different types of papers using a mix of tempera\, acrylic\, gouache\, watercolor\, crayons and colored pencils (or whatever else you might want to bring). Once we have created a mixture of colorful and textured raw materials\, we will then cut and make shapes which will be glued to a larger sheet of paper or cardstock to create a unique and playful collage. \nwww.llubav.com \n@llubav \nNo experience necessary. Registration required. \n*Meet inside the park building. \nSuggested Supplies: \n\nPaper or Tissue Paper you might want to use\nScissors (comfortable size to cut small shapes)\nBig and medium sized brushes\nElmers liquid glue\, paste or glue stick\nColored Paints (Acrylic\, Guache\, Tempera\, Watercolor)\n\nChildren 14 and over (high school students) are welcome but must be accompanied by a parent or guardian. \n 
URL:https://bushwickinletpark.org/event/painted-paper-collage/
LOCATION:Bushwick Inlet Park Building\, 86 Kent Ave\, Brooklyn\, NY\, 11249\, United States
CATEGORIES:86 Kent,Class
ATTACH;FMTTYPE=:
ORGANIZER;CN="Friends of Bushwick Inlet Park":MAILTO:info@bushwickinletpark.org
GEO:40.72206;-73.9614455
X-APPLE-STRUCTURED-LOCATION;VALUE=URI;X-ADDRESS=Bushwick Inlet Park Building 86 Kent Ave Brooklyn NY 11249 United States;X-APPLE-RADIUS=500;X-TITLE=86 Kent Ave:geo:-73.9614455,40.72206
END:VEVENT
END:VCALENDAR