BEGIN:VCALENDAR
VERSION:2.0
PRODID:-//Friends of Bushwick Inlet Park - ECPv6.15.20//NONSGML v1.0//EN
CALSCALE:GREGORIAN
METHOD:PUBLISH
X-WR-CALNAME:Friends of Bushwick Inlet Park
X-ORIGINAL-URL:https://bushwickinletpark.org
X-WR-CALDESC:Events for Friends of Bushwick Inlet Park
REFRESH-INTERVAL;VALUE=DURATION:PT1H
X-Robots-Tag:noindex
X-PUBLISHED-TTL:PT1H
BEGIN:VTIMEZONE
TZID:America/New_York
BEGIN:DAYLIGHT
TZOFFSETFROM:-0500
TZOFFSETTO:-0400
TZNAME:EDT
DTSTART:20220313T070000
END:DAYLIGHT
BEGIN:STANDARD
TZOFFSETFROM:-0400
TZOFFSETTO:-0500
TZNAME:EST
DTSTART:20221106T060000
END:STANDARD
BEGIN:DAYLIGHT
TZOFFSETFROM:-0500
TZOFFSETTO:-0400
TZNAME:EDT
DTSTART:20230312T070000
END:DAYLIGHT
BEGIN:STANDARD
TZOFFSETFROM:-0400
TZOFFSETTO:-0500
TZNAME:EST
DTSTART:20231105T060000
END:STANDARD
BEGIN:DAYLIGHT
TZOFFSETFROM:-0500
TZOFFSETTO:-0400
TZNAME:EDT
DTSTART:20240310T070000
END:DAYLIGHT
BEGIN:STANDARD
TZOFFSETFROM:-0400
TZOFFSETTO:-0500
TZNAME:EST
DTSTART:20241103T060000
END:STANDARD
END:VTIMEZONE
BEGIN:VEVENT
DTSTART;TZID=America/New_York:20230422T140000
DTEND;TZID=America/New_York:20230422T163000
DTSTAMP:20260425T071807
CREATED:20230412T114254Z
LAST-MODIFIED:20231214T025005Z
UID:10000500-1682172000-1682181000@bushwickinletpark.org
SUMMARY:Drawing Landscapes: Pencil\, Ink\, Watercolor & Gouache - Techniques & Tips
DESCRIPTION:Join us on Earth Day at the Bushwick Inlet Park Community Center for an afternoon of sketching. \nBrooklyn will be gaining many new trees – you can even request a tree to plant yourself! Following a big push to plant many more street trees in the neighborhood\, we will focus this month on landscapes\, especially how to represent trees in their surroundings. After an introductory slide presentation\, we’ll practice techniques with a few exercises\, each focusing on a different aspect of a landscape: trees\, waterways\, the sky\, and clouds. \nWe’ll discuss principles such as focal point\, atmospheric perspective\, simplification\, using space in a composition\, and the importance of planning. We will practice recognizing shapes and scale\, mark making\, using thumbnail sketches for composition and light\, and choosing colors. Tips on putting together an outdoor art kit for drawing\, watercolor\, or gouache for those who would like to paint and draw outdoors will also be touched upon. Bring your own travel art kit if you’d like to share what tools work best for you. \nThen we will create pieces using some of these skills. Weather permitting\, we might head outside to draw or paint together. \nFriends of Bushwick Inlet Park will provide art supplies\, but feel free to bring your own (if you have!) for this guided art project for beginners and artists of all levels. Materials provided will include paper\, watercolors\, colored pencils\, and other basic drawing supplies. \nIf you’d like to bring your own supplies\, we recommend: \n\nmultimedia or watercolor paper\nwatercolor paints and brushes\npencil\, eraser\, ruler\, tape (for masking edges)\ncolored pencils\, markers\, or pens\n\nNo experience necessary. \nRegistration required. \nInstructor Monica Schroeder is a professional scientific illustrator. Her work has appeared in Scientific American\, countless textbooks\, natural history museum exhibitions\, and on the TV Show Jeopardy. \nShe has been an adult art instructor since 2018. \nmonbertkayak@gmail.com \n* Please register only if you plan to actually attend. The class size is small to ensure an intimate hands-on learning experience. \nChildren 14 and over (high school students) are welcome but must be accompanied by a parent or guardian.
URL:https://bushwickinletpark.org/event/drawing-landscapes-pencil-ink-watercolor-gouache-techniques-tips/
LOCATION:NY
CATEGORIES:86 Kent,Class,Upcoming Events
ATTACH;FMTTYPE=:
ORGANIZER;CN="Friends of Bushwick Inlet Park":MAILTO:info@bushwickinletpark.org
END:VEVENT
BEGIN:VEVENT
DTSTART;TZID=America/New_York:20230430T100000
DTEND;TZID=America/New_York:20230430T130000
DTSTAMP:20260425T071807
CREATED:20230405T145133Z
LAST-MODIFIED:20231214T025005Z
UID:10000219-1682848800-1682859600@bushwickinletpark.org
SUMMARY:It's My Park Day Spring 2023
DESCRIPTION:Join Friends of Bushwick Inlet Park to help wake up the gardens in Bushwick Inlet Park. \nCome lend a hand weeding\, mulching and planting the garden beds in BIP’s 50 Kent Ave section (map: 41 N 11th St). We have tools and gloves (but bring yours if you have them)! Wear clothes that can get dirty and a bring a water bottle. It’s lots of fun- meet other garden aficionados\, identify plants\, discuss best weeding practices :). \nPlease register. \nWe are grateful for support from NYC Parks\, Partnerships for Parks and North Brooklyn Parks Alliance.
URL:https://bushwickinletpark.org/event/its-my-park-day-spring-2023/
LOCATION:Bushwick Inlet Park (50 Kent Ave)\, 50 Kent Ave\, Brooklyn\, NY\, 11249\, United States
CATEGORIES:86 Kent,Gardening,Upcoming Events
ATTACH;FMTTYPE=:
ORGANIZER;CN="Friends of Bushwick Inlet Park":MAILTO:info@bushwickinletpark.org
GEO:40.7231845;-73.9597003
X-APPLE-STRUCTURED-LOCATION;VALUE=URI;X-ADDRESS=Bushwick Inlet Park (50 Kent Ave) 50 Kent Ave Brooklyn NY 11249 United States;X-APPLE-RADIUS=500;X-TITLE=50 Kent Ave:geo:-73.9597003,40.7231845
END:VEVENT
END:VCALENDAR