BEGIN:VCALENDAR
VERSION:2.0
PRODID:-//Friends of Bushwick Inlet Park - ECPv6.15.20//NONSGML v1.0//EN
CALSCALE:GREGORIAN
METHOD:PUBLISH
X-WR-CALNAME:Friends of Bushwick Inlet Park
X-ORIGINAL-URL:https://bushwickinletpark.org
X-WR-CALDESC:Events for Friends of Bushwick Inlet Park
REFRESH-INTERVAL;VALUE=DURATION:PT1H
X-Robots-Tag:noindex
X-PUBLISHED-TTL:PT1H
BEGIN:VTIMEZONE
TZID:America/New_York
BEGIN:DAYLIGHT
TZOFFSETFROM:-0500
TZOFFSETTO:-0400
TZNAME:EDT
DTSTART:20240310T070000
END:DAYLIGHT
BEGIN:STANDARD
TZOFFSETFROM:-0400
TZOFFSETTO:-0500
TZNAME:EST
DTSTART:20241103T060000
END:STANDARD
BEGIN:DAYLIGHT
TZOFFSETFROM:-0500
TZOFFSETTO:-0400
TZNAME:EDT
DTSTART:20250309T070000
END:DAYLIGHT
BEGIN:STANDARD
TZOFFSETFROM:-0400
TZOFFSETTO:-0500
TZNAME:EST
DTSTART:20251102T060000
END:STANDARD
BEGIN:DAYLIGHT
TZOFFSETFROM:-0500
TZOFFSETTO:-0400
TZNAME:EDT
DTSTART:20260308T070000
END:DAYLIGHT
BEGIN:STANDARD
TZOFFSETFROM:-0400
TZOFFSETTO:-0500
TZNAME:EST
DTSTART:20261101T060000
END:STANDARD
END:VTIMEZONE
BEGIN:VEVENT
DTSTART;TZID=America/New_York:20250329T130000
DTEND;TZID=America/New_York:20250329T160000
DTSTAMP:20260423T182046
CREATED:20250319T134331Z
LAST-MODIFIED:20250319T144226Z
UID:10000628-1743253200-1743264000@bushwickinletpark.org
SUMMARY:Watercolor Insects: Explore & Paint Insects From the Gardens
DESCRIPTION:Join us as we explore beneficial and invasive bugs from our gardens\, then paint them with watercolors. \n\n\n\n\n\n\nLocation\nBushwick Inlet Park\n86 Kent Avenue Community Building (Inside)\nBrooklyn\, NY 11249 \n\n\n\n\n\n\nInsects are everywhere—1.4 million for every person on Earth—yet many remain misunderstood. Are wasps pests or essential helpers? How do bees sustain our food supply? And are ladybugs truly nature’s best pesticide? We will also discuss a few non-insects\, such as spiders\, earthworms\, and nematodes. \nWe will then paint insects – a butterfly\, ladybug\, beetle and bee template will be provided. \nWe will also have some painted and decorative papers to potentially collage as well. \nMaterials Provided: \n\nPrinted insect images and magazines\n5″ x 7″ drawing paper\nPencils & pens\nRulers & straight edges\nTracing paper\nGraphite paper\nGraphite pencils\nDrafting & Washi tape\nWatercolor supplies\nWatercolor paper\nColor Wheel\n\nAs always\, please bring along your own favorite supplies if you have any! \nFree Registration required. \nChildren above 14 must be accompanied by a guardian. \nTaught by Monica Schroeder\, scientific illustrator & kayaker\nmonbertkayak@gmail.com \nMedical & Scientific Illustration\nIllustration Portfolio \n 
URL:https://bushwickinletpark.org/event/watercolor-insects-explore-paint-insects-from-the-gardens/
LOCATION:Bushwick Inlet Park Building\, 86 Kent Ave\, Brooklyn\, NY\, 11249\, United States
CATEGORIES:86 Kent,Class,Upcoming Events
ATTACH;FMTTYPE=image/jpeg:https://eadn-wc01-5191420.nxedge.io/wp-content/uploads/2025/03/insect-2.jpg
ORGANIZER;CN="Friends of Bushwick Inlet Park":MAILTO:info@bushwickinletpark.org
GEO:40.72206;-73.9614455
X-APPLE-STRUCTURED-LOCATION;VALUE=URI;X-ADDRESS=Bushwick Inlet Park Building 86 Kent Ave Brooklyn NY 11249 United States;X-APPLE-RADIUS=500;X-TITLE=86 Kent Ave:geo:-73.9614455,40.72206
END:VEVENT
END:VCALENDAR