BEGIN:VCALENDAR
VERSION:2.0
PRODID:-//Friends of Bushwick Inlet Park - ECPv6.15.20//NONSGML v1.0//EN
CALSCALE:GREGORIAN
METHOD:PUBLISH
X-ORIGINAL-URL:https://bushwickinletpark.org
X-WR-CALDESC:Events for Friends of Bushwick Inlet Park
REFRESH-INTERVAL;VALUE=DURATION:PT1H
X-Robots-Tag:noindex
X-PUBLISHED-TTL:PT1H
BEGIN:VTIMEZONE
TZID:America/New_York
BEGIN:DAYLIGHT
TZOFFSETFROM:-0500
TZOFFSETTO:-0400
TZNAME:EDT
DTSTART:20200308T070000
END:DAYLIGHT
BEGIN:STANDARD
TZOFFSETFROM:-0400
TZOFFSETTO:-0500
TZNAME:EST
DTSTART:20201101T060000
END:STANDARD
BEGIN:DAYLIGHT
TZOFFSETFROM:-0500
TZOFFSETTO:-0400
TZNAME:EDT
DTSTART:20210314T070000
END:DAYLIGHT
BEGIN:STANDARD
TZOFFSETFROM:-0400
TZOFFSETTO:-0500
TZNAME:EST
DTSTART:20211107T060000
END:STANDARD
BEGIN:DAYLIGHT
TZOFFSETFROM:-0500
TZOFFSETTO:-0400
TZNAME:EDT
DTSTART:20220313T070000
END:DAYLIGHT
BEGIN:STANDARD
TZOFFSETFROM:-0400
TZOFFSETTO:-0500
TZNAME:EST
DTSTART:20221106T060000
END:STANDARD
END:VTIMEZONE
BEGIN:VEVENT
DTSTART;TZID=America/New_York:20210512T190000
DTEND;TZID=America/New_York:20210512T201500
DTSTAMP:20260423T023013
CREATED:20210505T185844Z
LAST-MODIFIED:20210506T113620Z
UID:10000164-1620846000-1620850500@bushwickinletpark.org
SUMMARY:Fungi and Plants: An Essential Romance
DESCRIPTION:Fungi and plants are ideal life partners\, there is evidence that they may have even facilitated each other’s move onto land over a billion years ago. Fungi take in oxygen\, releasing carbon dioxide\, while breaking down rock and organic matter to release nutrients essential for plants to grow. Plants recycle the carbon dioxide\, releasing oxygen\, while photosynthesizing to produce carbon sugars which they share with fungi so that both plants and fungi can flourish. There are a multitude of interesting relationships\, each of which is unique. Join us with educator Luke Sarrantonio as we peel back the curtain and take a peek at these amazing organisms and the fascinating connections they rely on to survive and thrive. Also\, learn about ways we can facilitate these relationships to influence the health of the ecosystems that we live in and gardens that we tend to. \nLuke Sarrantonio (website – instagram) grew up in a small rural town in the upper Hudson Valley/Catskill Region (about 2 hours north of NYC) and spent much of his childhood exploring the fascinating interwoven ecosystems that make up this unique natural landscape. In college at SUNY ESF he was blessed to work under some truly inspiring minds in the world of Life Sciences and Mycology (study of fungi). Following his passion through travels in the Pacific Northwest and work on a shiitake farm in the finger lakes region of New York\, he eventually landed back in the Hudson Valley. Currently he is working to develop education programming and mushroom based products under the name Mycophilic: for the love of Fungi. \nThis will be a Zoom meeting. Free registration required.
URL:https://bushwickinletpark.org/event/fungi-and-plants-an-essential-romance/
LOCATION:Zoom
CATEGORIES:Class
ATTACH;FMTTYPE=image/jpeg:https://eadn-wc01-5191420.nxedge.io/wp-content/uploads/2021/05/fungi-sextet-stacked.jpg
ORGANIZER;CN="Friends of Bushwick Inlet Park":MAILTO:info@bushwickinletpark.org
END:VEVENT
BEGIN:VEVENT
DTSTART;TZID=America/New_York:20210424T163000
DTEND;TZID=America/New_York:20210424T180000
DTSTAMP:20260423T023013
CREATED:20210408T154353Z
LAST-MODIFIED:20210408T160438Z
UID:10000163-1619281800-1619287200@bushwickinletpark.org
SUMMARY:Biology/Art: The Fungus Among Us/ Colored Pencil and Ink
DESCRIPTION:It’s not an animal and it’s not a plant – it’s a fungus! \nLed by scientific illustrator Monica Schroeder we’ll discover the weird world of fungi with an informational slideshow and a step by step art demonstration for all to follow and create a fun\, colorful artwork.  No experience necessary!. \nWe’ll choose between a chanterelle or an amanita muscaria (toadstool) for the demo.  Use any medium you prefer that allows for detailed work.  The demo will use pencil\, colored pencils and an ink pen or marker.  Topics and techniques covered will include light and shadow\, creating a 3-D form\, color theory\, mixing color for shadows\, inking a drawing\, and more. \nAll skill levels welcome. Perfect for beginners. \nTopics: \n\nDrawing basics\nCreating volume & light\nDrawing\, coloring\, and inking.\nChoosing colors\n\n  \nRECOMMENDED SUPPLIES: \n\n2H and a 6H drawing pencil (any hard or soft pencils)\nWhite eraser\nScrap paper for drawing practice\nNicer paper for your mushroom drawing\nColored pencils & a blending tool\nInk markers or pen\n\n  \nPlease have art supplies ready. \nFree registration required. \n \n 
URL:https://bushwickinletpark.org/event/biology-art-the-fungus-among-us-colored-pencil-and-ink/
LOCATION:Zoom
CATEGORIES:Class,Upcoming Events
ATTACH;FMTTYPE=image/jpeg:https://eadn-wc01-5191420.nxedge.io/wp-content/uploads/2021/04/mushroom-group.jpg
END:VEVENT
BEGIN:VEVENT
DTSTART;TZID=America/New_York:20210320T140000
DTEND;TZID=America/New_York:20210320T153000
DTSTAMP:20260423T023013
CREATED:20210311T132835Z
LAST-MODIFIED:20210317T122134Z
UID:10000143-1616248800-1616254200@bushwickinletpark.org
SUMMARY:Biology/Art: Local Flowers/Intro to Botanical Illustration
DESCRIPTION:Friends of Bushwick Inlet Park volunteers have planted several garden beds and continue to expand the beds to include more of the park. Crocuses were added last year as part of the city’s plant it purple initiative. Join us on Zoom to see and discuss some of the flowering plants soon to be seen in the gardens while demonstrating the basics of Botanical Illustration. \nMonica Schroeder\, a professional scientific Illustrator\, will lead us through plant anatomy and warm up drawing exercises and then dive into a simple botanical illustration. (A Crocus Template will be provided for those who wish to trace.) \nThe class will switch between slides and live instruction using pencils and watercolor. \nUse any medium you prefer that allows for detailed work – even just a plain pencil and copy paper. (Most drug stores sell colored pencils and watercolor kits for less then $10\, a great way to get started!) \nThe demo will be done using drawing pencils\, colored pencils\, watercolor pencils\, gouache\, and watercolor. \nAll skill levels welcome. \nSUGGESTED ART SUPPLIES: \n\n2H and a 2B pencil (any hard or soft pencils)\nWhite eraser & a kneaded eraser\nSketch pad or paper\nScrap paper\nPaper for your chosen medium such as watercolor paper or colored pencil paper\nWatercolors** colored pencils\, or gouache\nWatercolor round brushes: size 3/0\, size 1 & size 4\n\n**Most drug stores carry watercolor sets for less than $10\, although student or artist-grade have more brilliant colors. \nTo download a traceable or printable template and view inspirational images\, please visit Monica’s website and choose the crocus options. \nFree registration & Zoom link access below.
URL:https://bushwickinletpark.org/event/biology-art-local-flowers-intro-to-botanical-illustration/
LOCATION:Zoom
CATEGORIES:Class,Upcoming Events
ATTACH;FMTTYPE=image/jpeg:https://eadn-wc01-5191420.nxedge.io/wp-content/uploads/2021/03/IMG_1806-1400.jpg
ORGANIZER;CN="Friends of Bushwick Inlet Park":MAILTO:info@bushwickinletpark.org
END:VEVENT
BEGIN:VEVENT
DTSTART;TZID=America/New_York:20210220T140000
DTEND;TZID=America/New_York:20210220T153000
DTSTAMP:20260423T023013
CREATED:20210208T152333Z
LAST-MODIFIED:20210208T152829Z
UID:10000040-1613829600-1613835000@bushwickinletpark.org
SUMMARY:Virtual Bushwick Inlet Wildlife: Sunset Silhouette
DESCRIPTION:Learn about the local wildlife around Bushwick Inlet and create fun artwork inspired by its creatures. \n\n\n\n\n\n* A Zoom link will be included in the registration confirmation. * \nFree registration required. \n20-minute slideshow and talk\, 40-minute relaxing art project suitable for beginners. \nWe’ll start at the top of the animal kingdom classification tree and make our way down to the tiny living creatures\, plankton\,  that are critical to not only animal life\, but to human life as well. \nTogether we’ll paint or draw a colorful sunset or underwater scene and layer the silhouette of an animal over it. \nParticipants will receive a pdf to print out and trace. Or\, draw your own animal silhouette. \nSUPPLIES: \n\nAny color medium\, such as watercolors\, pencils\, crayons\, or pastels.\nA black crayon\, pencil\, or oil pastel – anything that can go on top of your colors.\nPrinter paper\, watercolor paper\, or any art paper suitable for your medium.  8 x 10 as a minimum size suggested if using the printout.\nGraphite or chalk for the tracing.\nThe printout or your own drawing to trace.\n\n  \nYou’ll learn how to transfer artwork. The demonstration will use watercolors for the background and a black oil pastel for the silhouette. \n60 – 90 minutes. Please have art supplies ready. \n\n\n\n\n\nTaught by Monica Schroeder\, scientific illustrator & kayaker.
URL:https://bushwickinletpark.org/event/virtual-bushwick-inlet-wildlife-sunset-silhouette/
LOCATION:Zoom
CATEGORIES:Class,Upcoming Events
ATTACH;FMTTYPE=image/jpeg:https://eadn-wc01-5191420.nxedge.io/wp-content/uploads/2021/02/artwork-silhouette-e1612797777594.jpg
ORGANIZER;CN="Friends of Bushwick Inlet Park":MAILTO:info@bushwickinletpark.org
END:VEVENT
BEGIN:VEVENT
DTSTART;TZID=America/New_York:20210123T140000
DTEND;TZID=America/New_York:20210123T151500
DTSTAMP:20260423T023013
CREATED:20210116T160205Z
LAST-MODIFIED:20210116T160737Z
UID:10000039-1611410400-1611414900@bushwickinletpark.org
SUMMARY:Biology/Art: My Bushwick Inlet Story/Accordion Book
DESCRIPTION:Join us for a lecture & talk about the Bushwick Inlet Park waterfront ecology & history\, followed by a guided art session to make an accordian book. \n  \n\n\n\n\n\n* A Zoom link will be included in the registration confirmation. * \nFree registration required. \n  \n\n\n\n\n\nWe’ll start with a 20 minute slideshow & talk about the Bushwick Inlet Park waterfront\, its creatures\, plants\, and history. \nThen enjoy a guided art session to make an accordion book. Fill it with art\, poetry\, a short story\, collage or anything you can imagine. \nArt supplies are those you might have at home or easy to get. \nART SUPPLIES TO HAVE AT HAND: \n\nA piece of drawing\, multimedia\, or watercolor paper. Or even printer paper. At least 16″ long would be good. Or we can glue a few sheets together\nA piece of cardboard to cut two book covers from. Delivery box\, food box\, anything stiff. At least 2″ x 4″ or larger.\nDecorative paper to use for both the covers\, a few inches larger than your cardboard. Old book pages\, magazine pages\, wrapping paper.\nA ruler\nA scissor\, exacto\, or cutter – any tool that will cut your cardboard\nPencil\nPaper glue\, glue stick\, or white crafting glue\n\nPaints\, colored pencils\, markers\, pens or collage materials\, Anything which you would like to fill your book \nNo experience necessary. \nTaught by Monica Schroeder\, scientific illustrator & kayaker.
URL:https://bushwickinletpark.org/event/biology-art-my-bushwick-inlet-story-accordion-book/
LOCATION:Zoom
CATEGORIES:Class,Upcoming Events
ATTACH;FMTTYPE=image/jpeg:https://eadn-wc01-5191420.nxedge.io/wp-content/uploads/2021/01/biology-art-accordion-book.jpeg
ORGANIZER;CN="Friends of Bushwick Inlet Park":MAILTO:info@bushwickinletpark.org
END:VEVENT
END:VCALENDAR