BEGIN:VCALENDAR
VERSION:2.0
PRODID:-//Friends of Bushwick Inlet Park - ECPv6.15.20//NONSGML v1.0//EN
CALSCALE:GREGORIAN
METHOD:PUBLISH
X-WR-CALNAME:Friends of Bushwick Inlet Park
X-ORIGINAL-URL:https://bushwickinletpark.org
X-WR-CALDESC:Events for Friends of Bushwick Inlet Park
REFRESH-INTERVAL;VALUE=DURATION:PT1H
X-Robots-Tag:noindex
X-PUBLISHED-TTL:PT1H
BEGIN:VTIMEZONE
TZID:America/New_York
BEGIN:DAYLIGHT
TZOFFSETFROM:-0500
TZOFFSETTO:-0400
TZNAME:EDT
DTSTART:20170312T070000
END:DAYLIGHT
BEGIN:STANDARD
TZOFFSETFROM:-0400
TZOFFSETTO:-0500
TZNAME:EST
DTSTART:20171105T060000
END:STANDARD
BEGIN:DAYLIGHT
TZOFFSETFROM:-0500
TZOFFSETTO:-0400
TZNAME:EDT
DTSTART:20180311T070000
END:DAYLIGHT
BEGIN:STANDARD
TZOFFSETFROM:-0400
TZOFFSETTO:-0500
TZNAME:EST
DTSTART:20181104T060000
END:STANDARD
BEGIN:DAYLIGHT
TZOFFSETFROM:-0500
TZOFFSETTO:-0400
TZNAME:EDT
DTSTART:20190310T070000
END:DAYLIGHT
BEGIN:STANDARD
TZOFFSETFROM:-0400
TZOFFSETTO:-0500
TZNAME:EST
DTSTART:20191103T060000
END:STANDARD
BEGIN:DAYLIGHT
TZOFFSETFROM:-0500
TZOFFSETTO:-0400
TZNAME:EDT
DTSTART:20200308T070000
END:DAYLIGHT
BEGIN:STANDARD
TZOFFSETFROM:-0400
TZOFFSETTO:-0500
TZNAME:EST
DTSTART:20201101T060000
END:STANDARD
END:VTIMEZONE
BEGIN:VEVENT
DTSTART;TZID=America/New_York:20190905T193000
DTEND;TZID=America/New_York:20190905T213000
DTSTAMP:20260423T102342
CREATED:20190826T201220Z
LAST-MODIFIED:20190828T131049Z
UID:10000026-1567711800-1567719000@bushwickinletpark.org
SUMMARY:Movies Under the Stars: Rushmore
DESCRIPTION:Join NYC Parks and New York City Mayor’s Office of Media and Entertainment for this free film! \nRushmore \nEnjoy Throwback Thursday with this 1998 dramedy centering on Max Fischer (Jason Schwartzman in his film debut)\, an eccentric teenager who develops a friendship with rich industrialist Herman Blume (Bill Murray). However\, their friendship is tested when they develop a mutual love for elementary school teacher Rosemary Cross (Olivia Williams). Rated R. \nKnow Before You Go:\nThis film is rated R and contains explicit content. Mature audiences are suggested. You should come before 7:30 p.m. to get your spot for the movie. Please bring your own picnic blanket or chair. Food is permitted\, but alcohol and smoking are not permitted. \nCost\nFree \nMore info\n718-965-8942\nletitia.guillory@parks.nyc.gov
URL:https://bushwickinletpark.org/event/movies-under-the-stars-rushmore/
LOCATION:Bushwick Inlet Park (50 Kent Ave)\, 50 Kent Ave\, Brooklyn\, NY\, 11249\, United States
CATEGORIES:50 Kent,Film,Upcoming Events
ATTACH;FMTTYPE=image/jpeg:https://eadn-wc01-5191420.nxedge.io/wp-content/uploads/2019/08/rushmore-1400.jpg
ORGANIZER;CN="NYC Parks":MAILTO:letitia.guillory@parks.nyc.gov
GEO:40.7231845;-73.9597003
X-APPLE-STRUCTURED-LOCATION;VALUE=URI;X-ADDRESS=Bushwick Inlet Park (50 Kent Ave) 50 Kent Ave Brooklyn NY 11249 United States;X-APPLE-RADIUS=500;X-TITLE=50 Kent Ave:geo:-73.9597003,40.7231845
END:VEVENT
BEGIN:VEVENT
DTSTART;TZID=America/New_York:20190823T194500
DTEND;TZID=America/New_York:20190823T214500
DTSTAMP:20260423T102342
CREATED:20190812T213141Z
LAST-MODIFIED:20190820T121518Z
UID:10000025-1566589500-1566596700@bushwickinletpark.org
SUMMARY:Movies Under the Stars: Adventureland
DESCRIPTION:Join NYC Parks and New York City Mayor’s Office of Media and Entertainment for this free film! \nAdventureland (R) \nSet in the summer of 1987\, this dramedy follows James (Jesse Eisenberg)\, a recent college grad whose plans to travel Europe are thwarted by his parent’s financial problems. Forced to take a job at a rundown amusement park\, James prepares for the worst summer ever\, until he finds love with a captivating co-worker named Em (Kristen Stewart). \nKnow Before You Go:\nThis film is rated R and contains explicit content. Mature audiences are suggested. You should come before 7:45 p.m. to get your spot for the movie. Please bring your own picnic blanket or chair. Food is permitted\, but alcohol and smoking are not permitted. \nCost\nFree \nMore info\n718-965-8942\nletitia.guillory@parks.nyc.gov
URL:https://bushwickinletpark.org/event/movies-under-the-stars-adventureland/
LOCATION:Bushwick Inlet Park (50 Kent Ave)\, 50 Kent Ave\, Brooklyn\, NY\, 11249\, United States
CATEGORIES:50 Kent,Film,Upcoming Events
ATTACH;FMTTYPE=image/jpeg:https://eadn-wc01-5191420.nxedge.io/wp-content/uploads/2019/08/adventureland.jpg
ORGANIZER;CN="NYC Parks":MAILTO:letitia.guillory@parks.nyc.gov
GEO:40.7231845;-73.9597003
X-APPLE-STRUCTURED-LOCATION;VALUE=URI;X-ADDRESS=Bushwick Inlet Park (50 Kent Ave) 50 Kent Ave Brooklyn NY 11249 United States;X-APPLE-RADIUS=500;X-TITLE=50 Kent Ave:geo:-73.9597003,40.7231845
END:VEVENT
BEGIN:VEVENT
DTSTART;TZID=America/New_York:20190815T200000
DTEND;TZID=America/New_York:20190815T220000
DTSTAMP:20260423T102342
CREATED:20190812T212810Z
LAST-MODIFIED:20190812T212810Z
UID:10000024-1565899200-1565906400@bushwickinletpark.org
SUMMARY:Movies Under the Stars: Blade Runner - Director's Cut (1982)
DESCRIPTION:Join NYC Parks and New York City Mayor’s Office of Media and Entertainment for this free film! \nBlade Runner – Director’s Cut – (R) (1982) \nRidley Scott’s iconic neo-noir science fiction follows  set in a dystopian future Los Angeles of 2019\, a fugitive group of Nexus-6 replicants led by Roy Batty (Rutger Hauer) escapes back to Earth\, burnt-out cop Rick Deckard (Harrison Ford) reluctantly agrees to hunt them down. \nKnow Before You Go:\nThis film is rated R and contains explicit content. Mature audiences are suggested. You should come before 8:00 p.m. to get your spot for the movie. Please bring your own picnic blanket or chair. Food is permitted\, but alcohol and smoking are not permitted. \nCost\nFree \nMore info\n718-965-8942\nletitia.guillory@parks.nyc.gov
URL:https://bushwickinletpark.org/event/movies-under-the-stars-blade-runner-directors-cut-1982/
LOCATION:Bushwick Inlet Park (50 Kent Ave)\, 50 Kent Ave\, Brooklyn\, NY\, 11249\, United States
CATEGORIES:50 Kent,Film,Upcoming Events
ATTACH;FMTTYPE=image/jpeg:https://eadn-wc01-5191420.nxedge.io/wp-content/uploads/2019/08/blade-runner2.jpg
ORGANIZER;CN="NYC Parks":MAILTO:letitia.guillory@parks.nyc.gov
GEO:40.7231845;-73.9597003
X-APPLE-STRUCTURED-LOCATION;VALUE=URI;X-ADDRESS=Bushwick Inlet Park (50 Kent Ave) 50 Kent Ave Brooklyn NY 11249 United States;X-APPLE-RADIUS=500;X-TITLE=50 Kent Ave:geo:-73.9597003,40.7231845
END:VEVENT
BEGIN:VEVENT
DTSTART;TZID=America/New_York:20190809T200000
DTEND;TZID=America/New_York:20190809T220000
DTSTAMP:20260423T102342
CREATED:20190803T120706Z
LAST-MODIFIED:20190803T120706Z
UID:10000023-1565380800-1565388000@bushwickinletpark.org
SUMMARY:Movies Under the Stars: Scott Pilgrim vs. the World
DESCRIPTION:Join NYC Parks and New York City Mayor’s Office of Media and Entertainment for free film! \nScott Pilgrim vs. the World \nBased on graphic novel series\, this hilarious film stars Michael Cera as Scott Pilgrim\, a slacker musician who must battle the seven evil exes of his newest girlfriend Ramona Flowers. \nKnow Before You Go:\nYou should come before 8:00 p.m. to get your spot for the movie. Please bring your own picnic blanket or chair. Food is allowed\, but alcohol and smoking are not permitted. \n\n\n\n\nContact\n718-965-8942\nletitia.guillory@parks.ny
URL:https://bushwickinletpark.org/event/movies-under-the-stars-scott-pilgrim-vs-the-world/
LOCATION:Bushwick Inlet Park (50 Kent Ave)\, 50 Kent Ave\, Brooklyn\, NY\, 11249\, United States
CATEGORIES:50 Kent,Film,Upcoming Events
ATTACH;FMTTYPE=image/jpeg:https://eadn-wc01-5191420.nxedge.io/wp-content/uploads/2019/08/Scott-Pilgrim-vs-the-World-2010-featured.jpg
ORGANIZER;CN="NYC Parks":MAILTO:letitia.guillory@parks.nyc.gov
GEO:40.7231845;-73.9597003
X-APPLE-STRUCTURED-LOCATION;VALUE=URI;X-ADDRESS=Bushwick Inlet Park (50 Kent Ave) 50 Kent Ave Brooklyn NY 11249 United States;X-APPLE-RADIUS=500;X-TITLE=50 Kent Ave:geo:-73.9597003,40.7231845
END:VEVENT
BEGIN:VEVENT
DTSTART;TZID=America/New_York:20190730T204500
DTEND;TZID=America/New_York:20190730T224500
DTSTAMP:20260423T102342
CREATED:20190717T121658Z
LAST-MODIFIED:20190717T121658Z
UID:10000130-1564519500-1564526700@bushwickinletpark.org
SUMMARY:Movies Under the Stars: A Star is Born (2018)
DESCRIPTION:A Star is Born (R) \nThis 2018 remake of the classic romance stars Lady Gaga as a young singer who falls in love with a hard-drinking superstar\, played soulfully by Bradley Cooper. Produced and directed by Cooper\, this film garnered eight Oscar nominations\, winning Best Original Song for “Shallow”. \nKnow Before You Go:\nThis film features explicit content and is rated R. You should come before 8:45 p.m. to get your spot for the movie. Please bring your own picnic blanket or chair. Food is OK\, but no alcohol or smoking is permitted. \nContact Number\n(718) 965-8942 \nContact Email\nletitia.guillory@parks.nyc.gov
URL:https://bushwickinletpark.org/event/a-star-is-born-2018/
LOCATION:Bushwick Inlet Park (50 Kent Ave)\, 50 Kent Ave\, Brooklyn\, NY\, 11249\, United States
CATEGORIES:50 Kent,Film,Upcoming Events
ATTACH;FMTTYPE=image/jpeg:https://eadn-wc01-5191420.nxedge.io/wp-content/uploads/2019/07/a-star-is-born.jpg
ORGANIZER;CN="NYC Parks":MAILTO:letitia.guillory@parks.nyc.gov
GEO:40.7231845;-73.9597003
X-APPLE-STRUCTURED-LOCATION;VALUE=URI;X-ADDRESS=Bushwick Inlet Park (50 Kent Ave) 50 Kent Ave Brooklyn NY 11249 United States;X-APPLE-RADIUS=500;X-TITLE=50 Kent Ave:geo:-73.9597003,40.7231845
END:VEVENT
BEGIN:VEVENT
DTSTART;TZID=America/New_York:20190725T203000
DTEND;TZID=America/New_York:20190725T223000
DTSTAMP:20260423T102342
CREATED:20190426T221657Z
LAST-MODIFIED:20190717T121854Z
UID:10000011-1564086600-1564093800@bushwickinletpark.org
SUMMARY:Movies Under the Stars: Mamma Mia! Here We Go Again
DESCRIPTION:Bring Your Mamma to the Movies! Outdoors with the Manhattan skyline as a backdrop. \nThis delightful jukebox musical comedy is both a prequel and a sequel\, telling the story of Donna Sheridan’s arrival on the island of Kalokairi and her first meetings with her daughter Sophie’s three possible fathers. \nThe film features an ensemble cast\, including Dominic Cooper\, Amanda Seyfried\, Pierce Brosnan\, Colin Firth\, Stellan Skarsgård\, Jeremy Irvine\, Josh Dylan\, Hugh Skinner\, Lily James\, Jessica Keenan Wynn\, Alexa Davies\, Christine Baranski\, Julie Walters\, Andy García\, Meryl Streep\, and Cher. \nKnow Before You Go\nYou should come before 8:30 p.m. to get your spot for the movie. Please bring your own picnic blanket or chair. Food is OK\, but no alcohol or smoking is permitted. \nContact Number\n(718) 965-8942 \nContact Email\nletitia.guillory@parks.nyc.gov
URL:https://bushwickinletpark.org/event/movie-night-with-your-mamma/
LOCATION:Bushwick Inlet Park (50 Kent Ave)\, 50 Kent Ave\, Brooklyn\, NY\, 11249\, United States
CATEGORIES:50 Kent,Film,Upcoming Events
ATTACH;FMTTYPE=image/jpeg:https://eadn-wc01-5191420.nxedge.io/wp-content/uploads/2019/04/mamma-mia-again-1200.jpg
ORGANIZER;CN="NYC Parks":MAILTO:letitia.guillory@parks.nyc.gov
GEO:40.7231845;-73.9597003
X-APPLE-STRUCTURED-LOCATION;VALUE=URI;X-ADDRESS=Bushwick Inlet Park (50 Kent Ave) 50 Kent Ave Brooklyn NY 11249 United States;X-APPLE-RADIUS=500;X-TITLE=50 Kent Ave:geo:-73.9597003,40.7231845
END:VEVENT
BEGIN:VEVENT
DTSTART;TZID=America/New_York:20190609T203000
DTEND;TZID=America/New_York:20190609T221500
DTSTAMP:20260423T102342
CREATED:20190528T183535Z
LAST-MODIFIED:20190717T121909Z
UID:10000014-1560112200-1560118500@bushwickinletpark.org
SUMMARY:Movies Under the Stars: Bohemian Rhapsody
DESCRIPTION:Celebrate Pride and join us to watch the movie Bohemian Rhapsody in the park with NYC Parks and NYC Mayor’s Office of Media and Entertainment! \nBohemian Rhapsody is a biopic which follows the life of Freddie Mercury\, lead singer of the British rock band Queen\, as he rose to stardom. This film features the iconic rock music of Queen and an Oscar-winning performance of Rami Malek as Freddie Mercury. \nKnow Before You Go\nYou should arrive before 8:30 p.m. to get your spot for the movie. Please bring your own picnic blanket or chair. Food is okay\, but alcohol and smoking are not permitted. \nLocation\n50 Kent Pop-Up Park in Bushwick Inlet Park\nBrooklyn \nLocation Details:\nThis event will be held on the lawn at 50 Kent Avenue. \nCost\nFree \nEvent Organizer\nNYC Parks & North Brooklyn Parks Alliance & FBIP \nContact Number \n(718) 965-8942 \nContact Email\nletitia.guillory@parks.nyc.gov
URL:https://bushwickinletpark.org/event/movies-under-the-stars-bohemian-rhapsody/
LOCATION:Bushwick Inlet Park (50 Kent Ave)\, 50 Kent Ave\, Brooklyn\, NY\, 11249\, United States
CATEGORIES:50 Kent,Film,Upcoming Events
ATTACH;FMTTYPE=image/jpeg:https://eadn-wc01-5191420.nxedge.io/wp-content/uploads/2019/05/bohemian-rhapsody1200.jpg
ORGANIZER;CN="NYC Parks":MAILTO:letitia.guillory@parks.nyc.gov
GEO:40.7231845;-73.9597003
X-APPLE-STRUCTURED-LOCATION;VALUE=URI;X-ADDRESS=Bushwick Inlet Park (50 Kent Ave) 50 Kent Ave Brooklyn NY 11249 United States;X-APPLE-RADIUS=500;X-TITLE=50 Kent Ave:geo:-73.9597003,40.7231845
END:VEVENT
BEGIN:VEVENT
DTSTART;TZID=America/New_York:20180919T200000
DTEND;TZID=America/New_York:20180919T220000
DTSTAMP:20260423T102342
CREATED:20180801T002342Z
LAST-MODIFIED:20190717T121943Z
UID:10000003-1537387200-1537394400@bushwickinletpark.org
SUMMARY:Napoleon Dynamite | Bushwick Inlet Popup Outdoor Cinema
DESCRIPTION:Join us as Friends of Bushwick Inlet Park and New York City Department of Parks & Recreation present outdoor movie screenings on the Bushwick Inlet Popup Park lawn in view of the majestic Gotham City skyline. Next up is classic indy deadpan comedy NAPOLEON DYNAMITE. Directed by Jared Hess\, 2004 \nA listless and alienated teenager decides to help his new friend win the class presidency in their small western high school\, while he must deal with his bizarre family life back home. \nPlus free popcorn. \nA big thanks to New York City Department of Parks & Recreation for making this event possible.
URL:https://bushwickinletpark.org/event/napoleon-dynamite-bushwick-inlet-popup-outdoor-cinema/
LOCATION:Bushwick Inlet Park (50 Kent Ave)\, 50 Kent Ave\, Brooklyn\, NY\, 11249\, United States
CATEGORIES:50 Kent,BIPopup Cinema,Film,Upcoming Events
ATTACH;FMTTYPE=image/jpeg:https://eadn-wc01-5191420.nxedge.io/wp-content/uploads/2018/07/nap-dyn-vote-for-pedro-solo.jpg
GEO:40.7231845;-73.9597003
X-APPLE-STRUCTURED-LOCATION;VALUE=URI;X-ADDRESS=Bushwick Inlet Park (50 Kent Ave) 50 Kent Ave Brooklyn NY 11249 United States;X-APPLE-RADIUS=500;X-TITLE=50 Kent Ave:geo:-73.9597003,40.7231845
END:VEVENT
BEGIN:VEVENT
DTSTART;TZID=America/New_York:20180808T200000
DTEND;TZID=America/New_York:20180808T220000
DTSTAMP:20260423T102342
CREATED:20180731T233850Z
LAST-MODIFIED:20190717T122005Z
UID:10000002-1533758400-1533765600@bushwickinletpark.org
SUMMARY:Dr. Strangelove | Bushwick Inlet Popup Outdoor Cinema
DESCRIPTION:Join us as Friends of Bushwick Inlet Park and New York City Department of Parks & Recreation present outdoor movie screenings on the Bushwick Inlet Popup Park lawn in view of the majestic Gotham City skyline. Next up is Stanley Kubrick’s cold war classic DR. STRANGELOVE OR: HOW I LEARNED TO STOP WORRYING AND LOVE THE BOMB. Peter Sellers and George C. Scott are at the tops of their game in this black comedy from 1964. Suspenseful and hilarious\, and poignant\, especially considering the current crazy political climate. Also starring Sterling Hayden and look for some other famous faces of stars on their way up. \nPlus free popcorn. \nA big thanks to New York City Department of Parks & Recreation for making this event possible.
URL:https://bushwickinletpark.org/event/dr-strangelove-bushwick-inlet-popup-outdoor-cinema/
LOCATION:Bushwick Inlet Park (50 Kent Ave)\, 50 Kent Ave\, Brooklyn\, NY\, 11249\, United States
CATEGORIES:50 Kent,BIPopup Cinema,Film,Upcoming Events
ATTACH;FMTTYPE=image/jpeg:https://eadn-wc01-5191420.nxedge.io/wp-content/uploads/2018/07/dr-strangelove.jpg
GEO:40.7231845;-73.9597003
X-APPLE-STRUCTURED-LOCATION;VALUE=URI;X-ADDRESS=Bushwick Inlet Park (50 Kent Ave) 50 Kent Ave Brooklyn NY 11249 United States;X-APPLE-RADIUS=500;X-TITLE=50 Kent Ave:geo:-73.9597003,40.7231845
END:VEVENT
END:VCALENDAR