BEGIN:VCALENDAR
VERSION:2.0
PRODID:-//Friends of Bushwick Inlet Park - ECPv6.15.20//NONSGML v1.0//EN
CALSCALE:GREGORIAN
METHOD:PUBLISH
X-WR-CALNAME:Friends of Bushwick Inlet Park
X-ORIGINAL-URL:https://bushwickinletpark.org
X-WR-CALDESC:Events for Friends of Bushwick Inlet Park
REFRESH-INTERVAL;VALUE=DURATION:PT1H
X-Robots-Tag:noindex
X-PUBLISHED-TTL:PT1H
BEGIN:VTIMEZONE
TZID:America/New_York
BEGIN:DAYLIGHT
TZOFFSETFROM:-0500
TZOFFSETTO:-0400
TZNAME:EDT
DTSTART:20210314T070000
END:DAYLIGHT
BEGIN:STANDARD
TZOFFSETFROM:-0400
TZOFFSETTO:-0500
TZNAME:EST
DTSTART:20211107T060000
END:STANDARD
BEGIN:DAYLIGHT
TZOFFSETFROM:-0500
TZOFFSETTO:-0400
TZNAME:EDT
DTSTART:20220313T070000
END:DAYLIGHT
BEGIN:STANDARD
TZOFFSETFROM:-0400
TZOFFSETTO:-0500
TZNAME:EST
DTSTART:20221106T060000
END:STANDARD
BEGIN:DAYLIGHT
TZOFFSETFROM:-0500
TZOFFSETTO:-0400
TZNAME:EDT
DTSTART:20230312T070000
END:DAYLIGHT
BEGIN:STANDARD
TZOFFSETFROM:-0400
TZOFFSETTO:-0500
TZNAME:EST
DTSTART:20231105T060000
END:STANDARD
END:VTIMEZONE
BEGIN:VEVENT
DTSTART;TZID=America/New_York:20220511T180000
DTEND;TZID=America/New_York:20220511T193000
DTSTAMP:20260425T222857
CREATED:20220509T152040Z
LAST-MODIFIED:20221101T181111Z
UID:10000175-1652292000-1652297400@bushwickinletpark.org
SUMMARY:Weeding Wednesdays 2022
DESCRIPTION:Join us every week as we weed\, mulch\, tend bushes and blossoms\, sometimes plant and water (if necessary). We have tools and gloves (but bring yours if you have them). Bring a water bottle. Everyone welcome but please note in your sign up if you are bringing others. See you there!\n\nPlease register.
URL:https://bushwickinletpark.org/event/weeding-wednesdays-2022/2022-05-11/
LOCATION:Bushwick Inlet Park (86K)\, 86 Kent Ave\, Brooklyn\, NY\, 11249\, United States
CATEGORIES:Gardening,Upcoming Events
ATTACH;FMTTYPE=image/jpeg:https://eadn-wc01-5191420.nxedge.io/wp-content/uploads/2022/05/weeding-wed-header-2022-16x9-1.jpg
ORGANIZER;CN="Friends of Bushwick Inlet Park":MAILTO:info@bushwickinletpark.org
GEO:40.72206;-73.9614455
X-APPLE-STRUCTURED-LOCATION;VALUE=URI;X-ADDRESS=Bushwick Inlet Park (86K) 86 Kent Ave Brooklyn NY 11249 United States;X-APPLE-RADIUS=500;X-TITLE=86 Kent Ave:geo:-73.9614455,40.72206
END:VEVENT
BEGIN:VEVENT
DTSTART;TZID=America/New_York:20220514T100000
DTEND;TZID=America/New_York:20220514T130000
DTSTAMP:20260425T222857
CREATED:20220507T141614Z
LAST-MODIFIED:20220507T141614Z
UID:10000174-1652522400-1652533200@bushwickinletpark.org
SUMMARY:Spring Planting & Park Cleanup
DESCRIPTION:Join Friends of Bushwick Inlet Park for a major planting and park clean-up at Bushwick Inlet Park. This is a makeup day for Riverkeeper Sweep that was canceled. \nVolunteers will meet at Bushwick Inlet Park at 86 Kent Ave\, Brooklyn NY\, by the water/gardens. \nWe ask all Sweep volunteers to wear sturdy shoes or boots\, clothing that they can get dirty\, and to bring a hat\, sunscreen\, a full reusable water bottle\, and a face mask\, work gloves and hand sanitizer. \nThis site is suitable for elementary-aged children with adult supervision. \nRegistration is required.
URL:https://bushwickinletpark.org/event/spring-planting-park-cleanup/
LOCATION:Bushwick Inlet Park (86K)\, 86 Kent Ave\, Brooklyn\, NY\, 11249\, United States
CATEGORIES:86 Kent,Gardening,Upcoming Events
ATTACH;FMTTYPE=image/jpeg:https://eadn-wc01-5191420.nxedge.io/wp-content/uploads/2022/05/rks-impd-2022-makeup-header-16x9-1.jpg
ORGANIZER;CN="Friends of Bushwick Inlet Park":MAILTO:info@bushwickinletpark.org
GEO:40.72206;-73.9614455
X-APPLE-STRUCTURED-LOCATION;VALUE=URI;X-ADDRESS=Bushwick Inlet Park (86K) 86 Kent Ave Brooklyn NY 11249 United States;X-APPLE-RADIUS=500;X-TITLE=86 Kent Ave:geo:-73.9614455,40.72206
END:VEVENT
BEGIN:VEVENT
DTSTART;TZID=America/New_York:20220518T180000
DTEND;TZID=America/New_York:20220518T193000
DTSTAMP:20260425T222857
CREATED:20220509T152040Z
LAST-MODIFIED:20221101T181111Z
UID:10000176-1652896800-1652902200@bushwickinletpark.org
SUMMARY:Weeding Wednesdays 2022
DESCRIPTION:Join us every week as we weed\, mulch\, tend bushes and blossoms\, sometimes plant and water (if necessary). We have tools and gloves (but bring yours if you have them). Bring a water bottle. Everyone welcome but please note in your sign up if you are bringing others. See you there!\n\nPlease register.
URL:https://bushwickinletpark.org/event/weeding-wednesdays-2022/2022-05-18/
LOCATION:Bushwick Inlet Park (86K)\, 86 Kent Ave\, Brooklyn\, NY\, 11249\, United States
CATEGORIES:Gardening,Upcoming Events
ATTACH;FMTTYPE=image/jpeg:https://eadn-wc01-5191420.nxedge.io/wp-content/uploads/2022/05/weeding-wed-header-2022-16x9-1.jpg
ORGANIZER;CN="Friends of Bushwick Inlet Park":MAILTO:info@bushwickinletpark.org
GEO:40.72206;-73.9614455
X-APPLE-STRUCTURED-LOCATION;VALUE=URI;X-ADDRESS=Bushwick Inlet Park (86K) 86 Kent Ave Brooklyn NY 11249 United States;X-APPLE-RADIUS=500;X-TITLE=86 Kent Ave:geo:-73.9614455,40.72206
END:VEVENT
BEGIN:VEVENT
DTSTART;TZID=America/New_York:20220525T180000
DTEND;TZID=America/New_York:20220525T193000
DTSTAMP:20260425T222857
CREATED:20220509T152040Z
LAST-MODIFIED:20221101T181111Z
UID:10000177-1653501600-1653507000@bushwickinletpark.org
SUMMARY:Weeding Wednesdays 2022
DESCRIPTION:Join us every week as we weed\, mulch\, tend bushes and blossoms\, sometimes plant and water (if necessary). We have tools and gloves (but bring yours if you have them). Bring a water bottle. Everyone welcome but please note in your sign up if you are bringing others. See you there!\n\nPlease register.
URL:https://bushwickinletpark.org/event/weeding-wednesdays-2022/2022-05-25/
LOCATION:Bushwick Inlet Park (86K)\, 86 Kent Ave\, Brooklyn\, NY\, 11249\, United States
CATEGORIES:Gardening,Upcoming Events
ATTACH;FMTTYPE=image/jpeg:https://eadn-wc01-5191420.nxedge.io/wp-content/uploads/2022/05/weeding-wed-header-2022-16x9-1.jpg
ORGANIZER;CN="Friends of Bushwick Inlet Park":MAILTO:info@bushwickinletpark.org
GEO:40.72206;-73.9614455
X-APPLE-STRUCTURED-LOCATION;VALUE=URI;X-ADDRESS=Bushwick Inlet Park (86K) 86 Kent Ave Brooklyn NY 11249 United States;X-APPLE-RADIUS=500;X-TITLE=86 Kent Ave:geo:-73.9614455,40.72206
END:VEVENT
END:VCALENDAR