BEGIN:VCALENDAR
VERSION:2.0
PRODID:-//Friends of Bushwick Inlet Park - ECPv6.15.20//NONSGML v1.0//EN
CALSCALE:GREGORIAN
METHOD:PUBLISH
X-WR-CALNAME:Friends of Bushwick Inlet Park
X-ORIGINAL-URL:https://bushwickinletpark.org
X-WR-CALDESC:Events for Friends of Bushwick Inlet Park
REFRESH-INTERVAL;VALUE=DURATION:PT1H
X-Robots-Tag:noindex
X-PUBLISHED-TTL:PT1H
BEGIN:VTIMEZONE
TZID:America/New_York
BEGIN:DAYLIGHT
TZOFFSETFROM:-0500
TZOFFSETTO:-0400
TZNAME:EDT
DTSTART:20210314T070000
END:DAYLIGHT
BEGIN:STANDARD
TZOFFSETFROM:-0400
TZOFFSETTO:-0500
TZNAME:EST
DTSTART:20211107T060000
END:STANDARD
BEGIN:DAYLIGHT
TZOFFSETFROM:-0500
TZOFFSETTO:-0400
TZNAME:EDT
DTSTART:20220313T070000
END:DAYLIGHT
BEGIN:STANDARD
TZOFFSETFROM:-0400
TZOFFSETTO:-0500
TZNAME:EST
DTSTART:20221106T060000
END:STANDARD
BEGIN:DAYLIGHT
TZOFFSETFROM:-0500
TZOFFSETTO:-0400
TZNAME:EDT
DTSTART:20230312T070000
END:DAYLIGHT
BEGIN:STANDARD
TZOFFSETFROM:-0400
TZOFFSETTO:-0500
TZNAME:EST
DTSTART:20231105T060000
END:STANDARD
END:VTIMEZONE
BEGIN:VEVENT
DTSTART;TZID=America/New_York:20220601T180000
DTEND;TZID=America/New_York:20220601T193000
DTSTAMP:20260425T210400
CREATED:20220509T152040Z
LAST-MODIFIED:20221101T181111Z
UID:10000178-1654106400-1654111800@bushwickinletpark.org
SUMMARY:Weeding Wednesdays 2022
DESCRIPTION:Join us every week as we weed\, mulch\, tend bushes and blossoms\, sometimes plant and water (if necessary). We have tools and gloves (but bring yours if you have them). Bring a water bottle. Everyone welcome but please note in your sign up if you are bringing others. See you there!\n\nPlease register.
URL:https://bushwickinletpark.org/event/weeding-wednesdays-2022/2022-06-01/
LOCATION:Bushwick Inlet Park (86K)\, 86 Kent Ave\, Brooklyn\, NY\, 11249\, United States
CATEGORIES:Gardening,Upcoming Events
ATTACH;FMTTYPE=image/jpeg:https://eadn-wc01-5191420.nxedge.io/wp-content/uploads/2022/05/weeding-wed-header-2022-16x9-1.jpg
ORGANIZER;CN="Friends of Bushwick Inlet Park":MAILTO:info@bushwickinletpark.org
GEO:40.72206;-73.9614455
X-APPLE-STRUCTURED-LOCATION;VALUE=URI;X-ADDRESS=Bushwick Inlet Park (86K) 86 Kent Ave Brooklyn NY 11249 United States;X-APPLE-RADIUS=500;X-TITLE=86 Kent Ave:geo:-73.9614455,40.72206
END:VEVENT
BEGIN:VEVENT
DTSTART;TZID=America/New_York:20220608T180000
DTEND;TZID=America/New_York:20220608T193000
DTSTAMP:20260425T210400
CREATED:20220509T152040Z
LAST-MODIFIED:20221101T181111Z
UID:10000179-1654711200-1654716600@bushwickinletpark.org
SUMMARY:Weeding Wednesdays 2022
DESCRIPTION:Join us every week as we weed\, mulch\, tend bushes and blossoms\, sometimes plant and water (if necessary). We have tools and gloves (but bring yours if you have them). Bring a water bottle. Everyone welcome but please note in your sign up if you are bringing others. See you there!\n\nPlease register.
URL:https://bushwickinletpark.org/event/weeding-wednesdays-2022/2022-06-08/
LOCATION:Bushwick Inlet Park (86K)\, 86 Kent Ave\, Brooklyn\, NY\, 11249\, United States
CATEGORIES:Gardening,Upcoming Events
ATTACH;FMTTYPE=image/jpeg:https://eadn-wc01-5191420.nxedge.io/wp-content/uploads/2022/05/weeding-wed-header-2022-16x9-1.jpg
ORGANIZER;CN="Friends of Bushwick Inlet Park":MAILTO:info@bushwickinletpark.org
GEO:40.72206;-73.9614455
X-APPLE-STRUCTURED-LOCATION;VALUE=URI;X-ADDRESS=Bushwick Inlet Park (86K) 86 Kent Ave Brooklyn NY 11249 United States;X-APPLE-RADIUS=500;X-TITLE=86 Kent Ave:geo:-73.9614455,40.72206
END:VEVENT
BEGIN:VEVENT
DTSTART;TZID=America/New_York:20220615T180000
DTEND;TZID=America/New_York:20220615T193000
DTSTAMP:20260425T210400
CREATED:20220516T004537Z
LAST-MODIFIED:20220612T122426Z
UID:10000052-1655316000-1655321400@bushwickinletpark.org
SUMMARY:Weeding Wednesdays
DESCRIPTION:Join us every week as we weed\, mulch\, tend bushes and blossoms\, sometimes plant and water (if necessary). We have tools and gloves (but bring yours if you have them). Bring a water bottle. Everyone welcome but please note in your sign up if you are bringing others. See you there! \nPlease register.
URL:https://bushwickinletpark.org/event/weeding-wednesdays-2022-2/
LOCATION:Bushwick Inlet Park (86K)\, 86 Kent Ave\, Brooklyn\, NY\, 11249\, United States
CATEGORIES:86 Kent,Gardening
ATTACH;FMTTYPE=image/jpeg:https://eadn-wc01-5191420.nxedge.io/wp-content/uploads/2022/05/weeding-wed-header-2022-16x9-1.jpg
ORGANIZER;CN="Friends of Bushwick Inlet Park":MAILTO:info@bushwickinletpark.org
GEO:40.72206;-73.9614455
X-APPLE-STRUCTURED-LOCATION;VALUE=URI;X-ADDRESS=Bushwick Inlet Park (86K) 86 Kent Ave Brooklyn NY 11249 United States;X-APPLE-RADIUS=500;X-TITLE=86 Kent Ave:geo:-73.9614455,40.72206
END:VEVENT
BEGIN:VEVENT
DTSTART;TZID=America/New_York:20220622T180000
DTEND;TZID=America/New_York:20220622T193000
DTSTAMP:20260425T210400
CREATED:20220509T152040Z
LAST-MODIFIED:20221101T181111Z
UID:10000180-1655920800-1655926200@bushwickinletpark.org
SUMMARY:Weeding Wednesdays 2022
DESCRIPTION:Join us every week as we weed\, mulch\, tend bushes and blossoms\, sometimes plant and water (if necessary). We have tools and gloves (but bring yours if you have them). Bring a water bottle. Everyone welcome but please note in your sign up if you are bringing others. See you there!\n\nPlease register.
URL:https://bushwickinletpark.org/event/weeding-wednesdays-2022/2022-06-22/
LOCATION:Bushwick Inlet Park (86K)\, 86 Kent Ave\, Brooklyn\, NY\, 11249\, United States
CATEGORIES:Gardening,Upcoming Events
ATTACH;FMTTYPE=image/jpeg:https://eadn-wc01-5191420.nxedge.io/wp-content/uploads/2022/05/weeding-wed-header-2022-16x9-1.jpg
ORGANIZER;CN="Friends of Bushwick Inlet Park":MAILTO:info@bushwickinletpark.org
GEO:40.72206;-73.9614455
X-APPLE-STRUCTURED-LOCATION;VALUE=URI;X-ADDRESS=Bushwick Inlet Park (86K) 86 Kent Ave Brooklyn NY 11249 United States;X-APPLE-RADIUS=500;X-TITLE=86 Kent Ave:geo:-73.9614455,40.72206
END:VEVENT
BEGIN:VEVENT
DTSTART;TZID=America/New_York:20220629T180000
DTEND;TZID=America/New_York:20220629T193000
DTSTAMP:20260425T210400
CREATED:20220509T152040Z
LAST-MODIFIED:20221101T181111Z
UID:10000181-1656525600-1656531000@bushwickinletpark.org
SUMMARY:Weeding Wednesdays 2022
DESCRIPTION:Join us every week as we weed\, mulch\, tend bushes and blossoms\, sometimes plant and water (if necessary). We have tools and gloves (but bring yours if you have them). Bring a water bottle. Everyone welcome but please note in your sign up if you are bringing others. See you there!\n\nPlease register.
URL:https://bushwickinletpark.org/event/weeding-wednesdays-2022/2022-06-29/
LOCATION:Bushwick Inlet Park (86K)\, 86 Kent Ave\, Brooklyn\, NY\, 11249\, United States
CATEGORIES:Gardening,Upcoming Events
ATTACH;FMTTYPE=image/jpeg:https://eadn-wc01-5191420.nxedge.io/wp-content/uploads/2022/05/weeding-wed-header-2022-16x9-1.jpg
ORGANIZER;CN="Friends of Bushwick Inlet Park":MAILTO:info@bushwickinletpark.org
GEO:40.72206;-73.9614455
X-APPLE-STRUCTURED-LOCATION;VALUE=URI;X-ADDRESS=Bushwick Inlet Park (86K) 86 Kent Ave Brooklyn NY 11249 United States;X-APPLE-RADIUS=500;X-TITLE=86 Kent Ave:geo:-73.9614455,40.72206
END:VEVENT
END:VCALENDAR