BEGIN:VCALENDAR
VERSION:2.0
PRODID:-//Friends of Bushwick Inlet Park - ECPv6.15.20//NONSGML v1.0//EN
CALSCALE:GREGORIAN
METHOD:PUBLISH
X-ORIGINAL-URL:https://bushwickinletpark.org
X-WR-CALDESC:Events for Friends of Bushwick Inlet Park
REFRESH-INTERVAL;VALUE=DURATION:PT1H
X-Robots-Tag:noindex
X-PUBLISHED-TTL:PT1H
BEGIN:VTIMEZONE
TZID:America/New_York
BEGIN:DAYLIGHT
TZOFFSETFROM:-0500
TZOFFSETTO:-0400
TZNAME:EDT
DTSTART:20210314T070000
END:DAYLIGHT
BEGIN:STANDARD
TZOFFSETFROM:-0400
TZOFFSETTO:-0500
TZNAME:EST
DTSTART:20211107T060000
END:STANDARD
BEGIN:DAYLIGHT
TZOFFSETFROM:-0500
TZOFFSETTO:-0400
TZNAME:EDT
DTSTART:20220313T070000
END:DAYLIGHT
BEGIN:STANDARD
TZOFFSETFROM:-0400
TZOFFSETTO:-0500
TZNAME:EST
DTSTART:20221106T060000
END:STANDARD
BEGIN:DAYLIGHT
TZOFFSETFROM:-0500
TZOFFSETTO:-0400
TZNAME:EDT
DTSTART:20230312T070000
END:DAYLIGHT
BEGIN:STANDARD
TZOFFSETFROM:-0400
TZOFFSETTO:-0500
TZNAME:EST
DTSTART:20231105T060000
END:STANDARD
END:VTIMEZONE
BEGIN:VEVENT
DTSTART;TZID=America/New_York:20220803T180000
DTEND;TZID=America/New_York:20220803T193000
DTSTAMP:20260425T181358
CREATED:20220509T152040Z
LAST-MODIFIED:20221101T181111Z
UID:10000186-1659549600-1659555000@bushwickinletpark.org
SUMMARY:Weeding Wednesdays 2022
DESCRIPTION:Join us every week as we weed\, mulch\, tend bushes and blossoms\, sometimes plant and water (if necessary). We have tools and gloves (but bring yours if you have them). Bring a water bottle. Everyone welcome but please note in your sign up if you are bringing others. See you there!\n\nPlease register.
URL:https://bushwickinletpark.org/event/weeding-wednesdays-2022/2022-08-03/
LOCATION:Bushwick Inlet Park (86K)\, 86 Kent Ave\, Brooklyn\, NY\, 11249\, United States
CATEGORIES:Gardening,Upcoming Events
ATTACH;FMTTYPE=image/jpeg:https://eadn-wc01-5191420.nxedge.io/wp-content/uploads/2022/05/weeding-wed-header-2022-16x9-1.jpg
ORGANIZER;CN="Friends of Bushwick Inlet Park":MAILTO:info@bushwickinletpark.org
GEO:40.72206;-73.9614455
X-APPLE-STRUCTURED-LOCATION;VALUE=URI;X-ADDRESS=Bushwick Inlet Park (86K) 86 Kent Ave Brooklyn NY 11249 United States;X-APPLE-RADIUS=500;X-TITLE=86 Kent Ave:geo:-73.9614455,40.72206
END:VEVENT
BEGIN:VEVENT
DTSTART;TZID=America/New_York:20220810T180000
DTEND;TZID=America/New_York:20220810T193000
DTSTAMP:20260425T181358
CREATED:20220509T152040Z
LAST-MODIFIED:20221101T181111Z
UID:10000187-1660154400-1660159800@bushwickinletpark.org
SUMMARY:Weeding Wednesdays 2022
DESCRIPTION:Join us every week as we weed\, mulch\, tend bushes and blossoms\, sometimes plant and water (if necessary). We have tools and gloves (but bring yours if you have them). Bring a water bottle. Everyone welcome but please note in your sign up if you are bringing others. See you there!\n\nPlease register.
URL:https://bushwickinletpark.org/event/weeding-wednesdays-2022/2022-08-10/
LOCATION:Bushwick Inlet Park (86K)\, 86 Kent Ave\, Brooklyn\, NY\, 11249\, United States
CATEGORIES:Gardening,Upcoming Events
ATTACH;FMTTYPE=image/jpeg:https://eadn-wc01-5191420.nxedge.io/wp-content/uploads/2022/05/weeding-wed-header-2022-16x9-1.jpg
ORGANIZER;CN="Friends of Bushwick Inlet Park":MAILTO:info@bushwickinletpark.org
GEO:40.72206;-73.9614455
X-APPLE-STRUCTURED-LOCATION;VALUE=URI;X-ADDRESS=Bushwick Inlet Park (86K) 86 Kent Ave Brooklyn NY 11249 United States;X-APPLE-RADIUS=500;X-TITLE=86 Kent Ave:geo:-73.9614455,40.72206
END:VEVENT
BEGIN:VEVENT
DTSTART;TZID=America/New_York:20220817T180000
DTEND;TZID=America/New_York:20220817T193000
DTSTAMP:20260425T181358
CREATED:20220509T152040Z
LAST-MODIFIED:20221101T181111Z
UID:10000188-1660759200-1660764600@bushwickinletpark.org
SUMMARY:Weeding Wednesdays 2022
DESCRIPTION:Join us every week as we weed\, mulch\, tend bushes and blossoms\, sometimes plant and water (if necessary). We have tools and gloves (but bring yours if you have them). Bring a water bottle. Everyone welcome but please note in your sign up if you are bringing others. See you there!\n\nPlease register.
URL:https://bushwickinletpark.org/event/weeding-wednesdays-2022/2022-08-17/
LOCATION:Bushwick Inlet Park (86K)\, 86 Kent Ave\, Brooklyn\, NY\, 11249\, United States
CATEGORIES:Gardening,Upcoming Events
ATTACH;FMTTYPE=image/jpeg:https://eadn-wc01-5191420.nxedge.io/wp-content/uploads/2022/05/weeding-wed-header-2022-16x9-1.jpg
ORGANIZER;CN="Friends of Bushwick Inlet Park":MAILTO:info@bushwickinletpark.org
GEO:40.72206;-73.9614455
X-APPLE-STRUCTURED-LOCATION;VALUE=URI;X-ADDRESS=Bushwick Inlet Park (86K) 86 Kent Ave Brooklyn NY 11249 United States;X-APPLE-RADIUS=500;X-TITLE=86 Kent Ave:geo:-73.9614455,40.72206
END:VEVENT
BEGIN:VEVENT
DTSTART;TZID=America/New_York:20220824T180000
DTEND;TZID=America/New_York:20220824T193000
DTSTAMP:20260425T181358
CREATED:20220509T152040Z
LAST-MODIFIED:20221101T181111Z
UID:10000189-1661364000-1661369400@bushwickinletpark.org
SUMMARY:Weeding Wednesdays 2022
DESCRIPTION:Join us every week as we weed\, mulch\, tend bushes and blossoms\, sometimes plant and water (if necessary). We have tools and gloves (but bring yours if you have them). Bring a water bottle. Everyone welcome but please note in your sign up if you are bringing others. See you there!\n\nPlease register.
URL:https://bushwickinletpark.org/event/weeding-wednesdays-2022/2022-08-24/
LOCATION:Bushwick Inlet Park (86K)\, 86 Kent Ave\, Brooklyn\, NY\, 11249\, United States
CATEGORIES:Gardening,Upcoming Events
ATTACH;FMTTYPE=image/jpeg:https://eadn-wc01-5191420.nxedge.io/wp-content/uploads/2022/05/weeding-wed-header-2022-16x9-1.jpg
ORGANIZER;CN="Friends of Bushwick Inlet Park":MAILTO:info@bushwickinletpark.org
GEO:40.72206;-73.9614455
X-APPLE-STRUCTURED-LOCATION;VALUE=URI;X-ADDRESS=Bushwick Inlet Park (86K) 86 Kent Ave Brooklyn NY 11249 United States;X-APPLE-RADIUS=500;X-TITLE=86 Kent Ave:geo:-73.9614455,40.72206
END:VEVENT
BEGIN:VEVENT
DTSTART;TZID=America/New_York:20220831T180000
DTEND;TZID=America/New_York:20220831T193000
DTSTAMP:20260425T181358
CREATED:20220509T152040Z
LAST-MODIFIED:20221101T181111Z
UID:10000190-1661968800-1661974200@bushwickinletpark.org
SUMMARY:Weeding Wednesdays 2022
DESCRIPTION:Join us every week as we weed\, mulch\, tend bushes and blossoms\, sometimes plant and water (if necessary). We have tools and gloves (but bring yours if you have them). Bring a water bottle. Everyone welcome but please note in your sign up if you are bringing others. See you there!\n\nPlease register.
URL:https://bushwickinletpark.org/event/weeding-wednesdays-2022/2022-08-31/
LOCATION:Bushwick Inlet Park (86K)\, 86 Kent Ave\, Brooklyn\, NY\, 11249\, United States
CATEGORIES:Gardening,Upcoming Events
ATTACH;FMTTYPE=image/jpeg:https://eadn-wc01-5191420.nxedge.io/wp-content/uploads/2022/05/weeding-wed-header-2022-16x9-1.jpg
ORGANIZER;CN="Friends of Bushwick Inlet Park":MAILTO:info@bushwickinletpark.org
GEO:40.72206;-73.9614455
X-APPLE-STRUCTURED-LOCATION;VALUE=URI;X-ADDRESS=Bushwick Inlet Park (86K) 86 Kent Ave Brooklyn NY 11249 United States;X-APPLE-RADIUS=500;X-TITLE=86 Kent Ave:geo:-73.9614455,40.72206
END:VEVENT
END:VCALENDAR