BEGIN:VCALENDAR
VERSION:2.0
PRODID:-//Friends of Bushwick Inlet Park - ECPv6.15.20//NONSGML v1.0//EN
CALSCALE:GREGORIAN
METHOD:PUBLISH
X-ORIGINAL-URL:https://bushwickinletpark.org
X-WR-CALDESC:Events for Friends of Bushwick Inlet Park
REFRESH-INTERVAL;VALUE=DURATION:PT1H
X-Robots-Tag:noindex
X-PUBLISHED-TTL:PT1H
BEGIN:VTIMEZONE
TZID:America/New_York
BEGIN:DAYLIGHT
TZOFFSETFROM:-0500
TZOFFSETTO:-0400
TZNAME:EDT
DTSTART:20230312T070000
END:DAYLIGHT
BEGIN:STANDARD
TZOFFSETFROM:-0400
TZOFFSETTO:-0500
TZNAME:EST
DTSTART:20231105T060000
END:STANDARD
BEGIN:DAYLIGHT
TZOFFSETFROM:-0500
TZOFFSETTO:-0400
TZNAME:EDT
DTSTART:20240310T070000
END:DAYLIGHT
BEGIN:STANDARD
TZOFFSETFROM:-0400
TZOFFSETTO:-0500
TZNAME:EST
DTSTART:20241103T060000
END:STANDARD
BEGIN:DAYLIGHT
TZOFFSETFROM:-0500
TZOFFSETTO:-0400
TZNAME:EDT
DTSTART:20250309T070000
END:DAYLIGHT
BEGIN:STANDARD
TZOFFSETFROM:-0400
TZOFFSETTO:-0500
TZNAME:EST
DTSTART:20251102T060000
END:STANDARD
END:VTIMEZONE
BEGIN:VEVENT
DTSTART;TZID=America/New_York:20240605T180000
DTEND;TZID=America/New_York:20240605T200000
DTSTAMP:20260424T092706
CREATED:20240327T174034Z
LAST-MODIFIED:20241004T154251Z
UID:10000536-1717610400-1717617600@bushwickinletpark.org
SUMMARY:Weeding Wednesdays 2024
DESCRIPTION:Join us every week as we weed\, mulch\, tend bushes and blossoms\, sometimes plant and water (if necessary). We have tools and gloves (but bring yours if you have them). Bring a water bottle. Everyone welcome but please note in your sign up if you are bringing others. Unless otherwise noted\, meet at 86 Kent Ave at beyond the soccer field. See you there! \nSign up.
URL:https://bushwickinletpark.org/event/weeding-wednesdays-2024/2024-06-05/
LOCATION:Bushwick Inlet Park (86K)\, 86 Kent Ave\, Brooklyn\, NY\, 11249\, United States
CATEGORIES:50 Kent,86 Kent,Gardening
ATTACH;FMTTYPE=image/png:https://eadn-wc01-5191420.nxedge.io/wp-content/uploads/2024/03/weeding-wednesday-2024.png
ORGANIZER;CN="Friends of Bushwick Inlet Park":MAILTO:info@bushwickinletpark.org
GEO:40.72206;-73.9614455
X-APPLE-STRUCTURED-LOCATION;VALUE=URI;X-ADDRESS=Bushwick Inlet Park (86K) 86 Kent Ave Brooklyn NY 11249 United States;X-APPLE-RADIUS=500;X-TITLE=86 Kent Ave:geo:-73.9614455,40.72206
END:VEVENT
BEGIN:VEVENT
DTSTART;TZID=America/New_York:20240612T180000
DTEND;TZID=America/New_York:20240612T200000
DTSTAMP:20260424T092706
CREATED:20240327T174034Z
LAST-MODIFIED:20241004T154251Z
UID:10000537-1718215200-1718222400@bushwickinletpark.org
SUMMARY:Weeding Wednesdays 2024
DESCRIPTION:Join us every week as we weed\, mulch\, tend bushes and blossoms\, sometimes plant and water (if necessary). We have tools and gloves (but bring yours if you have them). Bring a water bottle. Everyone welcome but please note in your sign up if you are bringing others. Unless otherwise noted\, meet at 86 Kent Ave at beyond the soccer field. See you there! \nSign up.
URL:https://bushwickinletpark.org/event/weeding-wednesdays-2024/2024-06-12/
LOCATION:Bushwick Inlet Park (86K)\, 86 Kent Ave\, Brooklyn\, NY\, 11249\, United States
CATEGORIES:50 Kent,86 Kent,Gardening
ATTACH;FMTTYPE=image/png:https://eadn-wc01-5191420.nxedge.io/wp-content/uploads/2024/03/weeding-wednesday-2024.png
ORGANIZER;CN="Friends of Bushwick Inlet Park":MAILTO:info@bushwickinletpark.org
GEO:40.72206;-73.9614455
X-APPLE-STRUCTURED-LOCATION;VALUE=URI;X-ADDRESS=Bushwick Inlet Park (86K) 86 Kent Ave Brooklyn NY 11249 United States;X-APPLE-RADIUS=500;X-TITLE=86 Kent Ave:geo:-73.9614455,40.72206
END:VEVENT
BEGIN:VEVENT
DTSTART;TZID=America/New_York:20240619T160000
DTEND;TZID=America/New_York:20240619T190000
DTSTAMP:20260424T092706
CREATED:20240611T170652Z
LAST-MODIFIED:20240618T111604Z
UID:10000538-1718812800-1718823600@bushwickinletpark.org
SUMMARY:Special Edition ~ Planting Wednesday
DESCRIPTION:Join us every week as we weed\, mulch\, tend bushes and blossoms\, sometimes plant and water (if necessary). \nThis Wednesday we are going to give special attention to one of the rain gardens at 50 Kent. So\, please meet us there! \nWe have tools and gloves (but bring yours if you have them). Bring a water bottle. Everyone welcome. \nSign up.
URL:https://bushwickinletpark.org/event/planting-wednesday/
LOCATION:Bushwick Inlet Park (50 Kent Ave)\, 50 Kent Ave\, Brooklyn\, NY\, 11249\, United States
CATEGORIES:50 Kent,Gardening
ATTACH;FMTTYPE=image/jpeg:https://eadn-wc01-5191420.nxedge.io/wp-content/uploads/2024/06/F2907EE6-DEF8-43BD-BCF5-527093233ED9.jpg
ORGANIZER;CN="Friends of Bushwick Inlet Park":MAILTO:info@bushwickinletpark.org
GEO:40.7231845;-73.9597003
X-APPLE-STRUCTURED-LOCATION;VALUE=URI;X-ADDRESS=Bushwick Inlet Park (50 Kent Ave) 50 Kent Ave Brooklyn NY 11249 United States;X-APPLE-RADIUS=500;X-TITLE=50 Kent Ave:geo:-73.9597003,40.7231845
END:VEVENT
BEGIN:VEVENT
DTSTART;TZID=America/New_York:20240626T180000
DTEND;TZID=America/New_York:20240626T200000
DTSTAMP:20260424T092706
CREATED:20240327T174034Z
LAST-MODIFIED:20241004T154251Z
UID:10000539-1719424800-1719432000@bushwickinletpark.org
SUMMARY:Weeding Wednesdays 2024
DESCRIPTION:Join us every week as we weed\, mulch\, tend bushes and blossoms\, sometimes plant and water (if necessary). We have tools and gloves (but bring yours if you have them). Bring a water bottle. Everyone welcome but please note in your sign up if you are bringing others. Unless otherwise noted\, meet at 86 Kent Ave at beyond the soccer field. See you there! \nSign up.
URL:https://bushwickinletpark.org/event/weeding-wednesdays-2024/2024-06-26/
LOCATION:Bushwick Inlet Park (86K)\, 86 Kent Ave\, Brooklyn\, NY\, 11249\, United States
CATEGORIES:50 Kent,86 Kent,Gardening
ATTACH;FMTTYPE=image/png:https://eadn-wc01-5191420.nxedge.io/wp-content/uploads/2024/03/weeding-wednesday-2024.png
ORGANIZER;CN="Friends of Bushwick Inlet Park":MAILTO:info@bushwickinletpark.org
GEO:40.72206;-73.9614455
X-APPLE-STRUCTURED-LOCATION;VALUE=URI;X-ADDRESS=Bushwick Inlet Park (86K) 86 Kent Ave Brooklyn NY 11249 United States;X-APPLE-RADIUS=500;X-TITLE=86 Kent Ave:geo:-73.9614455,40.72206
END:VEVENT
END:VCALENDAR