BEGIN:VCALENDAR
VERSION:2.0
PRODID:-//Friends of Bushwick Inlet Park - ECPv6.15.20//NONSGML v1.0//EN
CALSCALE:GREGORIAN
METHOD:PUBLISH
X-ORIGINAL-URL:https://bushwickinletpark.org
X-WR-CALDESC:Events for Friends of Bushwick Inlet Park
REFRESH-INTERVAL;VALUE=DURATION:PT1H
X-Robots-Tag:noindex
X-PUBLISHED-TTL:PT1H
BEGIN:VTIMEZONE
TZID:America/New_York
BEGIN:DAYLIGHT
TZOFFSETFROM:-0500
TZOFFSETTO:-0400
TZNAME:EDT
DTSTART:20180311T070000
END:DAYLIGHT
BEGIN:STANDARD
TZOFFSETFROM:-0400
TZOFFSETTO:-0500
TZNAME:EST
DTSTART:20181104T060000
END:STANDARD
BEGIN:DAYLIGHT
TZOFFSETFROM:-0500
TZOFFSETTO:-0400
TZNAME:EDT
DTSTART:20190310T070000
END:DAYLIGHT
BEGIN:STANDARD
TZOFFSETFROM:-0400
TZOFFSETTO:-0500
TZNAME:EST
DTSTART:20191103T060000
END:STANDARD
BEGIN:DAYLIGHT
TZOFFSETFROM:-0500
TZOFFSETTO:-0400
TZNAME:EDT
DTSTART:20200308T070000
END:DAYLIGHT
BEGIN:STANDARD
TZOFFSETFROM:-0400
TZOFFSETTO:-0500
TZNAME:EST
DTSTART:20201101T060000
END:STANDARD
END:VTIMEZONE
BEGIN:VEVENT
DTSTART;TZID=America/New_York:20190728T090000
DTEND;TZID=America/New_York:20190728T120000
DTSTAMP:20260425T224633
CREATED:20190726T191110Z
LAST-MODIFIED:20190726T191110Z
UID:10000022-1564304400-1564315200@bushwickinletpark.org
SUMMARY:Weeding Intervention
DESCRIPTION:The grass & weeds in the new gardens are coming in a like a lion! We have to get on top of them ASAP. Please join us for a special weeding session this Sunday. \nIt’s especially important because there will be NO weeding Wednesday on 7/31. \nTool & supplies provided. \nPlease register for free.
URL:https://bushwickinletpark.org/event/weeding-intervention/
LOCATION:Bushwick Inlet Park (86K)\, 86 Kent Ave\, Brooklyn\, NY\, 11249\, United States
CATEGORIES:Gardening,Upcoming Events
ATTACH;FMTTYPE=image/jpeg:https://eadn-wc01-5191420.nxedge.io/wp-content/uploads/2019/07/Weed-Intervention-Landscape.jpg
ORGANIZER;CN="Friends of Bushwick Inlet Park":MAILTO:info@bushwickinletpark.org
GEO:40.72206;-73.9614455
X-APPLE-STRUCTURED-LOCATION;VALUE=URI;X-ADDRESS=Bushwick Inlet Park (86K) 86 Kent Ave Brooklyn NY 11249 United States;X-APPLE-RADIUS=500;X-TITLE=86 Kent Ave:geo:-73.9614455,40.72206
END:VEVENT
BEGIN:VEVENT
DTSTART;TZID=America/New_York:20190724T183000
DTEND;TZID=America/New_York:20190724T193000
DTSTAMP:20260425T224633
CREATED:20190606T202927Z
LAST-MODIFIED:20190606T202927Z
UID:10000123-1563993000-1563996600@bushwickinletpark.org
SUMMARY:Weeding Wednesdays! VII
DESCRIPTION:Please join Friends of Bushwick Park’s Gardening Committee for Weeding Wednesdays – an hour of after-work weeding every Wednesday through the summer. \nMugwort waits for no woman\, child\, or man – and we want to keep our newly planted gardens at BIP looking good and as weed-free as possible. \nThanks for your help and we look fwd to seeing as many of you as possible in the gardens at BIP starting Wednesday June 12\, and every Wednesday thereafter through August.
URL:https://bushwickinletpark.org/event/weeding-wednesdays-vii/
LOCATION:Bushwick Inlet Park (86K)\, 86 Kent Ave\, Brooklyn\, NY\, 11249\, United States
CATEGORIES:Gardening,Upcoming Events
ATTACH;FMTTYPE=image/jpeg:https://eadn-wc01-5191420.nxedge.io/wp-content/uploads/2019/06/planting-quad-may-2019.jpg
ORGANIZER;CN="Friends of Bushwick Inlet Park":MAILTO:info@bushwickinletpark.org
GEO:40.72206;-73.9614455
X-APPLE-STRUCTURED-LOCATION;VALUE=URI;X-ADDRESS=Bushwick Inlet Park (86K) 86 Kent Ave Brooklyn NY 11249 United States;X-APPLE-RADIUS=500;X-TITLE=86 Kent Ave:geo:-73.9614455,40.72206
END:VEVENT
BEGIN:VEVENT
DTSTART;TZID=America/New_York:20190717T183000
DTEND;TZID=America/New_York:20190717T193000
DTSTAMP:20260425T224633
CREATED:20190606T202823Z
LAST-MODIFIED:20190606T202823Z
UID:10000122-1563388200-1563391800@bushwickinletpark.org
SUMMARY:Weeding Wednesdays! VI
DESCRIPTION:Please join Friends of Bushwick Park’s Gardening Committee for Weeding Wednesdays – an hour of after-work weeding every Wednesday through the summer. \nMugwort waits for no woman\, child\, or man – and we want to keep our newly planted gardens at BIP looking good and as weed-free as possible. \nThanks for your help and we look fwd to seeing as many of you as possible in the gardens at BIP starting Wednesday June 12\, and every Wednesday thereafter through August.
URL:https://bushwickinletpark.org/event/weeding-wednesdays-vi/
LOCATION:Bushwick Inlet Park (86K)\, 86 Kent Ave\, Brooklyn\, NY\, 11249\, United States
CATEGORIES:Gardening,Upcoming Events
ATTACH;FMTTYPE=image/jpeg:https://eadn-wc01-5191420.nxedge.io/wp-content/uploads/2019/06/planting-quad-may-2019.jpg
ORGANIZER;CN="Friends of Bushwick Inlet Park":MAILTO:info@bushwickinletpark.org
GEO:40.72206;-73.9614455
X-APPLE-STRUCTURED-LOCATION;VALUE=URI;X-ADDRESS=Bushwick Inlet Park (86K) 86 Kent Ave Brooklyn NY 11249 United States;X-APPLE-RADIUS=500;X-TITLE=86 Kent Ave:geo:-73.9614455,40.72206
END:VEVENT
BEGIN:VEVENT
DTSTART;TZID=America/New_York:20190710T183000
DTEND;TZID=America/New_York:20190710T193000
DTSTAMP:20260425T224633
CREATED:20190606T202725Z
LAST-MODIFIED:20190606T202725Z
UID:10000121-1562783400-1562787000@bushwickinletpark.org
SUMMARY:Weeding Wednesdays! V
DESCRIPTION:Please join Friends of Bushwick Park’s Gardening Committee for Weeding Wednesdays – an hour of after-work weeding every Wednesday through the summer. \nMugwort waits for no woman\, child\, or man – and we want to keep our newly planted gardens at BIP looking good and as weed-free as possible. \nThanks for your help and we look fwd to seeing as many of you as possible in the gardens at BIP starting Wednesday June 12\, and every Wednesday thereafter through August.
URL:https://bushwickinletpark.org/event/weeding-wednesdays-v/
LOCATION:Bushwick Inlet Park (86K)\, 86 Kent Ave\, Brooklyn\, NY\, 11249\, United States
CATEGORIES:Gardening,Upcoming Events
ATTACH;FMTTYPE=image/jpeg:https://eadn-wc01-5191420.nxedge.io/wp-content/uploads/2019/06/planting-quad-may-2019.jpg
ORGANIZER;CN="Friends of Bushwick Inlet Park":MAILTO:info@bushwickinletpark.org
GEO:40.72206;-73.9614455
X-APPLE-STRUCTURED-LOCATION;VALUE=URI;X-ADDRESS=Bushwick Inlet Park (86K) 86 Kent Ave Brooklyn NY 11249 United States;X-APPLE-RADIUS=500;X-TITLE=86 Kent Ave:geo:-73.9614455,40.72206
END:VEVENT
BEGIN:VEVENT
DTSTART;TZID=America/New_York:20190703T183000
DTEND;TZID=America/New_York:20190703T193000
DTSTAMP:20260425T224633
CREATED:20190606T202600Z
LAST-MODIFIED:20190606T202600Z
UID:10000020-1562178600-1562182200@bushwickinletpark.org
SUMMARY:Weeding Wednesdays! IV
DESCRIPTION:Please join Friends of Bushwick Park’s Gardening Committee for Weeding Wednesdays – an hour of after-work weeding every Wednesday through the summer. \nMugwort waits for no woman\, child\, or man – and we want to keep our newly planted gardens at BIP looking good and as weed-free as possible. \nThanks for your help and we look fwd to seeing as many of you as possible in the gardens at BIP starting Wednesday June 12\, and every Wednesday thereafter through August.
URL:https://bushwickinletpark.org/event/weeding-wednesdays-iv/
LOCATION:Bushwick Inlet Park (86K)\, 86 Kent Ave\, Brooklyn\, NY\, 11249\, United States
CATEGORIES:Gardening,Upcoming Events
ATTACH;FMTTYPE=image/jpeg:https://eadn-wc01-5191420.nxedge.io/wp-content/uploads/2019/06/planting-quad-may-2019.jpg
ORGANIZER;CN="Friends of Bushwick Inlet Park":MAILTO:info@bushwickinletpark.org
GEO:40.72206;-73.9614455
X-APPLE-STRUCTURED-LOCATION;VALUE=URI;X-ADDRESS=Bushwick Inlet Park (86K) 86 Kent Ave Brooklyn NY 11249 United States;X-APPLE-RADIUS=500;X-TITLE=86 Kent Ave:geo:-73.9614455,40.72206
END:VEVENT
BEGIN:VEVENT
DTSTART;TZID=America/New_York:20190626T183000
DTEND;TZID=America/New_York:20190626T193000
DTSTAMP:20260425T224633
CREATED:20190606T202442Z
LAST-MODIFIED:20190606T202649Z
UID:10000019-1561573800-1561577400@bushwickinletpark.org
SUMMARY:Weeding Wednesdays! III
DESCRIPTION:Please join Friends of Bushwick Park’s Gardening Committee for Weeding Wednesdays – an hour of after-work weeding every Wednesday through the summer. \nMugwort waits for no woman\, child\, or man – and we want to keep our newly planted gardens at BIP looking good and as weed-free as possible. \nThanks for your help and we look fwd to seeing as many of you as possible in the gardens at BIP starting Wednesday June 12\, and every Wednesday thereafter through August.
URL:https://bushwickinletpark.org/event/weeding-wednesdays-iii/
LOCATION:Bushwick Inlet Park (86K)\, 86 Kent Ave\, Brooklyn\, NY\, 11249\, United States
CATEGORIES:Gardening,Upcoming Events
ATTACH;FMTTYPE=image/jpeg:https://eadn-wc01-5191420.nxedge.io/wp-content/uploads/2019/06/planting-quad-may-2019.jpg
ORGANIZER;CN="Friends of Bushwick Inlet Park":MAILTO:info@bushwickinletpark.org
GEO:40.72206;-73.9614455
X-APPLE-STRUCTURED-LOCATION;VALUE=URI;X-ADDRESS=Bushwick Inlet Park (86K) 86 Kent Ave Brooklyn NY 11249 United States;X-APPLE-RADIUS=500;X-TITLE=86 Kent Ave:geo:-73.9614455,40.72206
END:VEVENT
BEGIN:VEVENT
DTSTART;TZID=America/New_York:20190619T183000
DTEND;TZID=America/New_York:20190619T193000
DTSTAMP:20260425T224633
CREATED:20190606T202329Z
LAST-MODIFIED:20190606T202329Z
UID:10000018-1560969000-1560972600@bushwickinletpark.org
SUMMARY:Weeding Wednesdays! II
DESCRIPTION:Please join Friends of Bushwick Park’s Gardening Committee for Weeding Wednesdays – an hour of after-work weeding every Wednesday through the summer. \nMugwort waits for no woman\, child\, or man – and we want to keep our newly planted gardens at BIP looking good and as weed-free as possible. \nThanks for your help and we look fwd to seeing as many of you as possible in the gardens at BIP starting Wednesday June 12\, and every Wednesday thereafter through August.
URL:https://bushwickinletpark.org/event/weeding-wednesdays-ii/
LOCATION:Bushwick Inlet Park (86K)\, 86 Kent Ave\, Brooklyn\, NY\, 11249\, United States
CATEGORIES:Gardening,Upcoming Events
ATTACH;FMTTYPE=image/jpeg:https://eadn-wc01-5191420.nxedge.io/wp-content/uploads/2019/06/planting-quad-may-2019.jpg
ORGANIZER;CN="Friends of Bushwick Inlet Park":MAILTO:info@bushwickinletpark.org
GEO:40.72206;-73.9614455
X-APPLE-STRUCTURED-LOCATION;VALUE=URI;X-ADDRESS=Bushwick Inlet Park (86K) 86 Kent Ave Brooklyn NY 11249 United States;X-APPLE-RADIUS=500;X-TITLE=86 Kent Ave:geo:-73.9614455,40.72206
END:VEVENT
BEGIN:VEVENT
DTSTART;TZID=America/New_York:20190612T183000
DTEND;TZID=America/New_York:20190612T193000
DTSTAMP:20260425T224633
CREATED:20190606T202159Z
LAST-MODIFIED:20190606T202159Z
UID:10000017-1560364200-1560367800@bushwickinletpark.org
SUMMARY:Weeding Wednesdays! I
DESCRIPTION:Please join Friends of Bushwick Park’s Gardening Committee for Weeding Wednesdays – an hour of after-work weeding every Wednesday through the summer. \nMugwort waits for no woman\, child\, or man – and we want to keep our newly planted gardens at BIP looking good and as weed-free as possible. \nThanks for your help and we look fwd to seeing as many of you as possible in the gardens at BIP starting Wednesday June 12\, and every Wednesday thereafter through August.
URL:https://bushwickinletpark.org/event/weeding-wednesdays-i/
LOCATION:Bushwick Inlet Park (86K)\, 86 Kent Ave\, Brooklyn\, NY\, 11249\, United States
CATEGORIES:Gardening,Upcoming Events
ATTACH;FMTTYPE=image/jpeg:https://eadn-wc01-5191420.nxedge.io/wp-content/uploads/2019/06/planting-quad-may-2019.jpg
ORGANIZER;CN="Friends of Bushwick Inlet Park":MAILTO:info@bushwickinletpark.org
GEO:40.72206;-73.9614455
X-APPLE-STRUCTURED-LOCATION;VALUE=URI;X-ADDRESS=Bushwick Inlet Park (86K) 86 Kent Ave Brooklyn NY 11249 United States;X-APPLE-RADIUS=500;X-TITLE=86 Kent Ave:geo:-73.9614455,40.72206
END:VEVENT
END:VCALENDAR