BEGIN:VCALENDAR
VERSION:2.0
PRODID:-//Friends of Bushwick Inlet Park - ECPv6.15.20//NONSGML v1.0//EN
CALSCALE:GREGORIAN
METHOD:PUBLISH
X-ORIGINAL-URL:https://bushwickinletpark.org
X-WR-CALDESC:Events for Friends of Bushwick Inlet Park
REFRESH-INTERVAL;VALUE=DURATION:PT1H
X-Robots-Tag:noindex
X-PUBLISHED-TTL:PT1H
BEGIN:VTIMEZONE
TZID:America/New_York
BEGIN:DAYLIGHT
TZOFFSETFROM:-0500
TZOFFSETTO:-0400
TZNAME:EDT
DTSTART:20230312T070000
END:DAYLIGHT
BEGIN:STANDARD
TZOFFSETFROM:-0400
TZOFFSETTO:-0500
TZNAME:EST
DTSTART:20231105T060000
END:STANDARD
BEGIN:DAYLIGHT
TZOFFSETFROM:-0500
TZOFFSETTO:-0400
TZNAME:EDT
DTSTART:20240310T070000
END:DAYLIGHT
BEGIN:STANDARD
TZOFFSETFROM:-0400
TZOFFSETTO:-0500
TZNAME:EST
DTSTART:20241103T060000
END:STANDARD
BEGIN:DAYLIGHT
TZOFFSETFROM:-0500
TZOFFSETTO:-0400
TZNAME:EDT
DTSTART:20250309T070000
END:DAYLIGHT
BEGIN:STANDARD
TZOFFSETFROM:-0400
TZOFFSETTO:-0500
TZNAME:EST
DTSTART:20251102T060000
END:STANDARD
BEGIN:DAYLIGHT
TZOFFSETFROM:-0500
TZOFFSETTO:-0400
TZNAME:EDT
DTSTART:20260308T070000
END:DAYLIGHT
BEGIN:STANDARD
TZOFFSETFROM:-0400
TZOFFSETTO:-0500
TZNAME:EST
DTSTART:20261101T060000
END:STANDARD
END:VTIMEZONE
BEGIN:VEVENT
DTSTART;TZID=America/New_York:20251204T180000
DTEND;TZID=America/New_York:20251204T193000
DTSTAMP:20260422T213719
CREATED:20251122T144130Z
LAST-MODIFIED:20251201T220338Z
UID:10000723-1764871200-1764876600@bushwickinletpark.org
SUMMARY:The Hidden Inlet Revealed: Secrets of the Bushwick Inlet
DESCRIPTION:Greenpoint Library & Environmental Education Center\n107 Norman Ave. at Leonard St.\nBrooklyn\, NY 11222\nRegister \nCome join your neighbors to learn about the origins of the Bushwick Creek\, the habitats formed in this unique tidal estuary and the importance of our intersticial urban spaces found in this ecological jewel which has been fenced off from public access for over 100 years. \nPresented by Save the Inlet community members\, local historian Geoffrey Cobb\, landscape architect Nick Shannon\, and Wild Bird Fund bird technician Sarah Roberts.
URL:https://bushwickinletpark.org/event/the-hidden-inlet-revealed-secrets-of-the-bushwick-inlet/
LOCATION:Greenpoint Library & Environmental Center\, 107 Norman Ave\, Brooklyn\, NY\, 11222\, United States
CATEGORIES:Seminar
ATTACH;FMTTYPE=image/jpeg:https://eadn-wc01-5191420.nxedge.io/wp-content/uploads/2024/05/Motiva-01-inlet-queen-annes-lace-e1763823720205.jpg
GEO:40.7260429;-73.9506351
X-APPLE-STRUCTURED-LOCATION;VALUE=URI;X-ADDRESS=Greenpoint Library & Environmental Center 107 Norman Ave Brooklyn NY 11222 United States;X-APPLE-RADIUS=500;X-TITLE=107 Norman Ave:geo:-73.9506351,40.7260429
END:VEVENT
BEGIN:VEVENT
DTSTART;TZID=America/New_York:20250312T180000
DTEND;TZID=America/New_York:20250312T200000
DTSTAMP:20260422T213719
CREATED:20250213T141736Z
LAST-MODIFIED:20250305T205854Z
UID:10000627-1741802400-1741809600@bushwickinletpark.org
SUMMARY:Resilient Parks - Design Opportunities for Bushwick Inlet Park
DESCRIPTION:FBIP 2025 Seminar Series “WHERE’S OUR PARK?” PAST→ PRESENT→ FUTURE \nFree registration. \nSea level rise\, storm surges and cloudburst events. These threats are design challenges but also present an opportunity for innovative and engaging park design\, while helping protect our waterfront communities. \nJoin Friends of Bushwick Inlet Park for a panel discussion with: \nStephen Whitehouse\, BIP 86 Kent Ave landscape designer\, urban planner\, principal\, Starr Whitehouse Landscape Architects and Planners \nDr. Marcha Johnson\, landscape architect and ecological restorationist\, NYC Parks & Recreation \nMatthijs Bouw\, Founder & President\, One Architecture \nAll the panelists have extensive experience in designing spaces within the public realm to help mitigate increasing threats from atmospheric changes affecting human and landscape interaction with water. With them we will explore their work\, including revisiting Stephen’s concept for BIP’s 86 Kent Ave\, and design philosophy in considering future waterfront park manifestations in the face of these challenges. \nStephen Whitehouse is a landscape architect and urban planner whose diverse pursuits share a concern for the environmental quality and social vitality of places. He formerly served as Chief of Planning for the New York City Department of Parks & Recreation\, where he managed the expansion of the USTA National Tennis Center in Flushing Meadows and launched the City’s Greenway system. Since co-founding Starr Whitehouse with Laura Starr\, he has worked with public and private clients to create dynamic urban districts and engaging landscapes that connect people to nature. \nRather than focusing on a single aspect of the work\, he’s always been most fascinated by the juncture points. “Natural systems\, patterns of settlement\, infrastructure – seeing all these come together to make a place is interesting to me\, not just as abstract concepts\,” he says\, “but in terms of seeing good results at the end.” He describes his role in terms of junctures as well. “I’m the translator\,” he says. “I serve as the mediator between the specialists and the public. I like communicating with people\, and seeing things shaped by the creative interactions of people and institutions.” \nHis list of project involvement is extensive. \nMarcha Johnson\, PhD\, ASLA is a NYC landscape architect and ecological restorationist with about 40 years of specializing in shoreline designs with high habitat value in all 5 boroughs\, both as a professional and a pro-bono advisor/ volunteer.   Marcha’s book\, Coastal Change\, Ocean Conservation and Resilient Communities\, co-edited with Amanda Bayley and published in December 2016 by Springer\, highlights ways to better understand and respect coastal landscapes\, design spaces affected by sea level rise and storms and live more wisely along the water. She serves on the Advisory Board for Riverkeeper\, and on the Technical Advisory Board Hudson River Park\, and has presented her waterfront designs\, ideas on conserving urban shorelines and themes from her book at local\, national and international conferences.  An adjunct professor in City College of New York’s School of Architecture since 1990\, she teaches graduate courses in landscape architecture and sustainability. \nBuilding upon her graduate school research as a Hudson River Foundation Fellow comparing  the ecology and development of post-industrial waterfronts in NYC\, Boston and Philadelphia\, she co-led NY State-supported cooperative effort in 2010 called Designing the Edge.  This initiative promotes waterfront design which improves water quality\, nurtures aquatic life and offers people safe opportunities to engage with the water along urbanized shores.  It resulted in a science and research-based revision of the Harlem River Park seawalls\, and a second project – on the shore of Randall’s Is. using plants to reduce contamination in historic urban fill.  Her projects including marsh restorations\, porous gabion walls containing shells to attract a living crust of shellfish\, “greenwalls\,” a precast system of open stackable shelves that provides the stability of riprap with spaces for plants and a variety of other ecologically-supportive features. \nMarcha’s philosophy about urban shoreline design is based on returning some of the value of floodplains to the shore\, making room for the inward expansion of beaches and water edges\, and recognizing that waterfront “disasters” are mostly related to building rigid structures in places that are subject to natural floods\, sea level rise and storms. \nFor this presentation\, she will discuss shoreline ecology in general and some considerations for Bushwick Inlet\,  but NOT her NYC Parks designs\, as she is speaking as an individual not representing the City\, or any of the other institutions with which she is involved. \nMatthijs Bouw is a Dutch architect and urbanist and founder of One Architecture (est. 1995)\, an award-winning Amsterdam and New York-based design and planning firm. Bouw’s practice is known for its unique approach in which programmatic\, financial\, technical\, and organizational issues are studied\, communicated\, and resolved through design. \nIn recent years\, this approach has found an important application through a body of climate adaptation and resilience projects across the U.S. Bouw also directs the Urban Resilience Certificate Program for the University of Pennsylvania Stuart Weitzman School of Design\, where he is Professor of Practice and Rockefeller Urban Resilience Fellow. \nMatthijs Bouw\, founder and principal of One Architecture and Urbanism (ONE)\, will share lessons from leading large-scale resilience projects in New York City\, Boston\, and beyond. Drawing from his work on the Financial District and Seaport Climate Resilience Master Plan\, the East Side Coastal Resiliency Project\, and Climate Ready Boston\, he will explore how comprehensive climate adaptation strategies can be applied at the scale of Bushwick Inlet Park. His insights will focus on integrating flood protection\, ecological restoration\, and public space design\, offering a vision for how the park can serve as a model for urban resilience in North Brooklyn.
URL:https://bushwickinletpark.org/event/resilient-parks-design-opportunities-for-bushwick-inlet-park/
LOCATION:Bushwick Inlet Park (86K)\, 86 Kent Ave\, Brooklyn\, NY\, 11249\, United States
CATEGORIES:86 Kent,Seminar,Upcoming Events
ATTACH;FMTTYPE=image/png:https://eadn-wc01-5191420.nxedge.io/wp-content/uploads/2025/02/FBIP-Seminar-2-3.12.25-Flyer-e1739456192783.png
ORGANIZER;CN="Friends of Bushwick Inlet Park":MAILTO:info@bushwickinletpark.org
GEO:40.72206;-73.9614455
X-APPLE-STRUCTURED-LOCATION;VALUE=URI;X-ADDRESS=Bushwick Inlet Park (86K) 86 Kent Ave Brooklyn NY 11249 United States;X-APPLE-RADIUS=500;X-TITLE=86 Kent Ave:geo:-73.9614455,40.72206
END:VEVENT
BEGIN:VEVENT
DTSTART;TZID=America/New_York:20250213T180000
DTEND;TZID=America/New_York:20250213T200000
DTSTAMP:20260422T213719
CREATED:20250130T182057Z
LAST-MODIFIED:20250131T172919Z
UID:10000625-1739469600-1739476800@bushwickinletpark.org
SUMMARY:FBIP Convocation 2025
DESCRIPTION:Bushwick Inlet Park Community Building\n86 Kent Ave\nBrooklyn\, NY 11249 \nCitiStorage demo is complete- Now what?  \nJoin us in a lively discussion about the state of your Bushwick Inlet Park! \nPresentation topics: \n\nHistory\, Funding\, Remediation\, Timeline\nPanel discussion with FBIP board members\, elected officials and the Parks Dept.\nRefreshments and meet & greet following\nWhat’s in store for FBIP 2025?\nLearn about upcoming events and how to get involved!\n\nFree Registration Required.
URL:https://bushwickinletpark.org/event/fbip-convocation-2025/
LOCATION:Bushwick Inlet Park (86K)\, 86 Kent Ave\, Brooklyn\, NY\, 11249\, United States
CATEGORIES:86 Kent,Seminar,Upcoming Events
ATTACH;FMTTYPE=image/jpeg:https://eadn-wc01-5191420.nxedge.io/wp-content/uploads/2025/01/FBIP-Seminar-1-2.13.25-1600-x-900-px.jpg
ORGANIZER;CN="Friends of Bushwick Inlet Park":MAILTO:info@bushwickinletpark.org
GEO:40.72206;-73.9614455
X-APPLE-STRUCTURED-LOCATION;VALUE=URI;X-ADDRESS=Bushwick Inlet Park (86K) 86 Kent Ave Brooklyn NY 11249 United States;X-APPLE-RADIUS=500;X-TITLE=86 Kent Ave:geo:-73.9614455,40.72206
END:VEVENT
BEGIN:VEVENT
DTSTART;TZID=America/New_York:20240327T180000
DTEND;TZID=America/New_York:20240327T200000
DTSTAMP:20260422T213719
CREATED:20240311T113656Z
LAST-MODIFIED:20240328T023544Z
UID:10000527-1711562400-1711569600@bushwickinletpark.org
SUMMARY:"Where's Our Park?" Past→ Present→ Future Part II
DESCRIPTION:Friends of Bushwick Inlet Park Seminar #2. \n“What Kind of Park?” Public Space for Public Good \nThe historical and future ecology of Bushwick Inlet Park and the Blue Zone. \nA look at climate change and the threats and present opportunities in adaptive mitigation infrastructure and park design opportunities. \nPresentation and panel discussion with Eric Sanderson PhD\, New York Botanical Garden Vice-President of Urban Conservation\, author of Mannahatta and co-creator of the Welikia Project. \nHe will be joined by panelists Dan Wiley\, District Director for Congresswoman Nydia Velazquez\, Kate Boicourt\, Director of Climate Resilient Coasts & Watersheds at the Environmental Defense Fund and moderator Dewey Thompson\, board member of FBIP and numerous local environmental organizations. \nThis event is generously supported by Mindspace and 25 Kent.
URL:https://bushwickinletpark.org/event/wheres-our-park-past%e2%86%92-present%e2%86%92-future-part-ii/
LOCATION:Mindspace Williamsburg\, 25 Kent Ave\, #401\, North Lobby\, Brooklyn\, NY\, 11249\, United States
CATEGORIES:Environmental Education,Seminar,Upcoming Events
ATTACH;FMTTYPE=image/jpeg:https://eadn-wc01-5191420.nxedge.io/wp-content/uploads/2024/03/wop-2024-p2-header.jpeg
ORGANIZER;CN="Friends of Bushwick Inlet Park":MAILTO:info@bushwickinletpark.org
GEO:40.7229305;-73.9577994
X-APPLE-STRUCTURED-LOCATION;VALUE=URI;X-ADDRESS=Mindspace Williamsburg 25 Kent Ave #401 North Lobby Brooklyn NY 11249 United States;X-APPLE-RADIUS=500;X-TITLE=25 Kent Ave\, #401\, North Lobby:geo:-73.9577994,40.7229305
END:VEVENT
BEGIN:VEVENT
DTSTART;TZID=America/New_York:20240228T180000
DTEND;TZID=America/New_York:20240228T200000
DTSTAMP:20260422T213719
CREATED:20240201T152652Z
LAST-MODIFIED:20240201T152652Z
UID:10000524-1709143200-1709150400@bushwickinletpark.org
SUMMARY:“Where’s Our Park?” Past→ Present→ Future
DESCRIPTION:FBIP Seminar Series- Bushwick Inlet Park 101- Where are we? How did we get here? \n\nPresentation topics: History\, Parcels\, Funding\, Timeline\nPanel discussion with FBIP board members and NYC D33 Council Member Lincoln Restler\nRefreshments and meet & greet following\nLearn about upcoming events and how to get involved\n\nJoin us for a lively discussion about your park! \nFree registration required.
URL:https://bushwickinletpark.org/event/wheres-our-park-past%e2%86%92-present%e2%86%92-future/
LOCATION:Bushwick Inlet Park (86K)\, 86 Kent Ave\, Brooklyn\, NY\, 11249\, United States
CATEGORIES:86 Kent,Seminar,Upcoming Events
ATTACH;FMTTYPE=image/jpeg:https://eadn-wc01-5191420.nxedge.io/wp-content/uploads/2024/02/wheres-our-park-panel_original.jpeg
ORGANIZER;CN="Friends of Bushwick Inlet Park":MAILTO:info@bushwickinletpark.org
GEO:40.72206;-73.9614455
X-APPLE-STRUCTURED-LOCATION;VALUE=URI;X-ADDRESS=Bushwick Inlet Park (86K) 86 Kent Ave Brooklyn NY 11249 United States;X-APPLE-RADIUS=500;X-TITLE=86 Kent Ave:geo:-73.9614455,40.72206
END:VEVENT
END:VCALENDAR