BEGIN:VCALENDAR
VERSION:2.0
PRODID:-//Friends of Bushwick Inlet Park - ECPv6.15.20//NONSGML v1.0//EN
CALSCALE:GREGORIAN
METHOD:PUBLISH
X-WR-CALNAME:Friends of Bushwick Inlet Park
X-ORIGINAL-URL:https://bushwickinletpark.org
X-WR-CALDESC:Events for Friends of Bushwick Inlet Park
REFRESH-INTERVAL;VALUE=DURATION:PT1H
X-Robots-Tag:noindex
X-PUBLISHED-TTL:PT1H
BEGIN:VTIMEZONE
TZID:America/New_York
BEGIN:DAYLIGHT
TZOFFSETFROM:-0500
TZOFFSETTO:-0400
TZNAME:EDT
DTSTART:20200308T070000
END:DAYLIGHT
BEGIN:STANDARD
TZOFFSETFROM:-0400
TZOFFSETTO:-0500
TZNAME:EST
DTSTART:20201101T060000
END:STANDARD
BEGIN:DAYLIGHT
TZOFFSETFROM:-0500
TZOFFSETTO:-0400
TZNAME:EDT
DTSTART:20210314T070000
END:DAYLIGHT
BEGIN:STANDARD
TZOFFSETFROM:-0400
TZOFFSETTO:-0500
TZNAME:EST
DTSTART:20211107T060000
END:STANDARD
BEGIN:DAYLIGHT
TZOFFSETFROM:-0500
TZOFFSETTO:-0400
TZNAME:EDT
DTSTART:20220313T070000
END:DAYLIGHT
BEGIN:STANDARD
TZOFFSETFROM:-0400
TZOFFSETTO:-0500
TZNAME:EST
DTSTART:20221106T060000
END:STANDARD
BEGIN:DAYLIGHT
TZOFFSETFROM:-0500
TZOFFSETTO:-0400
TZNAME:EDT
DTSTART:20230312T070000
END:DAYLIGHT
BEGIN:STANDARD
TZOFFSETFROM:-0400
TZOFFSETTO:-0500
TZNAME:EST
DTSTART:20231105T060000
END:STANDARD
END:VTIMEZONE
BEGIN:VEVENT
DTSTART;TZID=America/New_York:20220714T183000
DTEND;TZID=America/New_York:20220714T200000
DTSTAMP:20260423T111429
CREATED:20220618T013607Z
LAST-MODIFIED:20220711T180526Z
UID:10000059-1657823400-1657828800@bushwickinletpark.org
SUMMARY:Summer Music in BIP 2022: George Braith
DESCRIPTION:For the second summer FBIP brings music to the beautiful waterfront in Bushwick Inlet Park with our Summer Music in BIP 2022 series. Come take in a skyline river sunset on the 86 Kent shoreline esplanade while absorbing great musical vibes from multiple genres. \nNext up in partnership with the Jazz Foundation of America we welcome the George Braith Quartet. \nGeorge Braith (born George Timothy Braithwaite on June 26\, 1939) is a soul-jazz saxophonist from New York. Braith is known for playing multiple horns at once\, a technique pioneered by Roland Kirk. Braith is credited with the invention of the Braithophone\, two different horns (straight alto and soprano) mended together by extensions\, valves and connections. Braith is featured in a mosaic in the 72nd street station of the Second Avenue Subway in the New York City Subway system. \nA big thanks goes out this year’s sponsors: \n\nCity Parks Foundation\nEl Puente\nNYC Ferry\nNorth Brooklyn Parks Alliance\n25 Kent\nNYC Department of Parks & Recreation\nJazz Foundation of American\nRubenstein Partners\nNYC Department of Cultural Affairs\nBrooklyn Arts Council\nNew York State Council on the Arts\n\nPlease join us!
URL:https://bushwickinletpark.org/event/summer-music-in-bip-2022-george-braith/
LOCATION:Bushwick Inlet Park (86K)\, 86 Kent Ave\, Brooklyn\, NY\, 11249\, United States
CATEGORIES:86 Kent,Summer Music in BIP,Upcoming Events
ATTACH;FMTTYPE=image/jpeg:https://eadn-wc01-5191420.nxedge.io/wp-content/uploads/2022/06/george-braith-sms-2021-16x9-1.jpg
ORGANIZER;CN="Friends of Bushwick Inlet Park":MAILTO:info@bushwickinletpark.org
GEO:40.72206;-73.9614455
X-APPLE-STRUCTURED-LOCATION;VALUE=URI;X-ADDRESS=Bushwick Inlet Park (86K) 86 Kent Ave Brooklyn NY 11249 United States;X-APPLE-RADIUS=500;X-TITLE=86 Kent Ave:geo:-73.9614455,40.72206
END:VEVENT
BEGIN:VEVENT
DTSTART;TZID=America/New_York:20220707T183000
DTEND;TZID=America/New_York:20220707T200000
DTSTAMP:20260423T111430
CREATED:20220617T140113Z
LAST-MODIFIED:20220617T140704Z
UID:10000058-1657218600-1657224000@bushwickinletpark.org
SUMMARY:Summer Music in BIP 2022: Ali Dineen with Feral Foster
DESCRIPTION:For the second summer FBIP brings music to the beautiful waterfront in Bushwick Inlet Park with our Summer Music in BIP 2022 series. Come take in a skyline river sunset on the 86 Kent shoreline esplanade while absorbing great musical vibes from multiple genres. \nNext\, Jackson Lynch & Friends brings us Ali Dineen with Feral Foster. \nAli Dineen is a poet-composer born and raised in Queens\, whose lyrics are poetic and deeply personal\, and highlight the intersections between personal experience\, larger histories\, and systems of power. Ali has performed at the Museum of Art and Design\, the Caramoor American Roots Music Festival\, the American Folk Art Museum\, and the Brooklyn Folk Festival\, among other wonderful venues\, and was awarded the Helene Wurlitzer Foundation Residency in 2020. Ali is also the music director for local puppet troupe extraordinaire The Boxcutter Collective\, arranges music and sings with Reverend Billy & the Stop Shopping Choir\, and is part of a duet with the inimitable Feral Foster. Ali released a third album\, Hold On\, in 2020\, and is currently working on a new piece about Joan of Arc. \nA big thanks goes out this year’s sponsors: \n\nCity Parks Foundation\nEl Puente\nNYC Ferry\nNorth Brooklyn Parks Alliance\n25 Kent\nNYC Department of Parks & Recreation\nJazz Foundation of American\nRubenstein Partners\nNYC Department of Cultural Affairs\nBrooklyn Arts Council\nNew York State Council on the Arts\n\nPlease join us!
URL:https://bushwickinletpark.org/event/summer-music-in-bip-2022-ali-dineen/
LOCATION:Bushwick Inlet Park (86K)\, 86 Kent Ave\, Brooklyn\, NY\, 11249\, United States
CATEGORIES:86 Kent,Summer Music in BIP,Upcoming Events
ATTACH;FMTTYPE=image/jpeg:https://eadn-wc01-5191420.nxedge.io/wp-content/uploads/2022/06/Ali-dineen.jpeg
ORGANIZER;CN="Friends of Bushwick Inlet Park":MAILTO:info@bushwickinletpark.org
GEO:40.72206;-73.9614455
X-APPLE-STRUCTURED-LOCATION;VALUE=URI;X-ADDRESS=Bushwick Inlet Park (86K) 86 Kent Ave Brooklyn NY 11249 United States;X-APPLE-RADIUS=500;X-TITLE=86 Kent Ave:geo:-73.9614455,40.72206
END:VEVENT
BEGIN:VEVENT
DTSTART;TZID=America/New_York:20220630T183000
DTEND;TZID=America/New_York:20220630T200000
DTSTAMP:20260423T111430
CREATED:20220617T135436Z
LAST-MODIFIED:20220617T142310Z
UID:10000057-1656613800-1656619200@bushwickinletpark.org
SUMMARY:Summer Music in BIP 2022: Alvin Flythe
DESCRIPTION:For the second summer FBIP brings music to the beautiful waterfront in Bushwick Inlet Park with our Summer Music in BIP 2022 series. Come take in a skyline river sunset on the 86 Kent shoreline esplanade while absorbing great musical vibes from multiple genres. \nNext\, the Jazz Foundation of America brings us Alvin Flythe and the Flythetime. \nQueens native Alvin Wink Flythe started playing music at the age of six and has been a professional saxophonist for more than 50 years. At the age of 12\, he had the honor of playing with his cousin Duke Ellington\, and has since shared the stage with greats like Dizzy Gillespie\, Roy Haynes\, and Dr. Lonnie Smith\, touring Europe and the Caribbean. Flythe’s style is influenced by John Coltrane\, Dexter Gordon\, Sonny Rollins\, and Sonny Stitt\, and combines a funk aesthetic with classic jazz tones. \nA big thanks goes out this year’s sponsors: \n\nCity Parks Foundation\nEl Puente\nNYC Ferry\nNorth Brooklyn Parks Alliance\n25 Kent\nNYC Department of Parks & Recreation\nJazz Foundation of American\nRubenstein Partners\nNYC Department of Cultural Affairs\nBrooklyn Arts Council\nNew York State Council on the Arts\n\nPlease join us!
URL:https://bushwickinletpark.org/event/summer-music-in-bip-2022-alvin-flythe/
LOCATION:Bushwick Inlet Park (86K)\, 86 Kent Ave\, Brooklyn\, NY\, 11249\, United States
CATEGORIES:86 Kent,Summer Music in BIP,Upcoming Events
ATTACH;FMTTYPE=image/jpeg:https://eadn-wc01-5191420.nxedge.io/wp-content/uploads/2021/06/alvin-flythe.jpg
ORGANIZER;CN="Friends of Bushwick Inlet Park":MAILTO:info@bushwickinletpark.org
GEO:40.72206;-73.9614455
X-APPLE-STRUCTURED-LOCATION;VALUE=URI;X-ADDRESS=Bushwick Inlet Park (86K) 86 Kent Ave Brooklyn NY 11249 United States;X-APPLE-RADIUS=500;X-TITLE=86 Kent Ave:geo:-73.9614455,40.72206
END:VEVENT
BEGIN:VEVENT
DTSTART;TZID=America/New_York:20220623T183000
DTEND;TZID=America/New_York:20220623T200000
DTSTAMP:20260423T111430
CREATED:20220617T134648Z
LAST-MODIFIED:20220622T154330Z
UID:10000056-1656009000-1656014400@bushwickinletpark.org
SUMMARY:Summer Music in BIP 2022: Alma Adentro
DESCRIPTION:For the second summer FBIP brings music to the beautiful waterfront in Bushwick Inlet Park with our Summer Music in BIP 2022 series. Come take in a skyline river sunset on the 86 Kent shoreline esplanade while absorbing great musical vibes from multiple genres. \nWe’re kicking off this season with Alma Adentro for the first El Puente CADRE show! \nAlma Adentro is a New York City-based Puerto Rican musical ensemble that brings back the nostalgia of the Latin-American Boleros\, Guarachas & Cha cha chás with a dash of Danza Puertorriqueña. Named after the Sylvia Rexach song “Alma Adentro” or “Inside of your soul” in English\, this group of musicians seeks to touch our hearts through music with Yazmín Morales-Vicente (vocals)\, William Vázquez (guitar)\, Luis Rodríguez (Cuatro) and Elías De Jesús (percussion). To learn more about Alma Adentro\, you can follow them on Instagram @almaadentro787. \nA big thanks goes out this year’s sponsors: \n\nCity Parks Foundation\nEl Puente\nNYC Ferry\nNorth Brooklyn Parks Alliance\n25 Kent\nNYC Department of Parks & Recreation\nJazz Foundation of American\nRubenstein Partners\nNYC Department of Cultural Affairs\nBrooklyn Arts Council\nNew York State Council on the Arts\n\nPlease join us!
URL:https://bushwickinletpark.org/event/summer-music-in-bip-2022-alma-adentro/
LOCATION:Bushwick Inlet Park (86K)\, 86 Kent Ave\, Brooklyn\, NY\, 11249\, United States
CATEGORIES:86 Kent,Summer Music in BIP,Upcoming Events
ATTACH;FMTTYPE=image/jpeg:https://eadn-wc01-5191420.nxedge.io/wp-content/uploads/2022/06/alma-adentro-2021-16x9-2.jpg
ORGANIZER;CN="Friends of Bushwick Inlet Park":MAILTO:info@bushwickinletpark.org
GEO:40.72206;-73.9614455
X-APPLE-STRUCTURED-LOCATION;VALUE=URI;X-ADDRESS=Bushwick Inlet Park (86K) 86 Kent Ave Brooklyn NY 11249 United States;X-APPLE-RADIUS=500;X-TITLE=86 Kent Ave:geo:-73.9614455,40.72206
END:VEVENT
BEGIN:VEVENT
DTSTART;TZID=America/New_York:20210912T150000
DTEND;TZID=America/New_York:20210912T163000
DTSTAMP:20260423T111430
CREATED:20210624T122918Z
LAST-MODIFIED:20210908T201655Z
UID:10000048-1631458800-1631464200@bushwickinletpark.org
SUMMARY:Summer Music in BIP: Ed Martinez and the Kool Element Latin Jazz Project
DESCRIPTION:This Summer FBIP brings music to the beautiful waterfront in Bushwick Inlet Park with our first Summer Music in BIP series. \nAs Fall approaches come take in a skyline river view on the shoreline esplanade while absorbing great musical vibes. \nWe will wind up our inaugural series with Ed Martinez and the Kool Element Latin Jazz Project\, brought to us through El Puente Cadre. As Summer cools down these guys will heat up the waterfront esplanade in BIP one more time. Please join us! \nA big thanks goes out to NYC Ferry for their support of this series. We thank New York City Parks & Recreation\, Brooklyn Borough President Eric Adams and North Brooklyn Parks Alliance for their support as well. \n 
URL:https://bushwickinletpark.org/event/ed-martinez/
LOCATION:Bushwick Inlet Park (86K)\, 86 Kent Ave\, Brooklyn\, NY\, 11249\, United States
CATEGORIES:Summer Music in BIP,Upcoming Events
ATTACH;FMTTYPE=image/jpeg:https://eadn-wc01-5191420.nxedge.io/wp-content/uploads/2021/06/ed-martinez-kook-element-2018.jpg
ORGANIZER;CN="Friends of Bushwick Inlet Park":MAILTO:info@bushwickinletpark.org
GEO:40.72206;-73.9614455
X-APPLE-STRUCTURED-LOCATION;VALUE=URI;X-ADDRESS=Bushwick Inlet Park (86K) 86 Kent Ave Brooklyn NY 11249 United States;X-APPLE-RADIUS=500;X-TITLE=86 Kent Ave:geo:-73.9614455,40.72206
END:VEVENT
BEGIN:VEVENT
DTSTART;TZID=America/New_York:20210819T183000
DTEND;TZID=America/New_York:20210819T200000
DTSTAMP:20260423T111430
CREATED:20210624T121206Z
LAST-MODIFIED:20210723T123133Z
UID:10000046-1629397800-1629403200@bushwickinletpark.org
SUMMARY:Summer Music in BIP: Alvin Flythe
DESCRIPTION:This Summer FBIP brings music to the beautiful waterfront in Bushwick Inlet Park with our first Summer Music in BIP series. As life is starting to look much brighter come take in a skyline river sunset on the shoreline esplanade while absorbing great musical vibes. \nNext\, the Jazz Foundation of America brings us Alvin Flythe. \nQueens native Alvin Wink Flythe started playing music at the age of six and has been a professional saxophonist for more than 50 years. At the age of 12\, he had the honor of playing with his cousin Duke Ellington\, and has since shared the stage with greats like Dizzy Gillespie\, Roy Haynes\, and Dr. Lonnie Smith\, touring Europe and the Caribbean. Flythe’s style is influenced by John Coltrane\, Dexter Gordon\, Sonny Rollins\, and Sonny Stitt\, and combines a funk aesthetic with classic jazz tones. \nA big thanks goes out to NYC Ferry for their support of this series. We thank New York City Parks & Recreation\, Brooklyn Borough President Eric Adams and North Brooklyn Parks Alliance for their support as well. \nPlease join us!
URL:https://bushwickinletpark.org/event/alvin-flythe/
LOCATION:Bushwick Inlet Park (86K)\, 86 Kent Ave\, Brooklyn\, NY\, 11249\, United States
CATEGORIES:Summer Music in BIP,Upcoming Events
ATTACH;FMTTYPE=image/jpeg:https://eadn-wc01-5191420.nxedge.io/wp-content/uploads/2021/06/alvin-flythe.jpg
ORGANIZER;CN="Friends of Bushwick Inlet Park":MAILTO:info@bushwickinletpark.org
GEO:40.72206;-73.9614455
X-APPLE-STRUCTURED-LOCATION;VALUE=URI;X-ADDRESS=Bushwick Inlet Park (86K) 86 Kent Ave Brooklyn NY 11249 United States;X-APPLE-RADIUS=500;X-TITLE=86 Kent Ave:geo:-73.9614455,40.72206
END:VEVENT
BEGIN:VEVENT
DTSTART;TZID=America/New_York:20210805T183000
DTEND;TZID=America/New_York:20210805T200000
DTSTAMP:20260423T111430
CREATED:20210624T120827Z
LAST-MODIFIED:20210709T123210Z
UID:10000045-1628188200-1628193600@bushwickinletpark.org
SUMMARY:Summer Music in BIP: Alma Adentro
DESCRIPTION:This Summer FBIP brings music to the beautiful waterfront in Bushwick Inlet Park with our first Summer Music in BIP series. As life is starting to look much brighter come take in a skyline river sunset on the shoreline esplanade while absorbing great musical vibes. \nNext up Alma Adentro for the next El Puente CADRE show! \nAlma Adentro is a New York City-based Puerto Rican musical ensemble that brings back the nostalgia of the Latin-American Boleros\, Guarachas & Cha cha chás with a dash of Danza Puertorriqueña. Named after the Sylvia Rexach song “Alma Adentro” or “Inside of your soul” in English\, this group of musicians seeks to touch our hearts through music with Yazmín Morales-Vicente (vocals)\, William Vázquez (guitar)\, Luis Rodríguez (Cuatro) and Elías De Jesús (percussion). To learn more about Alma Adentro\, you can follow them on Instagram @almaadentro787. \nA big thanks goes out to NYC Ferry for their support of this series. We thank New York City Parks & Recreation\, Brooklyn Borough President Eric Adams\, and North Brooklyn Parks Alliance for their support as well. \nPlease join us!
URL:https://bushwickinletpark.org/event/alma-adentro/
LOCATION:Bushwick Inlet Park (86K)\, 86 Kent Ave\, Brooklyn\, NY\, 11249\, United States
CATEGORIES:Summer Music in BIP,Upcoming Events
ATTACH;FMTTYPE=image/jpeg:https://eadn-wc01-5191420.nxedge.io/wp-content/uploads/2021/06/AlmaAdentro_photo2-1500.jpg
ORGANIZER;CN="Friends of Bushwick Inlet Park":MAILTO:info@bushwickinletpark.org
GEO:40.72206;-73.9614455
X-APPLE-STRUCTURED-LOCATION;VALUE=URI;X-ADDRESS=Bushwick Inlet Park (86K) 86 Kent Ave Brooklyn NY 11249 United States;X-APPLE-RADIUS=500;X-TITLE=86 Kent Ave:geo:-73.9614455,40.72206
END:VEVENT
BEGIN:VEVENT
DTSTART;TZID=America/New_York:20210722T183000
DTEND;TZID=America/New_York:20210722T200000
DTSTAMP:20260423T111430
CREATED:20210624T122527Z
LAST-MODIFIED:20210721T151700Z
UID:10000047-1626978600-1626984000@bushwickinletpark.org
SUMMARY:Summer Music in BIP: George Braith Quartet
DESCRIPTION:This Summer FBIP brings music to the beautiful waterfront in Bushwick Inlet Park with our first Summer Music in BIP series. As life is starting to look much brighter come take in a skyline river sunset on the shoreline esplanade while absorbing great musical vibes. \nNext up in partnership with the Jazz Foundation of America we welcome the George Braith Quartet. \nGeorge Braith (born George Timothy Braithwaite on June 26\, 1939) is a soul-jazz saxophonist from New York. Braith is known for playing multiple horns at once\, a technique pioneered by Roland Kirk. Braith is credited with the invention of the Braithophone\, two different horns (straight alto and soprano) mended together by extensions\, valves and connections.Braith is featured in a mosaic in the 72nd street station of the Second Avenue Subway in the New York City Subway system. \nA big thanks goes out to NYC Ferry for their support of this series. We thank New York City Parks & Recreation\, Brooklyn Borough President Eric Adams and North Brooklyn Parks Alliance for their support as well. \nPlease join us!
URL:https://bushwickinletpark.org/event/summer-music-in-bip-george-braith-quartet/
LOCATION:Bushwick Inlet Park (86K)\, 86 Kent Ave\, Brooklyn\, NY\, 11249\, United States
CATEGORIES:Summer Music in BIP,Upcoming Events
ATTACH;FMTTYPE=image/jpeg:https://eadn-wc01-5191420.nxedge.io/wp-content/uploads/2021/06/george-braith2.jpg
ORGANIZER;CN="Friends of Bushwick Inlet Park":MAILTO:info@bushwickinletpark.org
GEO:40.72206;-73.9614455
X-APPLE-STRUCTURED-LOCATION;VALUE=URI;X-ADDRESS=Bushwick Inlet Park (86K) 86 Kent Ave Brooklyn NY 11249 United States;X-APPLE-RADIUS=500;X-TITLE=86 Kent Ave:geo:-73.9614455,40.72206
END:VEVENT
BEGIN:VEVENT
DTSTART;TZID=America/New_York:20210715T183000
DTEND;TZID=America/New_York:20210715T200000
DTSTAMP:20260423T111430
CREATED:20210624T115700Z
LAST-MODIFIED:20210714T114339Z
UID:10000044-1626373800-1626379200@bushwickinletpark.org
SUMMARY:Summer Music in BIP: BombaYo
DESCRIPTION:This Summer FBIP brings music to the beautiful waterfront in Bushwick Inlet Park with our first Summer Music in BIP series. As life is starting to look much brighter come take in a skyline river sunset on the shoreline esplanade while absorbing great musical vibes. \nNext up up in partnership with El Puente CADRE we welcome BombaYo! \nBombaYo ignites the ancestral rhythms of Bomba\, an African derived music and dance tradition developed in Puerto Rico. The synergy of call and response singing\, drumming and dance provide the foundation for a dynamic interplay between the solo drummer and dancer. BombaYo stirs the soul in a way that only music and dance can to uplift and celebrate our deeper humanity. BombaYo creates an intergenerational and participatory experience that honors people of all ages and abilities. \nA big thanks goes out to NYC Ferry for their support of this series. We thank New York City Parks & Recreation\, Brooklyn Borough President Eric Adams and North Brooklyn Parks Alliance for their support as well. \nPlease join us!
URL:https://bushwickinletpark.org/event/summer-music-in-bip-bombayo/
LOCATION:Bushwick Inlet Park (86K)\, 86 Kent Ave\, Brooklyn\, NY\, 11249\, United States
CATEGORIES:Summer Music in BIP,Upcoming Events
ATTACH;FMTTYPE=image/jpeg:https://eadn-wc01-5191420.nxedge.io/wp-content/uploads/2021/06/BombaYo.jpg
ORGANIZER;CN="Friends of Bushwick Inlet Park":MAILTO:info@bushwickinletpark.org
GEO:40.72206;-73.9614455
X-APPLE-STRUCTURED-LOCATION;VALUE=URI;X-ADDRESS=Bushwick Inlet Park (86K) 86 Kent Ave Brooklyn NY 11249 United States;X-APPLE-RADIUS=500;X-TITLE=86 Kent Ave:geo:-73.9614455,40.72206
END:VEVENT
BEGIN:VEVENT
DTSTART;TZID=America/New_York:20210624T183000
DTEND;TZID=America/New_York:20210624T200000
DTSTAMP:20260423T111430
CREATED:20210617T125351Z
LAST-MODIFIED:20210624T115900Z
UID:10000042-1624559400-1624564800@bushwickinletpark.org
SUMMARY:Summer Music in BIP: Craig Holiday Haynes
DESCRIPTION:This Summer FBIP brings music to the beautiful waterfront in Bushwick Inlet Park with our first Summer Music in BIP series. As life is starting to look much brighter come take in a skyline river sunset on the shoreline esplanade while absorbing great musical vibes. \nFirst up in partnership with the Jazz Foundation of America we welcome the Craig Holiday Haynes Quartet. \nAcclaimed drummer Craig Holiday Haynes\, the son of legendary drummer and three-time Grammy Award winner Roy Haynes\, brings his craft to Brooklyn. Named after Billie Holiday\, he started playing tenor sax at age 14 in and around NYC with a group called the Fabulous Uniques. Craig later studied African percussion with Chief Bey and seriously switched over to a drum set around his 20th birthday. He’s toured with R&B/ Disco artist “Gary Toms Empire”\, Sun Ra (with whom he’s also recorded) and has since played an assortment of great jazz\, blues\, R&B\, and most recently gospel with folks such as Barry Harris\, Clifford Jordan\, Freddie Hubbard\, Gloria Lynne\, Lionel Hampton\, Tony Bennett\, The Boys Choir of Harlem\, The Allman Brothers Band\, Leslie West\, Geri Allen\, Marcus Miller\, Gladys Knight\, Eddie Palmeri\, actor Danny Glover (to name a few) and many\, many others! \nA big thanks goes out to NYC Ferry for their support of this series. We thank New York City Parks & Recreation for their support as well. \nPlease join us!
URL:https://bushwickinletpark.org/event/summer-music-in-bip-craig-holiday-haynes/
LOCATION:Bushwick Inlet Park (86K)\, 86 Kent Ave\, Brooklyn\, NY\, 11249\, United States
CATEGORIES:Summer Music in BIP,Upcoming Events
ATTACH;FMTTYPE=image/jpeg:https://eadn-wc01-5191420.nxedge.io/wp-content/uploads/2021/06/Craig_Haynes_16-9.jpg
ORGANIZER;CN="Friends of Bushwick Inlet Park":MAILTO:info@bushwickinletpark.org
GEO:40.72206;-73.9614455
X-APPLE-STRUCTURED-LOCATION;VALUE=URI;X-ADDRESS=Bushwick Inlet Park (86K) 86 Kent Ave Brooklyn NY 11249 United States;X-APPLE-RADIUS=500;X-TITLE=86 Kent Ave:geo:-73.9614455,40.72206
END:VEVENT
END:VCALENDAR