BEGIN:VCALENDAR
VERSION:2.0
PRODID:-//Friends of Bushwick Inlet Park - ECPv6.15.20//NONSGML v1.0//EN
CALSCALE:GREGORIAN
METHOD:PUBLISH
X-WR-CALNAME:Friends of Bushwick Inlet Park
X-ORIGINAL-URL:https://bushwickinletpark.org
X-WR-CALDESC:Events for Friends of Bushwick Inlet Park
REFRESH-INTERVAL;VALUE=DURATION:PT1H
X-Robots-Tag:noindex
X-PUBLISHED-TTL:PT1H
BEGIN:VTIMEZONE
TZID:America/New_York
BEGIN:DAYLIGHT
TZOFFSETFROM:-0500
TZOFFSETTO:-0400
TZNAME:EDT
DTSTART:20230312T070000
END:DAYLIGHT
BEGIN:STANDARD
TZOFFSETFROM:-0400
TZOFFSETTO:-0500
TZNAME:EST
DTSTART:20231105T060000
END:STANDARD
BEGIN:DAYLIGHT
TZOFFSETFROM:-0500
TZOFFSETTO:-0400
TZNAME:EDT
DTSTART:20240310T070000
END:DAYLIGHT
BEGIN:STANDARD
TZOFFSETFROM:-0400
TZOFFSETTO:-0500
TZNAME:EST
DTSTART:20241103T060000
END:STANDARD
BEGIN:DAYLIGHT
TZOFFSETFROM:-0500
TZOFFSETTO:-0400
TZNAME:EDT
DTSTART:20250309T070000
END:DAYLIGHT
BEGIN:STANDARD
TZOFFSETFROM:-0400
TZOFFSETTO:-0500
TZNAME:EST
DTSTART:20251102T060000
END:STANDARD
END:VTIMEZONE
BEGIN:VEVENT
DTSTART;TZID=America/New_York:20240907T110000
DTEND;TZID=America/New_York:20240907T160000
DTSTAMP:20260424T082320
CREATED:20240819T213945Z
LAST-MODIFIED:20240904T201223Z
UID:10000617-1725706800-1725724800@bushwickinletpark.org
SUMMARY:Seamus's Field Day
DESCRIPTION:Friends of Bushwick Inlet Park / Greenpoint Williamsburg Youth Soccer League present \nSeamus Wood Family Fun Field Day and Coastal Classroom’s Marine Exploration of the East River Waterfront \n\nOpening Day of GWYSL\nGames\, races\, picnics\n11am-11:45am Yoga Tots & Crafts: yoga play and crafts for toddlers 13 months – 3 years. Please bring a mat/blanket & water to practice\n11am-2pm- Coastal Classroom: exploration of marine life along the shoreline of Bushwick Inlet Park including seining and oyster monitoring – Please register for this program\nSing along for toddlers\nPicnics\nLive music- Old Rugged Sauce\n\nFREE  ALL WELCOME \nFamilies\, kids\, toddlers\, citizen scientists \nSponsors & Supporters \nGWYSL\, Hudson River Foundation\, City Parks Foundation Coastal Classroom\, North Brooklyn Community Boathouse \n 
URL:https://bushwickinletpark.org/event/seamus-field-day-2/
LOCATION:Bushwick Inlet Park (86K)\, 86 Kent Ave\, Brooklyn\, NY\, 11249\, United States
CATEGORIES:86 Kent,Environmental Education,Upcoming Events
ATTACH;FMTTYPE=image/jpeg:https://eadn-wc01-5191420.nxedge.io/wp-content/uploads/2024/08/SEAMUS-FD-BANNER-ALT.jpg
ORGANIZER;CN="Friends of Bushwick Inlet Park":MAILTO:info@bushwickinletpark.org
GEO:40.72206;-73.9614455
X-APPLE-STRUCTURED-LOCATION;VALUE=URI;X-ADDRESS=Bushwick Inlet Park (86K) 86 Kent Ave Brooklyn NY 11249 United States;X-APPLE-RADIUS=500;X-TITLE=86 Kent Ave:geo:-73.9614455,40.72206
END:VEVENT
END:VCALENDAR