BEGIN:VCALENDAR
VERSION:2.0
PRODID:-//Friends of Bushwick Inlet Park - ECPv6.15.20//NONSGML v1.0//EN
CALSCALE:GREGORIAN
METHOD:PUBLISH
X-ORIGINAL-URL:https://bushwickinletpark.org
X-WR-CALDESC:Events for Friends of Bushwick Inlet Park
REFRESH-INTERVAL;VALUE=DURATION:PT1H
X-Robots-Tag:noindex
X-PUBLISHED-TTL:PT1H
BEGIN:VTIMEZONE
TZID:America/New_York
BEGIN:DAYLIGHT
TZOFFSETFROM:-0500
TZOFFSETTO:-0400
TZNAME:EDT
DTSTART:20250309T070000
END:DAYLIGHT
BEGIN:STANDARD
TZOFFSETFROM:-0400
TZOFFSETTO:-0500
TZNAME:EST
DTSTART:20251102T060000
END:STANDARD
BEGIN:DAYLIGHT
TZOFFSETFROM:-0500
TZOFFSETTO:-0400
TZNAME:EDT
DTSTART:20260308T070000
END:DAYLIGHT
BEGIN:STANDARD
TZOFFSETFROM:-0400
TZOFFSETTO:-0500
TZNAME:EST
DTSTART:20261101T060000
END:STANDARD
BEGIN:DAYLIGHT
TZOFFSETFROM:-0500
TZOFFSETTO:-0400
TZNAME:EDT
DTSTART:20270314T070000
END:DAYLIGHT
BEGIN:STANDARD
TZOFFSETFROM:-0400
TZOFFSETTO:-0500
TZNAME:EST
DTSTART:20271107T060000
END:STANDARD
END:VTIMEZONE
BEGIN:VEVENT
DTSTART;TZID=America/New_York:20260307T130000
DTEND;TZID=America/New_York:20260307T153000
DTSTAMP:20260424T031804
CREATED:20260223T215516Z
LAST-MODIFIED:20260223T215820Z
UID:10000727-1772888400-1772897400@bushwickinletpark.org
SUMMARY:Biology/Art: The Fungus Among Us
DESCRIPTION:Join scientific illustrator Monica Schroeder for a beginner-friendly watercolor workshop. \nRequired free registration \n\n\nWe’ll begin with a brief presentation featuring fun facts about fungi\, an introduction to color theory\, and practical tips for drawing and watercolors. Then we’ll move into a step-by-step paint-along session—perfect for complete beginners and a welcome warm-up for more experienced painters. \nAfter the guided portion\, you’ll have plenty of time to relax and paint at your own pace\, with Monica available for individualized guidance and feedback. \nAll materials are provided\, but you’re welcome to bring your own supplies if you prefer: \n\nWatercolor paper\nPaints\nPalette\nBrushes\nPencils\, Colored Pencils\nFineliner markers\n\nCome discover the surprising science of fungi while building your watercolor skills. \nChildren above 14 must be accompanied by a guardian. \nTaught by Monica Schroeder\, scientific illustrator & kayaker\nmonbertkayak@gmail.com \nMedical & Scientific Illustration\nIllustration Portfolio
URL:https://bushwickinletpark.org/event/biology-art-the-fungus-among-us/
LOCATION:Bushwick Inlet Park (86K)\, 86 Kent Ave\, Brooklyn\, NY\, 11249\, United States
CATEGORIES:86 Kent,Class,Upcoming Events
ATTACH;FMTTYPE=image/jpeg:https://eadn-wc01-5191420.nxedge.io/wp-content/uploads/2026/02/fungi-graphic-2-scaled.jpg
ORGANIZER;CN="Friends of Bushwick Inlet Park":MAILTO:info@bushwickinletpark.org
GEO:40.72206;-73.9614455
X-APPLE-STRUCTURED-LOCATION;VALUE=URI;X-ADDRESS=Bushwick Inlet Park (86K) 86 Kent Ave Brooklyn NY 11249 United States;X-APPLE-RADIUS=500;X-TITLE=86 Kent Ave:geo:-73.9614455,40.72206
END:VEVENT
BEGIN:VEVENT
DTSTART;TZID=America/New_York:20260411T100000
DTEND;TZID=America/New_York:20260411T130000
DTSTAMP:20260424T031804
CREATED:20260403T104756Z
LAST-MODIFIED:20260403T104756Z
UID:10000728-1775901600-1775912400@bushwickinletpark.org
SUMMARY:It's My Park Day Spring 2026
DESCRIPTION:Come lend a hand opening up the gardens for the season in Bushwick Inlet Park. \nLocation\nBushwick Inlet Park (50 Kent Ave)\n50 Kent Avenue Brooklyn\, NY 11249 \nHelp us mulch and plant the garden beds in BIP’s 50 Kent Ave section. We have tools and gloves (but bring yours if you have them)! Wear clothes that can get dirty and a bring a water bottle. It’s lots of fun- meet other garden aficionados\, identify plants\, discuss best weeding practices :). \nMeet at 50 Kent Ave section (@ N 11th Street) in Williamsburg Brooklyn. \nWe are grateful for support from NYC Parks\, Partnerships for Parks and North Brooklyn Parks Alliance. \nPlease register. \nWe are grateful for support from NYC Parks\, Partnerships for Parks and North Brooklyn Parks Alliance.
URL:https://bushwickinletpark.org/event/its-my-park-day-spring-2026/
LOCATION:Bushwick Inlet Park (50 Kent Ave)\, 50 Kent Ave\, Brooklyn\, NY\, 11249\, United States
CATEGORIES:50 Kent,Gardening,Upcoming Events
ATTACH;FMTTYPE=image/jpeg:https://eadn-wc01-5191420.nxedge.io/wp-content/uploads/2026/04/Its-My-Park-Day-Post-opt.jpg
ORGANIZER;CN="Friends of Bushwick Inlet Park":MAILTO:info@bushwickinletpark.org
GEO:40.7231845;-73.9597003
X-APPLE-STRUCTURED-LOCATION;VALUE=URI;X-ADDRESS=Bushwick Inlet Park (50 Kent Ave) 50 Kent Ave Brooklyn NY 11249 United States;X-APPLE-RADIUS=500;X-TITLE=50 Kent Ave:geo:-73.9597003,40.7231845
END:VEVENT
BEGIN:VEVENT
DTSTART;TZID=America/New_York:20260604T183000
DTEND;TZID=America/New_York:20260604T210000
DTSTAMP:20260424T031804
CREATED:20260421T185717Z
LAST-MODIFIED:20260421T190739Z
UID:10000759-1780597800-1780606800@bushwickinletpark.org
SUMMARY:3rd Annual Park~raiser
DESCRIPTION:Join us for Park~Raiser 2026\, our annual fundraiser in support of Bushwick Inlet Park. \nA night on the Williamsburg waterfront bringing together neighbors\, friends\, and local supporters to connect\, celebrate our shared commitment to the park\, and help keep this green space thriving. \nEnjoy: \n\nOpen bar\nFood and drinks from local partners\nMusic and a lively atmosphere\nSilent auction\n200+ guests from the North Brooklyn community\n\nLast year’s event sold out. We are excited to make this one even better. \nYour support helps sustain park stewardship\, expand community programming\, and shape the future of Bushwick Inlet Park. \nCocktail Attire. \n~ Friends of Bushwick Inlet Park \n  \nGET TICKETS\n\n  \nSponsors\n  \n \n  \n 
URL:https://bushwickinletpark.org/event/3rd-annual-parkraiser/
LOCATION:Vesper Events\, 25 Kent Ave\, South Bldg 4th Fl\, Brooklyn\, 11249\, United States
CATEGORIES:Gala,Upcoming Events
ATTACH;FMTTYPE=image/jpeg:https://eadn-wc01-5191420.nxedge.io/wp-content/uploads/2026/04/FBIP-Gala-Website-v2.jpeg
ORGANIZER;CN="Friends of Bushwick Inlet Park":MAILTO:info@bushwickinletpark.org
GEO:40.7230345;-73.9575412
X-APPLE-STRUCTURED-LOCATION;VALUE=URI;X-ADDRESS=Vesper Events 25 Kent Ave South Bldg 4th Fl Brooklyn 11249 United States;X-APPLE-RADIUS=500;X-TITLE=25 Kent Ave\, South Bldg 4th Fl:geo:-73.9575412,40.7230345
END:VEVENT
END:VCALENDAR