BEGIN:VCALENDAR
VERSION:2.0
PRODID:-//Friends of Bushwick Inlet Park - ECPv6.15.20//NONSGML v1.0//EN
CALSCALE:GREGORIAN
METHOD:PUBLISH
X-ORIGINAL-URL:https://bushwickinletpark.org
X-WR-CALDESC:Events for Friends of Bushwick Inlet Park
REFRESH-INTERVAL;VALUE=DURATION:PT1H
X-Robots-Tag:noindex
X-PUBLISHED-TTL:PT1H
BEGIN:VTIMEZONE
TZID:America/New_York
BEGIN:DAYLIGHT
TZOFFSETFROM:-0500
TZOFFSETTO:-0400
TZNAME:EDT
DTSTART:20210314T070000
END:DAYLIGHT
BEGIN:STANDARD
TZOFFSETFROM:-0400
TZOFFSETTO:-0500
TZNAME:EST
DTSTART:20211107T060000
END:STANDARD
BEGIN:DAYLIGHT
TZOFFSETFROM:-0500
TZOFFSETTO:-0400
TZNAME:EDT
DTSTART:20220313T070000
END:DAYLIGHT
BEGIN:STANDARD
TZOFFSETFROM:-0400
TZOFFSETTO:-0500
TZNAME:EST
DTSTART:20221106T060000
END:STANDARD
BEGIN:DAYLIGHT
TZOFFSETFROM:-0500
TZOFFSETTO:-0400
TZNAME:EDT
DTSTART:20230312T070000
END:DAYLIGHT
BEGIN:STANDARD
TZOFFSETFROM:-0400
TZOFFSETTO:-0500
TZNAME:EST
DTSTART:20231105T060000
END:STANDARD
END:VTIMEZONE
BEGIN:VEVENT
DTSTART;TZID=America/New_York:20220129T143000
DTEND;TZID=America/New_York:20220129T160000
DTSTAMP:20260425T231622
CREATED:20220114T191536Z
LAST-MODIFIED:20220116T001306Z
UID:10000168-1643466600-1643472000@bushwickinletpark.org
SUMMARY:Biology/Art Class: Watercolor & Oil Pastel\, Wildlife of the Inlet: Plankton
DESCRIPTION:Join Friends of Bushwick Inlet Park on Zoom (again!) for an afternoon of science and art instruction! \nSo many beautiful creatures live in Bushwick Inlet. Birds\, fish\, oysters and so much more. Their life cycle\, and ours\, begins with microscopic\, magical plankton. They form the basis of the food chain\, providing 50% of our oxygen\, and are drifting in our local waterways by the thousands.  \nFollowing a 20-minute presentation\, we will create a drawing using the resist method\, first drawing with oil pastels or crayons\, then layering with watercolor and adding final details with additional drawing. \nA pdf of a coccolithophore outline is available to download\, print and trace or draw along to create a fanciful jellyfish. Drawing from your imagination and creating your own microscopic sea life is also encouraged! \nNo experience necessary.  \nOil pastels or crayons and watercolors are recommended\, but any art supplies will do for this guided & relaxing art project for beginners and artists of all levels. \nTaught by Monica Schroeder\, scientific illustrator & kayaker. monbertkayak@gmail.com \nSuggested Supplies: \n\nOil pastel or wax crayons\nDrawing Pencils – 2B & 6B if possible (or colored chalk)\nWatercolors\, brushes\, water\, paper towel\, scrap paper to test colors\nWatercolor paper or paper for your medium\, 8 x 10 or 11 x 4\nWhite or other gel pens for details\nColored carbon paper\, if on hand\n\n———————- \nLink to optional templates to download and print: \nhttps://artistmonicaschroeder.com/class-resources \n————————- \n90 minutes via Zoom until we can safely gather in person\, * registration required *.
URL:https://bushwickinletpark.org/event/biology-art-class-watercolor-oil-pastel-wildlife-of-the-inlet-plankton/
LOCATION:Zoom
CATEGORIES:Class,Upcoming Events
ATTACH;FMTTYPE=image/jpeg:https://eadn-wc01-5191420.nxedge.io/wp-content/uploads/2022/01/IMG_4036.jpg
ORGANIZER;CN="Friends of Bushwick Inlet Park":MAILTO:info@bushwickinletpark.org
END:VEVENT
END:VCALENDAR