BEGIN:VCALENDAR
VERSION:2.0
PRODID:-//Friends of Bushwick Inlet Park - ECPv6.15.20//NONSGML v1.0//EN
CALSCALE:GREGORIAN
METHOD:PUBLISH
X-WR-CALNAME:Friends of Bushwick Inlet Park
X-ORIGINAL-URL:https://bushwickinletpark.org
X-WR-CALDESC:Events for Friends of Bushwick Inlet Park
REFRESH-INTERVAL;VALUE=DURATION:PT1H
X-Robots-Tag:noindex
X-PUBLISHED-TTL:PT1H
BEGIN:VTIMEZONE
TZID:America/New_York
BEGIN:DAYLIGHT
TZOFFSETFROM:-0500
TZOFFSETTO:-0400
TZNAME:EDT
DTSTART:20210314T070000
END:DAYLIGHT
BEGIN:STANDARD
TZOFFSETFROM:-0400
TZOFFSETTO:-0500
TZNAME:EST
DTSTART:20211107T060000
END:STANDARD
BEGIN:DAYLIGHT
TZOFFSETFROM:-0500
TZOFFSETTO:-0400
TZNAME:EDT
DTSTART:20220313T070000
END:DAYLIGHT
BEGIN:STANDARD
TZOFFSETFROM:-0400
TZOFFSETTO:-0500
TZNAME:EST
DTSTART:20221106T060000
END:STANDARD
BEGIN:DAYLIGHT
TZOFFSETFROM:-0500
TZOFFSETTO:-0400
TZNAME:EDT
DTSTART:20230312T070000
END:DAYLIGHT
BEGIN:STANDARD
TZOFFSETFROM:-0400
TZOFFSETTO:-0500
TZNAME:EST
DTSTART:20231105T060000
END:STANDARD
END:VTIMEZONE
BEGIN:VEVENT
DTSTART;TZID=America/New_York:20220226T143000
DTEND;TZID=America/New_York:20220226T160000
DTSTAMP:20260425T215020
CREATED:20220214T143612Z
LAST-MODIFIED:20220226T145545Z
UID:10000169-1645885800-1645891200@bushwickinletpark.org
SUMMARY:Art Instruction: Cut Paper Collage
DESCRIPTION:Join us on Zoom for an afternoon of painting & cut paper collaging with local gardener\, artist and card designer Llubav Choy Doerr.\n\n\n\n\n\n\n\nThe inspiration for this class is based on our local community gardens and parks and the plants that are found there. Llubav is a member of the Java Street Community Garden in Greenpoint\, down the road from Bushwick Inlet Park\, in northern Brooklyn\, NY. The plants from her plot there are often the subjects of many of her paintings and greeting cards. \nShe will share her tips and techniques in creating her beautiful and whimsical designs. We will hand paint on different types of papers using a mix of tempera\, acrylic\, gouache\, watercolor\, crayons and colored pencils (or whatever else you might have on hand). Once we have created a mixture of colorful and textured raw materials\, we will then cut and make shapes which will be glued to a larger sheet of paper or cardstock to create a unique and playful collage. \nwww.llubav.com \n@llubav \nFlower Templates which could be printed will be included in the reminder email for those who prefer to follow along: creating your own imaginary garden or design is encouraged. \nDownload a template here. \nNo experience necessary. * Registration required. * \nSuggested Supplies: \n\nBrown paper bag\nMixed media paper 80-98 lb weight\nLight color construction paper\nScissors (comfortable size to cut small shapes)\nBig and medium sized brushes\nElmer’s liquid glue\, paste or glue stick\nColored Paints (Acrylic\, Guache\, Tempera\, Watercolor)\nColor pencils or Crayons\nBlue painters tape\nHairdryer\nA color palette tray\, plate or paper palette\n\n 
URL:https://bushwickinletpark.org/event/art-instruction-cut-paper-collage/
LOCATION:Zoom
CATEGORIES:Class
ATTACH;FMTTYPE=image/jpeg:https://eadn-wc01-5191420.nxedge.io/wp-content/uploads/2022/02/art-collage-class-header.jpeg
ORGANIZER;CN="Friends of Bushwick Inlet Park":MAILTO:info@bushwickinletpark.org
END:VEVENT
END:VCALENDAR