BEGIN:VCALENDAR
VERSION:2.0
PRODID:-//Friends of Bushwick Inlet Park - ECPv6.15.20//NONSGML v1.0//EN
CALSCALE:GREGORIAN
METHOD:PUBLISH
X-ORIGINAL-URL:https://bushwickinletpark.org
X-WR-CALDESC:Events for Friends of Bushwick Inlet Park
REFRESH-INTERVAL;VALUE=DURATION:PT1H
X-Robots-Tag:noindex
X-PUBLISHED-TTL:PT1H
BEGIN:VTIMEZONE
TZID:America/New_York
BEGIN:DAYLIGHT
TZOFFSETFROM:-0500
TZOFFSETTO:-0400
TZNAME:EDT
DTSTART:20210314T070000
END:DAYLIGHT
BEGIN:STANDARD
TZOFFSETFROM:-0400
TZOFFSETTO:-0500
TZNAME:EST
DTSTART:20211107T060000
END:STANDARD
BEGIN:DAYLIGHT
TZOFFSETFROM:-0500
TZOFFSETTO:-0400
TZNAME:EDT
DTSTART:20220313T070000
END:DAYLIGHT
BEGIN:STANDARD
TZOFFSETFROM:-0400
TZOFFSETTO:-0500
TZNAME:EST
DTSTART:20221106T060000
END:STANDARD
BEGIN:DAYLIGHT
TZOFFSETFROM:-0500
TZOFFSETTO:-0400
TZNAME:EDT
DTSTART:20230312T070000
END:DAYLIGHT
BEGIN:STANDARD
TZOFFSETFROM:-0400
TZOFFSETTO:-0500
TZNAME:EST
DTSTART:20231105T060000
END:STANDARD
END:VTIMEZONE
BEGIN:VEVENT
DTSTART;TZID=America/New_York:20220323T183000
DTEND;TZID=America/New_York:20220323T203000
DTSTAMP:20260425T202408
CREATED:20220305T221851Z
LAST-MODIFIED:20220318T123842Z
UID:10000170-1648060200-1648067400@bushwickinletpark.org
SUMMARY:4th Annual Vernal Convocation
DESCRIPTION:Save Bushwick Inlet\nA massive private luxury housing development on the MTA’s 40 Quay St property in Greenpoint threatens the ecologically unique Bushwick Inlet. What’s at Stake? What are the Facts? What can be Done? Is there a Green Alternative? \nCome tell us what you think! \nAlso\, hear about the status of the various phases of the 27-acre park. And\, get a glimpse of FBIP programming planned for the park\, including but limited to more art classes\, Riverkeeper Sweep\, It’s My Park Days\, weekly gardening\, Summer Music Series\, oyster monitoring and the Coastal Classroom. \nCome join us for this spring gathering to help save and savor the park on the the inlet. \nRegister here.
URL:https://bushwickinletpark.org/event/4th-annual-vernal-convocation/
LOCATION:Zoom
CATEGORIES:Upcoming Events
ATTACH;FMTTYPE=image/jpeg:https://eadn-wc01-5191420.nxedge.io/wp-content/uploads/2022/03/40_flyer_header-opt.jpg
ORGANIZER;CN="Friends of Bushwick Inlet Park":MAILTO:info@bushwickinletpark.org
END:VEVENT
BEGIN:VEVENT
DTSTART;TZID=America/New_York:20220326T143000
DTEND;TZID=America/New_York:20220326T160000
DTSTAMP:20260425T202408
CREATED:20220314T123414Z
LAST-MODIFIED:20220314T142539Z
UID:10000171-1648305000-1648310400@bushwickinletpark.org
SUMMARY:Intro to Nature Journaling - Part One Flora & Fauna - Techniques and Tips
DESCRIPTION:Join Friends of Bushwick Inlet Park on Zoom (again!) for an afternoon of science and art instruction with Monica! \nSo much inspiration thrives in Bushwick Inlet Park. Nature Journaling focuses on the appreciation of nature while recording observations and impressions. Open to all nature enthusiasts. All you need is paper\, a pencil and your curiosity. \nFollowing a 15-minute presentation briefly reviewing the history of and the local flora and fauna of the East River\, we will cover commonly used art supplies such as watercolor & color pencils kits for use in the field. We’ll discuss options such as phenology\, detail studies\, the use of text and common notations\, minimal data to include\, indexing\, and the three basic questions used in the John Muir Laws approach and practice drawing together. \nMinimum supplies: \nPaper and pencil. \nPaint\, colored pencil\, markers and pens – or any other medium you might have available or wish to explore. \nA subject you would like to draw at the ready – plants\, vegetables\, a piece of fruit are all great options\, but any object is fine! \nNo experience necessary. Part 2 and field trips are planned for later in the spring for those of you who might be able to join in person – please watch for more information. \nTaught by Monica Schroeder\, scientific illustrator & kayaker. \nmonbertkayak@gmail.com
URL:https://bushwickinletpark.org/event/intro-to-nature-journaling-part-one-flora-fauna-techniques-and-tips/
LOCATION:Zoom
CATEGORIES:Class
ATTACH;FMTTYPE=image/jpeg:https://eadn-wc01-5191420.nxedge.io/wp-content/uploads/2022/03/nature-journal-header-1400.jpg
ORGANIZER;CN="Friends of Bushwick Inlet Park":MAILTO:info@bushwickinletpark.org
END:VEVENT
END:VCALENDAR