BEGIN:VCALENDAR
VERSION:2.0
PRODID:-//Friends of Bushwick Inlet Park - ECPv6.15.20//NONSGML v1.0//EN
CALSCALE:GREGORIAN
METHOD:PUBLISH
X-ORIGINAL-URL:https://bushwickinletpark.org
X-WR-CALDESC:Events for Friends of Bushwick Inlet Park
REFRESH-INTERVAL;VALUE=DURATION:PT1H
X-Robots-Tag:noindex
X-PUBLISHED-TTL:PT1H
BEGIN:VTIMEZONE
TZID:America/New_York
BEGIN:DAYLIGHT
TZOFFSETFROM:-0500
TZOFFSETTO:-0400
TZNAME:EDT
DTSTART:20210314T070000
END:DAYLIGHT
BEGIN:STANDARD
TZOFFSETFROM:-0400
TZOFFSETTO:-0500
TZNAME:EST
DTSTART:20211107T060000
END:STANDARD
BEGIN:DAYLIGHT
TZOFFSETFROM:-0500
TZOFFSETTO:-0400
TZNAME:EDT
DTSTART:20220313T070000
END:DAYLIGHT
BEGIN:STANDARD
TZOFFSETFROM:-0400
TZOFFSETTO:-0500
TZNAME:EST
DTSTART:20221106T060000
END:STANDARD
BEGIN:DAYLIGHT
TZOFFSETFROM:-0500
TZOFFSETTO:-0400
TZNAME:EDT
DTSTART:20230312T070000
END:DAYLIGHT
BEGIN:STANDARD
TZOFFSETFROM:-0400
TZOFFSETTO:-0500
TZNAME:EST
DTSTART:20231105T060000
END:STANDARD
END:VTIMEZONE
BEGIN:VEVENT
DTSTART;TZID=America/New_York:20220706T180000
DTEND;TZID=America/New_York:20220706T193000
DTSTAMP:20260425T143751
CREATED:20220509T152040Z
LAST-MODIFIED:20221101T181111Z
UID:10000182-1657130400-1657135800@bushwickinletpark.org
SUMMARY:Weeding Wednesdays 2022
DESCRIPTION:Join us every week as we weed\, mulch\, tend bushes and blossoms\, sometimes plant and water (if necessary). We have tools and gloves (but bring yours if you have them). Bring a water bottle. Everyone welcome but please note in your sign up if you are bringing others. See you there!\n\nPlease register.
URL:https://bushwickinletpark.org/event/weeding-wednesdays-2022/2022-07-06/
LOCATION:Bushwick Inlet Park (86K)\, 86 Kent Ave\, Brooklyn\, NY\, 11249\, United States
CATEGORIES:Gardening,Upcoming Events
ATTACH;FMTTYPE=image/jpeg:https://eadn-wc01-5191420.nxedge.io/wp-content/uploads/2022/05/weeding-wed-header-2022-16x9-1.jpg
ORGANIZER;CN="Friends of Bushwick Inlet Park":MAILTO:info@bushwickinletpark.org
GEO:40.72206;-73.9614455
X-APPLE-STRUCTURED-LOCATION;VALUE=URI;X-ADDRESS=Bushwick Inlet Park (86K) 86 Kent Ave Brooklyn NY 11249 United States;X-APPLE-RADIUS=500;X-TITLE=86 Kent Ave:geo:-73.9614455,40.72206
END:VEVENT
BEGIN:VEVENT
DTSTART;TZID=America/New_York:20220707T183000
DTEND;TZID=America/New_York:20220707T200000
DTSTAMP:20260425T143751
CREATED:20220617T140113Z
LAST-MODIFIED:20220617T140704Z
UID:10000058-1657218600-1657224000@bushwickinletpark.org
SUMMARY:Summer Music in BIP 2022: Ali Dineen with Feral Foster
DESCRIPTION:For the second summer FBIP brings music to the beautiful waterfront in Bushwick Inlet Park with our Summer Music in BIP 2022 series. Come take in a skyline river sunset on the 86 Kent shoreline esplanade while absorbing great musical vibes from multiple genres. \nNext\, Jackson Lynch & Friends brings us Ali Dineen with Feral Foster. \nAli Dineen is a poet-composer born and raised in Queens\, whose lyrics are poetic and deeply personal\, and highlight the intersections between personal experience\, larger histories\, and systems of power. Ali has performed at the Museum of Art and Design\, the Caramoor American Roots Music Festival\, the American Folk Art Museum\, and the Brooklyn Folk Festival\, among other wonderful venues\, and was awarded the Helene Wurlitzer Foundation Residency in 2020. Ali is also the music director for local puppet troupe extraordinaire The Boxcutter Collective\, arranges music and sings with Reverend Billy & the Stop Shopping Choir\, and is part of a duet with the inimitable Feral Foster. Ali released a third album\, Hold On\, in 2020\, and is currently working on a new piece about Joan of Arc. \nA big thanks goes out this year’s sponsors: \n\nCity Parks Foundation\nEl Puente\nNYC Ferry\nNorth Brooklyn Parks Alliance\n25 Kent\nNYC Department of Parks & Recreation\nJazz Foundation of American\nRubenstein Partners\nNYC Department of Cultural Affairs\nBrooklyn Arts Council\nNew York State Council on the Arts\n\nPlease join us!
URL:https://bushwickinletpark.org/event/summer-music-in-bip-2022-ali-dineen/
LOCATION:Bushwick Inlet Park (86K)\, 86 Kent Ave\, Brooklyn\, NY\, 11249\, United States
CATEGORIES:86 Kent,Summer Music in BIP,Upcoming Events
ATTACH;FMTTYPE=image/jpeg:https://eadn-wc01-5191420.nxedge.io/wp-content/uploads/2022/06/Ali-dineen.jpeg
ORGANIZER;CN="Friends of Bushwick Inlet Park":MAILTO:info@bushwickinletpark.org
GEO:40.72206;-73.9614455
X-APPLE-STRUCTURED-LOCATION;VALUE=URI;X-ADDRESS=Bushwick Inlet Park (86K) 86 Kent Ave Brooklyn NY 11249 United States;X-APPLE-RADIUS=500;X-TITLE=86 Kent Ave:geo:-73.9614455,40.72206
END:VEVENT
BEGIN:VEVENT
DTSTART;TZID=America/New_York:20220707T203000
DTEND;TZID=America/New_York:20220707T223000
DTSTAMP:20260425T143751
CREATED:20220614T031030Z
LAST-MODIFIED:20220701T133539Z
UID:10000054-1657225800-1657233000@bushwickinletpark.org
SUMMARY:Movies Under the Stars: The Nowhere Inn
DESCRIPTION:Grab a blanket and come enjoy a movie in a neighborhood park or playground! This summer\, NYC Parks and The Mayor’s Office of Media and Entertainment will host family-friendly movie showings across the five boroughs. \nThe Nowhere Inn – 2020 – Director: Bill Benz; Writers: Carrie Brownstein\, St. Vincent\nStars: St. Vincent Ezra Buzzington\, Toko Yasuda \nSt. Vincent sets out to make a documentary about her music\, but when she hires a close friend to direct\, notions of reality\, identity\, and authenticity grow increasingly distorted and bizarre \nMovies begin at dusk. This event is FREE and open to the public. Glass bottles and alcoholic beverages are strictly prohibited. In the event of heavy rain or extreme weather\, the screening may be canceled. The decision to cancel the event will be made prior to the screening and will be prominently posted on our website. \nFor more information visit nyc.gov/parks or call 311. Contact (212) 360-1430 or accessibility@parks.nyc.gov for more information regarding accessibility.
URL:https://bushwickinletpark.org/event/movies-under-the-stars-the-nowhere-inn/
LOCATION:Bushwick Inlet Park (50 Kent Ave)\, 50 Kent Ave\, Brooklyn\, NY\, 11249\, United States
CATEGORIES:50 Kent,Film
ATTACH;FMTTYPE=image/jpeg:https://eadn-wc01-5191420.nxedge.io/wp-content/uploads/2022/06/nowhere-inn-16x9-1.jpg
ORGANIZER;CN="NYC Parks & Recreation":MAILTO:BKspecialevents@parks.nyc.gov
GEO:40.7231845;-73.9597003
X-APPLE-STRUCTURED-LOCATION;VALUE=URI;X-ADDRESS=Bushwick Inlet Park (50 Kent Ave) 50 Kent Ave Brooklyn NY 11249 United States;X-APPLE-RADIUS=500;X-TITLE=50 Kent Ave:geo:-73.9597003,40.7231845
END:VEVENT
BEGIN:VEVENT
DTSTART;TZID=America/New_York:20220713T180000
DTEND;TZID=America/New_York:20220713T193000
DTSTAMP:20260425T143751
CREATED:20220509T152040Z
LAST-MODIFIED:20221101T181111Z
UID:10000183-1657735200-1657740600@bushwickinletpark.org
SUMMARY:Weeding Wednesdays 2022
DESCRIPTION:Join us every week as we weed\, mulch\, tend bushes and blossoms\, sometimes plant and water (if necessary). We have tools and gloves (but bring yours if you have them). Bring a water bottle. Everyone welcome but please note in your sign up if you are bringing others. See you there!\n\nPlease register.
URL:https://bushwickinletpark.org/event/weeding-wednesdays-2022/2022-07-13/
LOCATION:Bushwick Inlet Park (86K)\, 86 Kent Ave\, Brooklyn\, NY\, 11249\, United States
CATEGORIES:Gardening,Upcoming Events
ATTACH;FMTTYPE=image/jpeg:https://eadn-wc01-5191420.nxedge.io/wp-content/uploads/2022/05/weeding-wed-header-2022-16x9-1.jpg
ORGANIZER;CN="Friends of Bushwick Inlet Park":MAILTO:info@bushwickinletpark.org
GEO:40.72206;-73.9614455
X-APPLE-STRUCTURED-LOCATION;VALUE=URI;X-ADDRESS=Bushwick Inlet Park (86K) 86 Kent Ave Brooklyn NY 11249 United States;X-APPLE-RADIUS=500;X-TITLE=86 Kent Ave:geo:-73.9614455,40.72206
END:VEVENT
BEGIN:VEVENT
DTSTART;TZID=America/New_York:20220714T183000
DTEND;TZID=America/New_York:20220714T200000
DTSTAMP:20260425T143751
CREATED:20220618T013607Z
LAST-MODIFIED:20220711T180526Z
UID:10000059-1657823400-1657828800@bushwickinletpark.org
SUMMARY:Summer Music in BIP 2022: George Braith
DESCRIPTION:For the second summer FBIP brings music to the beautiful waterfront in Bushwick Inlet Park with our Summer Music in BIP 2022 series. Come take in a skyline river sunset on the 86 Kent shoreline esplanade while absorbing great musical vibes from multiple genres. \nNext up in partnership with the Jazz Foundation of America we welcome the George Braith Quartet. \nGeorge Braith (born George Timothy Braithwaite on June 26\, 1939) is a soul-jazz saxophonist from New York. Braith is known for playing multiple horns at once\, a technique pioneered by Roland Kirk. Braith is credited with the invention of the Braithophone\, two different horns (straight alto and soprano) mended together by extensions\, valves and connections. Braith is featured in a mosaic in the 72nd street station of the Second Avenue Subway in the New York City Subway system. \nA big thanks goes out this year’s sponsors: \n\nCity Parks Foundation\nEl Puente\nNYC Ferry\nNorth Brooklyn Parks Alliance\n25 Kent\nNYC Department of Parks & Recreation\nJazz Foundation of American\nRubenstein Partners\nNYC Department of Cultural Affairs\nBrooklyn Arts Council\nNew York State Council on the Arts\n\nPlease join us!
URL:https://bushwickinletpark.org/event/summer-music-in-bip-2022-george-braith/
LOCATION:Bushwick Inlet Park (86K)\, 86 Kent Ave\, Brooklyn\, NY\, 11249\, United States
CATEGORIES:86 Kent,Summer Music in BIP,Upcoming Events
ATTACH;FMTTYPE=image/jpeg:https://eadn-wc01-5191420.nxedge.io/wp-content/uploads/2022/06/george-braith-sms-2021-16x9-1.jpg
ORGANIZER;CN="Friends of Bushwick Inlet Park":MAILTO:info@bushwickinletpark.org
GEO:40.72206;-73.9614455
X-APPLE-STRUCTURED-LOCATION;VALUE=URI;X-ADDRESS=Bushwick Inlet Park (86K) 86 Kent Ave Brooklyn NY 11249 United States;X-APPLE-RADIUS=500;X-TITLE=86 Kent Ave:geo:-73.9614455,40.72206
END:VEVENT
BEGIN:VEVENT
DTSTART;TZID=America/New_York:20220720T180000
DTEND;TZID=America/New_York:20220720T193000
DTSTAMP:20260425T143751
CREATED:20220509T152040Z
LAST-MODIFIED:20221101T181111Z
UID:10000184-1658340000-1658345400@bushwickinletpark.org
SUMMARY:Weeding Wednesdays 2022
DESCRIPTION:Join us every week as we weed\, mulch\, tend bushes and blossoms\, sometimes plant and water (if necessary). We have tools and gloves (but bring yours if you have them). Bring a water bottle. Everyone welcome but please note in your sign up if you are bringing others. See you there!\n\nPlease register.
URL:https://bushwickinletpark.org/event/weeding-wednesdays-2022/2022-07-20/
LOCATION:Bushwick Inlet Park (86K)\, 86 Kent Ave\, Brooklyn\, NY\, 11249\, United States
CATEGORIES:Gardening,Upcoming Events
ATTACH;FMTTYPE=image/jpeg:https://eadn-wc01-5191420.nxedge.io/wp-content/uploads/2022/05/weeding-wed-header-2022-16x9-1.jpg
ORGANIZER;CN="Friends of Bushwick Inlet Park":MAILTO:info@bushwickinletpark.org
GEO:40.72206;-73.9614455
X-APPLE-STRUCTURED-LOCATION;VALUE=URI;X-ADDRESS=Bushwick Inlet Park (86K) 86 Kent Ave Brooklyn NY 11249 United States;X-APPLE-RADIUS=500;X-TITLE=86 Kent Ave:geo:-73.9614455,40.72206
END:VEVENT
BEGIN:VEVENT
DTSTART;TZID=America/New_York:20220721T183000
DTEND;TZID=America/New_York:20220721T200000
DTSTAMP:20260425T143751
CREATED:20220618T014506Z
LAST-MODIFIED:20220618T014506Z
UID:10000060-1658428200-1658433600@bushwickinletpark.org
SUMMARY:Summer Music in BIP 2022: Ed Martinez & Conjunto Sabor
DESCRIPTION:For the second summer FBIP brings music to the beautiful waterfront in Bushwick Inlet Park with our Summer Music in BIP 2022 series. Come take in a skyline river sunset on the 86 Kent shoreline esplanade while absorbing great musical vibes from multiple genres. \nNext up is Ed Martinez & Conjunto Sabor for another El Puente CADRE show! Ed and his ensemble lit up the esplanade last year. We’re excited to have him back on the shoreline again. \nA big thanks goes out this year’s sponsors: \n\nCity Parks Foundation\nEl Puente\nNYC Ferry\nNorth Brooklyn Parks Alliance\n25 Kent\nNYC Department of Parks & Recreation\nJazz Foundation of American\nRubenstein Partners\nNYC Department of Cultural Affairs\nBrooklyn Arts Council\nNew York State Council on the Arts\n\nPlease join us!
URL:https://bushwickinletpark.org/event/summer-music-in-bip-2022-ed-martinez-conjunto-sabor/
LOCATION:Bushwick Inlet Park (86K)\, 86 Kent Ave\, Brooklyn\, NY\, 11249\, United States
CATEGORIES:86 Kent,Summer Music in BIP,Upcoming Events
ATTACH;FMTTYPE=image/jpeg:https://eadn-wc01-5191420.nxedge.io/wp-content/uploads/2022/06/ed-martinez-conjunto-sabor.jpg
ORGANIZER;CN="Friends of Bushwick Inlet Park":MAILTO:info@bushwickinletpark.org
GEO:40.72206;-73.9614455
X-APPLE-STRUCTURED-LOCATION;VALUE=URI;X-ADDRESS=Bushwick Inlet Park (86K) 86 Kent Ave Brooklyn NY 11249 United States;X-APPLE-RADIUS=500;X-TITLE=86 Kent Ave:geo:-73.9614455,40.72206
END:VEVENT
BEGIN:VEVENT
DTSTART;TZID=America/New_York:20220724T203000
DTEND;TZID=America/New_York:20220724T223000
DTSTAMP:20260425T143751
CREATED:20220701T134454Z
LAST-MODIFIED:20220701T134454Z
UID:10000195-1658694600-1658701800@bushwickinletpark.org
SUMMARY:Movies Under the Stars: Dear Evan Hansen
DESCRIPTION:Dear Evan Hansen \nGrab a blanket and come enjoy a movie in a neighborhood park or playground! This summer\, NYC Parks and The Mayor’s Office of Media and Entertainment will host family-friendly movie showings across the five boroughs. \nFilm adaptation of the Tony and Grammy Award-winning musical about Evan Hansen\, a high school senior with Social Anxiety disorder and his journey of self-discovery and acceptance following the suicide of a fellow classmate. \n2021. Director: Stephen Chbosky\nStarring: Ben Platt; Kaitlyn Dever; Amandla Stenberg; Nik Dodani; Colton Ryan; Danny Pino; Julianne Moore; Amy Adams \nMovies begin at dusk. This event is FREE and open to the public. Glass bottles and alcoholic beverages are strictly prohibited. In the event of heavy rain or extreme weather\, the screening may be canceled. The decision to cancel the event will be made prior to the screening and will be prominently posted on our website.\nFor more information visit nyc.gov/parks or call 311. Contact (212) 360-1430 or accessibility@parks.nyc.gov for more information regarding accessibility.
URL:https://bushwickinletpark.org/event/dear-evan-hansen/
LOCATION:Bushwick Inlet Park (50 Kent Ave)\, 50 Kent Ave\, Brooklyn\, NY\, 11249\, United States
CATEGORIES:50 Kent,Film
ATTACH;FMTTYPE=image/jpeg:https://eadn-wc01-5191420.nxedge.io/wp-content/uploads/2022/07/DearEvanHansen.jpeg
ORGANIZER;CN="NYC Parks & Recreation":MAILTO:BKspecialevents@parks.nyc.gov
GEO:40.7231845;-73.9597003
X-APPLE-STRUCTURED-LOCATION;VALUE=URI;X-ADDRESS=Bushwick Inlet Park (50 Kent Ave) 50 Kent Ave Brooklyn NY 11249 United States;X-APPLE-RADIUS=500;X-TITLE=50 Kent Ave:geo:-73.9597003,40.7231845
END:VEVENT
BEGIN:VEVENT
DTSTART;TZID=America/New_York:20220724T203000
DTEND;TZID=America/New_York:20220724T223000
DTSTAMP:20260425T143751
CREATED:20220701T134454Z
LAST-MODIFIED:20231214T025021Z
UID:10000205-1658694600-1658701800@bushwickinletpark.org
SUMMARY:Movies Under the Stars: Dear Evan Hansen
DESCRIPTION:Dear Evan Hansen \nGrab a blanket and come enjoy a movie in a neighborhood park or playground! This summer\, NYC Parks and The Mayor’s Office of Media and Entertainment will host family-friendly movie showings across the five boroughs. \nFilm adaptation of the Tony and Grammy Award-winning musical about Evan Hansen\, a high school senior with Social Anxiety disorder and his journey of self-discovery and acceptance following the suicide of a fellow classmate. \n2021. Director: Stephen Chbosky\nStarring: Ben Platt; Kaitlyn Dever; Amandla Stenberg; Nik Dodani; Colton Ryan; Danny Pino; Julianne Moore; Amy Adams \nMovies begin at dusk. This event is FREE and open to the public. Glass bottles and alcoholic beverages are strictly prohibited. In the event of heavy rain or extreme weather\, the screening may be canceled. The decision to cancel the event will be made prior to the screening and will be prominently posted on our website.\nFor more information visit nyc.gov/parks or call 311. Contact (212) 360-1430 or accessibility@parks.nyc.gov for more information regarding accessibility.
URL:https://bushwickinletpark.org/event/dear-evan-hansen-2/
LOCATION:Bushwick Inlet Park (50 Kent Ave)\, 50 Kent Ave\, Brooklyn\, NY\, 11249\, United States
CATEGORIES:50 Kent,Film
ATTACH;FMTTYPE=image/jpeg:https://eadn-wc01-5191420.nxedge.io/wp-content/uploads/2022/07/DearEvanHansen.jpeg
ORGANIZER;CN="NYC Parks & Recreation":MAILTO:BKspecialevents@parks.nyc.gov
GEO:40.7231845;-73.9597003
X-APPLE-STRUCTURED-LOCATION;VALUE=URI;X-ADDRESS=Bushwick Inlet Park (50 Kent Ave) 50 Kent Ave Brooklyn NY 11249 United States;X-APPLE-RADIUS=500;X-TITLE=50 Kent Ave:geo:-73.9597003,40.7231845
END:VEVENT
BEGIN:VEVENT
DTSTART;TZID=America/New_York:20220727T180000
DTEND;TZID=America/New_York:20220727T193000
DTSTAMP:20260425T143751
CREATED:20220509T152040Z
LAST-MODIFIED:20221101T181111Z
UID:10000185-1658944800-1658950200@bushwickinletpark.org
SUMMARY:Weeding Wednesdays 2022
DESCRIPTION:Join us every week as we weed\, mulch\, tend bushes and blossoms\, sometimes plant and water (if necessary). We have tools and gloves (but bring yours if you have them). Bring a water bottle. Everyone welcome but please note in your sign up if you are bringing others. See you there!\n\nPlease register.
URL:https://bushwickinletpark.org/event/weeding-wednesdays-2022/2022-07-27/
LOCATION:Bushwick Inlet Park (86K)\, 86 Kent Ave\, Brooklyn\, NY\, 11249\, United States
CATEGORIES:Gardening,Upcoming Events
ATTACH;FMTTYPE=image/jpeg:https://eadn-wc01-5191420.nxedge.io/wp-content/uploads/2022/05/weeding-wed-header-2022-16x9-1.jpg
ORGANIZER;CN="Friends of Bushwick Inlet Park":MAILTO:info@bushwickinletpark.org
GEO:40.72206;-73.9614455
X-APPLE-STRUCTURED-LOCATION;VALUE=URI;X-ADDRESS=Bushwick Inlet Park (86K) 86 Kent Ave Brooklyn NY 11249 United States;X-APPLE-RADIUS=500;X-TITLE=86 Kent Ave:geo:-73.9614455,40.72206
END:VEVENT
BEGIN:VEVENT
DTSTART;TZID=America/New_York:20220728T183000
DTEND;TZID=America/New_York:20220728T200000
DTSTAMP:20260425T143751
CREATED:20220618T014953Z
LAST-MODIFIED:20221101T181542Z
UID:10000192-1659033000-1659038400@bushwickinletpark.org
SUMMARY:Summer Music in BIP 2022: Folk Show #2
DESCRIPTION:For the second summer FBIP brings music to the beautiful waterfront in Bushwick Inlet Park with our Summer Music in BIP 2022 series. Come take in a skyline river sunset on the 86 Kent shoreline esplanade while absorbing great musical vibes from multiple genres.\n\nNext\, Jackson Lynch & Friends brings us another gem folk artist. Stay tuned for details….\n\nA big thanks goes out this year’s sponsors:\n\n 	City Parks Foundation\n 	El Puente\n 	NYC Ferry\n 	North Brooklyn Parks Alliance\n 	25 Kent\n 	NYC Department of Parks & Recreation\n 	Jazz Foundation of American\n 	Rubenstein Partners\n 	NYC Department of Cultural Affairs\n 	Brooklyn Arts Council\n 	New York State Council on the Arts\n\nPlease join us!
URL:https://bushwickinletpark.org/event/summer-music-in-bip-2022-folk-show-2/
LOCATION:Bushwick Inlet Park (86K)\, 86 Kent Ave\, Brooklyn\, NY\, 11249\, United States
CATEGORIES:86 Kent,Summer Music in BIP,Upcoming Events
ATTACH;FMTTYPE=image/jpeg:https://eadn-wc01-5191420.nxedge.io/wp-content/uploads/2022/06/BIPSummerMusicSeries2022_Social_1080x1080_A.jpg
ORGANIZER;CN="Friends of Bushwick Inlet Park":MAILTO:info@bushwickinletpark.org
GEO:40.72206;-73.9614455
X-APPLE-STRUCTURED-LOCATION;VALUE=URI;X-ADDRESS=Bushwick Inlet Park (86K) 86 Kent Ave Brooklyn NY 11249 United States;X-APPLE-RADIUS=500;X-TITLE=86 Kent Ave:geo:-73.9614455,40.72206
END:VEVENT
END:VCALENDAR