BEGIN:VCALENDAR
VERSION:2.0
PRODID:-//Friends of Bushwick Inlet Park - ECPv6.15.20//NONSGML v1.0//EN
CALSCALE:GREGORIAN
METHOD:PUBLISH
X-WR-CALNAME:Friends of Bushwick Inlet Park
X-ORIGINAL-URL:https://bushwickinletpark.org
X-WR-CALDESC:Events for Friends of Bushwick Inlet Park
REFRESH-INTERVAL;VALUE=DURATION:PT1H
X-Robots-Tag:noindex
X-PUBLISHED-TTL:PT1H
BEGIN:VTIMEZONE
TZID:America/New_York
BEGIN:DAYLIGHT
TZOFFSETFROM:-0500
TZOFFSETTO:-0400
TZNAME:EDT
DTSTART:20210314T070000
END:DAYLIGHT
BEGIN:STANDARD
TZOFFSETFROM:-0400
TZOFFSETTO:-0500
TZNAME:EST
DTSTART:20211107T060000
END:STANDARD
BEGIN:DAYLIGHT
TZOFFSETFROM:-0500
TZOFFSETTO:-0400
TZNAME:EDT
DTSTART:20220313T070000
END:DAYLIGHT
BEGIN:STANDARD
TZOFFSETFROM:-0400
TZOFFSETTO:-0500
TZNAME:EST
DTSTART:20221106T060000
END:STANDARD
BEGIN:DAYLIGHT
TZOFFSETFROM:-0500
TZOFFSETTO:-0400
TZNAME:EDT
DTSTART:20230312T070000
END:DAYLIGHT
BEGIN:STANDARD
TZOFFSETFROM:-0400
TZOFFSETTO:-0500
TZNAME:EST
DTSTART:20231105T060000
END:STANDARD
END:VTIMEZONE
BEGIN:VEVENT
DTSTART;TZID=America/New_York:20220907T180000
DTEND;TZID=America/New_York:20220907T193000
DTSTAMP:20260425T113401
CREATED:20220509T152040Z
LAST-MODIFIED:20221101T181111Z
UID:10000191-1662573600-1662579000@bushwickinletpark.org
SUMMARY:Weeding Wednesdays 2022
DESCRIPTION:Join us every week as we weed\, mulch\, tend bushes and blossoms\, sometimes plant and water (if necessary). We have tools and gloves (but bring yours if you have them). Bring a water bottle. Everyone welcome but please note in your sign up if you are bringing others. See you there!\n\nPlease register.
URL:https://bushwickinletpark.org/event/weeding-wednesdays-2022/2022-09-07/
LOCATION:Bushwick Inlet Park (86K)\, 86 Kent Ave\, Brooklyn\, NY\, 11249\, United States
CATEGORIES:Gardening,Upcoming Events
ATTACH;FMTTYPE=image/jpeg:https://eadn-wc01-5191420.nxedge.io/wp-content/uploads/2022/05/weeding-wed-header-2022-16x9-1.jpg
ORGANIZER;CN="Friends of Bushwick Inlet Park":MAILTO:info@bushwickinletpark.org
GEO:40.72206;-73.9614455
X-APPLE-STRUCTURED-LOCATION;VALUE=URI;X-ADDRESS=Bushwick Inlet Park (86K) 86 Kent Ave Brooklyn NY 11249 United States;X-APPLE-RADIUS=500;X-TITLE=86 Kent Ave:geo:-73.9614455,40.72206
END:VEVENT
BEGIN:VEVENT
DTSTART;TZID=America/New_York:20220914T180000
DTEND;TZID=America/New_York:20220914T193000
DTSTAMP:20260425T113401
CREATED:20220912T131549Z
LAST-MODIFIED:20231214T025021Z
UID:10000207-1663178400-1663183800@bushwickinletpark.org
SUMMARY:Weeding Wednesdays 2022
DESCRIPTION:Join us every week as we weed\, mulch\, tend bushes and blossoms\, sometimes plant and water (if necessary). We have tools and gloves (but bring yours if you have them). Bring a water bottle. Everyone welcome but please note in your sign up if you are bringing others. See you there! *This week we are working at 50 Kent Ave @ N11th Street\, 2 blocks north of the usual spot. \nPlease register.
URL:https://bushwickinletpark.org/event/weeding-wednesdays-2022-3/
LOCATION:Bushwick Inlet Park (50 Kent Ave)\, 50 Kent Ave\, Brooklyn\, NY\, 11249\, United States
CATEGORIES:Gardening,Upcoming Events
ATTACH;FMTTYPE=image/jpeg:https://eadn-wc01-5191420.nxedge.io/wp-content/uploads/2022/05/weeding-wed-header-2022-16x9-1.jpg
ORGANIZER;CN="Friends of Bushwick Inlet Park":MAILTO:info@bushwickinletpark.org
GEO:40.7231845;-73.9597003
X-APPLE-STRUCTURED-LOCATION;VALUE=URI;X-ADDRESS=Bushwick Inlet Park (50 Kent Ave) 50 Kent Ave Brooklyn NY 11249 United States;X-APPLE-RADIUS=500;X-TITLE=50 Kent Ave:geo:-73.9597003,40.7231845
END:VEVENT
BEGIN:VEVENT
DTSTART;TZID=America/New_York:20220918T190000
DTEND;TZID=America/New_York:20220918T210000
DTSTAMP:20260425T113401
CREATED:20220912T115025Z
LAST-MODIFIED:20231214T025021Z
UID:10000206-1663527600-1663534800@bushwickinletpark.org
SUMMARY:Movies Under the Stars: Cyrano
DESCRIPTION:Grab a blanket and come enjoy a movie in a neighborhood park or playground! This summer\, NYC Parks and The Mayor’s Office of Media and Entertainment will host family-friendly movie showings across the five boroughs. \nIn this re-imagining of the timeless tale of a heartbreaking love triangle\, a man ahead of his time\, Cyrano de Bergerac (Peter Dinklage) dazzles\, whether with ferocious wordplay at a verbal joust or with brilliant swordplay in a duel. But\, convinced that his appearance renders him unworthy of the love of a devoted friend\, the luminous Roxanne (Haley Bennett)\, Cyrano has yet to declare his feelings for her — and Roxanne has fallen in love\, at first sight\, with Christian (Kelvin Harrison\, Jr.). \nMovies begin at dusk. This event is FREE and open to the public. Glass bottles and alcoholic beverages are strictly prohibited. In the event of heavy rain or extreme weather\, the screening may be canceled. The decision to cancel the event will be made prior to the screening and will be prominently posted on our website. \nFor more information visit nyc.gov/parks or call 311. Contact (212) 360-1430 or accessibility@parks.nyc.gov for more information regarding accessibility.
URL:https://bushwickinletpark.org/event/movies-under-the-stars-cyrano/
LOCATION:Bushwick Inlet Park (50 Kent Ave)\, 50 Kent Ave\, Brooklyn\, NY\, 11249\, United States
CATEGORIES:50 Kent,Film
ATTACH;FMTTYPE=:
ORGANIZER;CN="NYC Parks & Recreation":MAILTO:BKspecialevents@parks.nyc.gov
GEO:40.7231845;-73.9597003
X-APPLE-STRUCTURED-LOCATION;VALUE=URI;X-ADDRESS=Bushwick Inlet Park (50 Kent Ave) 50 Kent Ave Brooklyn NY 11249 United States;X-APPLE-RADIUS=500;X-TITLE=50 Kent Ave:geo:-73.9597003,40.7231845
END:VEVENT
END:VCALENDAR