BEGIN:VCALENDAR
VERSION:2.0
PRODID:-//Friends of Bushwick Inlet Park - ECPv6.15.20//NONSGML v1.0//EN
CALSCALE:GREGORIAN
METHOD:PUBLISH
X-WR-CALNAME:Friends of Bushwick Inlet Park
X-ORIGINAL-URL:https://bushwickinletpark.org
X-WR-CALDESC:Events for Friends of Bushwick Inlet Park
REFRESH-INTERVAL;VALUE=DURATION:PT1H
X-Robots-Tag:noindex
X-PUBLISHED-TTL:PT1H
BEGIN:VTIMEZONE
TZID:America/New_York
BEGIN:DAYLIGHT
TZOFFSETFROM:-0500
TZOFFSETTO:-0400
TZNAME:EDT
DTSTART:20230312T070000
END:DAYLIGHT
BEGIN:STANDARD
TZOFFSETFROM:-0400
TZOFFSETTO:-0500
TZNAME:EST
DTSTART:20231105T060000
END:STANDARD
BEGIN:DAYLIGHT
TZOFFSETFROM:-0500
TZOFFSETTO:-0400
TZNAME:EDT
DTSTART:20240310T070000
END:DAYLIGHT
BEGIN:STANDARD
TZOFFSETFROM:-0400
TZOFFSETTO:-0500
TZNAME:EST
DTSTART:20241103T060000
END:STANDARD
BEGIN:DAYLIGHT
TZOFFSETFROM:-0500
TZOFFSETTO:-0400
TZNAME:EDT
DTSTART:20250309T070000
END:DAYLIGHT
BEGIN:STANDARD
TZOFFSETFROM:-0400
TZOFFSETTO:-0500
TZNAME:EST
DTSTART:20251102T060000
END:STANDARD
END:VTIMEZONE
BEGIN:VEVENT
DTSTART;TZID=America/New_York:20240127T133000
DTEND;TZID=America/New_York:20240127T160000
DTSTAMP:20260424T111339
CREATED:20240118T210346Z
LAST-MODIFIED:20240201T201930Z
UID:10000523-1706362200-1706371200@bushwickinletpark.org
SUMMARY:My Bushwick Inlet Story/Accordion Book
DESCRIPTION:Join us for an afternoon of book making utilizing collage\, writing and drawing. \nFree. Required registration. \nHear a short history of Bushwick Inlet\, once Bushwick Creek\, now part of Bushwick Inlet Park\, along the East River on the border of Greenpoint and Williamsburg\, Brooklyn. \nWe’ll start with a 20 minute slideshow exploring aspects of its past\, including its connection to McCarren Park\, environmental changes\, its role in the Civil War\, and modern-day design and environmental challenges ahead for our vulnerable waterfront. \nThen enjoy a guided art session on making a mini 8-page accordion book with an antique paper collage cover and filling it with your own story. Antique books to use for collage\, colored pencils and watercolors to decorate and fill your book will be provided. Ideas on how to fill your book could include journaling\, poetry\, a short story\, illustration\, drawing\, collage or anything else you might imagine or want to incorporate into your design. \nFriends of Bushwick Inlet Park will provide art supplies\, but feel free to bring your own (if you have!) for this guided art project for beginners and artists of all levels. Other materials provided will include paper\, cardboard book covers\, antique books for collages\, watercolors\, colored pencils\, glue\, and other art materials. \nIf you’d like to bring your own\, we recommend: \n\nPiece of drawing\, multimedia\, or watercolor paper (at least 16″ long)\nPiece of cardboard to cut two book covers from\nDelivery box\, food box\, anything stiff. At least 2″ x 4″ or larger\nDecorative paper for the covers\nOld book pages\, magazine pages\, wrapping paper\nRuler\nScissors\, exacto\, or cutter – any tool that will cut your cardboard\nPencil\nPaper glue\, glue stick\, or white crafting glue\nPaints\, colored pencils\, markers\, or pens\n\nNo experience necessary. \nTaught by Monica Schroeder\, scientific illustrator & kayaker\nmonbertkayak@gmail.com— \nMonica SchroederArt Instruction\nPrivate or Group Lessons Available \n  \nMedical & Scientific Illustration\nIllustration Portfolio
URL:https://bushwickinletpark.org/event/my-bushwick-inlet-story-accordion-book-2/
LOCATION:86 Kent\, 86 Kent Avenue\, Brooklyn\, NY\, 11249\, United States
CATEGORIES:Class,Upcoming Events
ATTACH;FMTTYPE=image/jpeg:https://eadn-wc01-5191420.nxedge.io/wp-content/uploads/2024/01/IMG_6310.jpg
ORGANIZER;CN="Friends of Bushwick Inlet Park":MAILTO:info@bushwickinletpark.org
GEO:40.72206;-73.9614455
X-APPLE-STRUCTURED-LOCATION;VALUE=URI;X-ADDRESS=86 Kent 86 Kent Avenue Brooklyn NY 11249 United States;X-APPLE-RADIUS=500;X-TITLE=86 Kent Avenue:geo:-73.9614455,40.72206
END:VEVENT
END:VCALENDAR