BEGIN:VCALENDAR
VERSION:2.0
PRODID:-//Friends of Bushwick Inlet Park - ECPv6.15.20//NONSGML v1.0//EN
CALSCALE:GREGORIAN
METHOD:PUBLISH
X-ORIGINAL-URL:https://bushwickinletpark.org
X-WR-CALDESC:Events for Friends of Bushwick Inlet Park
REFRESH-INTERVAL;VALUE=DURATION:PT1H
X-Robots-Tag:noindex
X-PUBLISHED-TTL:PT1H
BEGIN:VTIMEZONE
TZID:America/New_York
BEGIN:DAYLIGHT
TZOFFSETFROM:-0500
TZOFFSETTO:-0400
TZNAME:EDT
DTSTART:20230312T070000
END:DAYLIGHT
BEGIN:STANDARD
TZOFFSETFROM:-0400
TZOFFSETTO:-0500
TZNAME:EST
DTSTART:20231105T060000
END:STANDARD
BEGIN:DAYLIGHT
TZOFFSETFROM:-0500
TZOFFSETTO:-0400
TZNAME:EDT
DTSTART:20240310T070000
END:DAYLIGHT
BEGIN:STANDARD
TZOFFSETFROM:-0400
TZOFFSETTO:-0500
TZNAME:EST
DTSTART:20241103T060000
END:STANDARD
BEGIN:DAYLIGHT
TZOFFSETFROM:-0500
TZOFFSETTO:-0400
TZNAME:EDT
DTSTART:20250309T070000
END:DAYLIGHT
BEGIN:STANDARD
TZOFFSETFROM:-0400
TZOFFSETTO:-0500
TZNAME:EST
DTSTART:20251102T060000
END:STANDARD
END:VTIMEZONE
BEGIN:VEVENT
DTSTART;TZID=America/New_York:20240224T133000
DTEND;TZID=America/New_York:20240224T160000
DTSTAMP:20260424T093726
CREATED:20240201T201003Z
LAST-MODIFIED:20240201T201914Z
UID:10000525-1708781400-1708790400@bushwickinletpark.org
SUMMARY:Our Waterways\, Drawing and Painting Water
DESCRIPTION:Please join us at the Bushwick Inlet Park Community Center for an afternoon of painting with watercolors. \n“Environmental Science + Art” FBIP 2024 Saturday class series: \nWe will be learning about salt marshes\, the abundance of life\, oyster monitoring with BIP\, tides and currents of the East River\, CSO \nWe will cover: \n\nTides & currents\nLocal marine wildlife\nPlankton\, oxygen – stewards of the waterways\nNY NJ estuary\nCSOs\nOysters as sentinels of clean water & Billion Oyster Project\nPollution in the past and how clean and vibrant our waterway have become\nExposure to nature boosts our mood/parks are essential to our urban lives\n\nArt Project: After several exercises\, you’ll paint an urban skyline sunset reflected in the water. \nMaterials: Mixed media paper\, drawing pencils\, erasers\, black fine liner markers\, watercolors\, brushes\, palettes. \nA 15-minute slide presentation on the East River Waterfront is followed by a demonstration of the techniques required. Then materials will be distributed. Individual instruction will follow. \nSkills we’ll cover are wet in wet and wet on dry watercolor\, one-point perspective\, using liquid frisket (masking fluid)\, color layering\, and other watercolor basics. Beginners to advanced welcome. \nFriends of Bushwick Inlet Park will provide art supplies\, but feel free to bring your own (if you have!) for this guided art project for beginners and artists of all levels. Materials provided will include include paper\, watercolors\, colored pencils\, and other basic drawing supplies. \nIf you’d like to bring your own\, we recommend: \n\nmultimedia or watercolor paper\nwatercolor paints\npencil\, eraser\, ruler\, tape (for masking edges)\ncolored pencils\, markers\, or pens\n\nNo experience necessary. \nInstructor Monica Schroeder is a professional scientific illustrator. Her work has appeared in Scientific American\, countless textbooks\, natural history museum exhibitions\, and on the TV Show Jeopardy. \nShe has been an adult art instructor since 2018. monbertkayak@gmail.com \n* Registration required. \n* Please register only if you plan to actually attend. The class size is small to ensure an intimate hands on learning experience. \nChildren 14 and over (high school students) are welcome but must be accompanied by a parent or guardian.
URL:https://bushwickinletpark.org/event/our-waterways-drawing-and-painting-water/
LOCATION:Bushwick Inlet Park (86K)\, 86 Kent Ave\, Brooklyn\, NY\, 11249\, United States
CATEGORIES:86 Kent,Class
ATTACH;FMTTYPE=image/jpeg:https://eadn-wc01-5191420.nxedge.io/wp-content/uploads/2024/02/waterways-2024.jpeg
ORGANIZER;CN="Friends of Bushwick Inlet Park":MAILTO:info@bushwickinletpark.org
GEO:40.72206;-73.9614455
X-APPLE-STRUCTURED-LOCATION;VALUE=URI;X-ADDRESS=Bushwick Inlet Park (86K) 86 Kent Ave Brooklyn NY 11249 United States;X-APPLE-RADIUS=500;X-TITLE=86 Kent Ave:geo:-73.9614455,40.72206
END:VEVENT
BEGIN:VEVENT
DTSTART;TZID=America/New_York:20240228T180000
DTEND;TZID=America/New_York:20240228T200000
DTSTAMP:20260424T093726
CREATED:20240201T152652Z
LAST-MODIFIED:20240201T152652Z
UID:10000524-1709143200-1709150400@bushwickinletpark.org
SUMMARY:“Where’s Our Park?” Past→ Present→ Future
DESCRIPTION:FBIP Seminar Series- Bushwick Inlet Park 101- Where are we? How did we get here? \n\nPresentation topics: History\, Parcels\, Funding\, Timeline\nPanel discussion with FBIP board members and NYC D33 Council Member Lincoln Restler\nRefreshments and meet & greet following\nLearn about upcoming events and how to get involved\n\nJoin us for a lively discussion about your park! \nFree registration required.
URL:https://bushwickinletpark.org/event/wheres-our-park-past%e2%86%92-present%e2%86%92-future/
LOCATION:Bushwick Inlet Park (86K)\, 86 Kent Ave\, Brooklyn\, NY\, 11249\, United States
CATEGORIES:86 Kent,Seminar,Upcoming Events
ATTACH;FMTTYPE=image/jpeg:https://eadn-wc01-5191420.nxedge.io/wp-content/uploads/2024/02/wheres-our-park-panel_original.jpeg
ORGANIZER;CN="Friends of Bushwick Inlet Park":MAILTO:info@bushwickinletpark.org
GEO:40.72206;-73.9614455
X-APPLE-STRUCTURED-LOCATION;VALUE=URI;X-ADDRESS=Bushwick Inlet Park (86K) 86 Kent Ave Brooklyn NY 11249 United States;X-APPLE-RADIUS=500;X-TITLE=86 Kent Ave:geo:-73.9614455,40.72206
END:VEVENT
END:VCALENDAR