BEGIN:VCALENDAR
VERSION:2.0
PRODID:-//Friends of Bushwick Inlet Park - ECPv6.15.20//NONSGML v1.0//EN
CALSCALE:GREGORIAN
METHOD:PUBLISH
X-WR-CALNAME:Friends of Bushwick Inlet Park
X-ORIGINAL-URL:https://bushwickinletpark.org
X-WR-CALDESC:Events for Friends of Bushwick Inlet Park
REFRESH-INTERVAL;VALUE=DURATION:PT1H
X-Robots-Tag:noindex
X-PUBLISHED-TTL:PT1H
BEGIN:VTIMEZONE
TZID:America/New_York
BEGIN:DAYLIGHT
TZOFFSETFROM:-0500
TZOFFSETTO:-0400
TZNAME:EDT
DTSTART:20230312T070000
END:DAYLIGHT
BEGIN:STANDARD
TZOFFSETFROM:-0400
TZOFFSETTO:-0500
TZNAME:EST
DTSTART:20231105T060000
END:STANDARD
BEGIN:DAYLIGHT
TZOFFSETFROM:-0500
TZOFFSETTO:-0400
TZNAME:EDT
DTSTART:20240310T070000
END:DAYLIGHT
BEGIN:STANDARD
TZOFFSETFROM:-0400
TZOFFSETTO:-0500
TZNAME:EST
DTSTART:20241103T060000
END:STANDARD
BEGIN:DAYLIGHT
TZOFFSETFROM:-0500
TZOFFSETTO:-0400
TZNAME:EDT
DTSTART:20250309T070000
END:DAYLIGHT
BEGIN:STANDARD
TZOFFSETFROM:-0400
TZOFFSETTO:-0500
TZNAME:EST
DTSTART:20251102T060000
END:STANDARD
END:VTIMEZONE
BEGIN:VEVENT
DTSTART;TZID=America/New_York:20241102T100000
DTEND;TZID=America/New_York:20241102T130000
DTSTAMP:20260423T182045
CREATED:20240912T221830Z
LAST-MODIFIED:20240912T221830Z
UID:10000620-1730541600-1730552400@bushwickinletpark.org
SUMMARY:It's My Park Day 50 Kent Big Planting Day
DESCRIPTION:Volunteer With Us! Join Friends of Bushwick Inlet Park\, North Brooklyn Parks Alliance and the Williamsburg Pollinator Project in restoring 4 garden beds at the western end of BIP’s 50 Kent Ave section. \nTime to plant 100’s of specimens! We have tools and gloves! Wear sturdy shoes and bring a water bottle! \nFBIP volunteers have tirelessly prepped the garden beds for planting. We have procured plants with donations and from a citywide facility. Now it’s time to plant! Please come help us! \nSignup required.
URL:https://bushwickinletpark.org/event/its-my-park-day-50-kent-big-planting-day/
LOCATION:Bushwick Inlet Park (50 Kent Ave)\, 50 Kent Ave\, Brooklyn\, NY\, 11249\, United States
CATEGORIES:50 Kent,Gardening
ATTACH;FMTTYPE=image/jpeg:https://eadn-wc01-5191420.nxedge.io/wp-content/uploads/2024/09/PHOTO-2024-08-14-21-38-04-e1726179018266.jpg
ORGANIZER;CN="Friends of Bushwick Inlet Park":MAILTO:info@bushwickinletpark.org
GEO:40.7231845;-73.9597003
X-APPLE-STRUCTURED-LOCATION;VALUE=URI;X-ADDRESS=Bushwick Inlet Park (50 Kent Ave) 50 Kent Ave Brooklyn NY 11249 United States;X-APPLE-RADIUS=500;X-TITLE=50 Kent Ave:geo:-73.9597003,40.7231845
END:VEVENT
END:VCALENDAR