BEGIN:VCALENDAR
VERSION:2.0
PRODID:-//Friends of Bushwick Inlet Park - ECPv6.15.20//NONSGML v1.0//EN
CALSCALE:GREGORIAN
METHOD:PUBLISH
X-ORIGINAL-URL:https://bushwickinletpark.org
X-WR-CALDESC:Events for Friends of Bushwick Inlet Park
REFRESH-INTERVAL;VALUE=DURATION:PT1H
X-Robots-Tag:noindex
X-PUBLISHED-TTL:PT1H
BEGIN:VTIMEZONE
TZID:America/New_York
BEGIN:DAYLIGHT
TZOFFSETFROM:-0500
TZOFFSETTO:-0400
TZNAME:EDT
DTSTART:20240310T070000
END:DAYLIGHT
BEGIN:STANDARD
TZOFFSETFROM:-0400
TZOFFSETTO:-0500
TZNAME:EST
DTSTART:20241103T060000
END:STANDARD
BEGIN:DAYLIGHT
TZOFFSETFROM:-0500
TZOFFSETTO:-0400
TZNAME:EDT
DTSTART:20250309T070000
END:DAYLIGHT
BEGIN:STANDARD
TZOFFSETFROM:-0400
TZOFFSETTO:-0500
TZNAME:EST
DTSTART:20251102T060000
END:STANDARD
BEGIN:DAYLIGHT
TZOFFSETFROM:-0500
TZOFFSETTO:-0400
TZNAME:EDT
DTSTART:20260308T070000
END:DAYLIGHT
BEGIN:STANDARD
TZOFFSETFROM:-0400
TZOFFSETTO:-0500
TZNAME:EST
DTSTART:20261101T060000
END:STANDARD
END:VTIMEZONE
BEGIN:VEVENT
DTSTART;TZID=America/New_York:20250125T130000
DTEND;TZID=America/New_York:20250125T160000
DTSTAMP:20260423T151237
CREATED:20250114T143452Z
LAST-MODIFIED:20250114T143452Z
UID:10000624-1737810000-1737820800@bushwickinletpark.org
SUMMARY:My Bushwick Inlet Story: Accordion Book
DESCRIPTION:Discover the Past and Get Creative at Bushwick Inlet Park! \nFree. Required registration. \nJoin us for a brief exploration of Bushwick Inlet and the namesake park’s rich history and a creative art session inspired by its story. This area along the East River\, bordering Greenpoint and Williamsburg\, Brooklyn\, has a fascinating past. \nAfter an introductory slideshow presentation covering this area’s land use history\, evolution and environmental transformations\, we will discuss the challenges facing our modern-day waterfront and follow a guided session to create a mini 8-page accordion book with a paper collage cover which can be filled with your unique story\, collage or art. Different techniques and tips will be demonstrated for inspiration – whether you prefer journaling\, poetry\, illustration\, drawing\, or collage\, the possibilities are endless! \nArt supplies will be provided by Friends of Bushwick Inlet Park\, including antique book pages\, watercolors\, colored pencils\, glue\, and more. However\, if you’d like to bring your own materials or have your own favorite pair of scissors or pens\, the below is recommended: \n\nPaper: Drawing\, multimedia\, or watercolor paper (at least 16″ long)\nCardboard: Delivery boxes\, food boxes\, or anything stiff to make two covers (at least 2″ x 4″)\nDecorative Paper: Old book pages\, magazine clippings\, or wrapping paper\nTools: Ruler\, Scissors\, or a cutting tool (e.g.\, X-Acto knife)\nAdhesives: Paper glue\, glue stick\, or white crafting glue\nArt Supplies: Paints\, markers\, colored pencils\, or pens\nNo experience is necessary—this guided project welcomes adult beginners and experienced artists alike.\n\nChildren above 14 must be accompanied by a guardian. \nTaught by Monica Schroeder\, scientific illustrator & kayaker\nmonbertkayak@gmail.com \nMedical & Scientific Illustration\nIllustration Portfolio
URL:https://bushwickinletpark.org/event/my-bushwick-inlet-story-accordion-book/
LOCATION:86 Kent\, 86 Kent Avenue\, Brooklyn\, NY\, 11249\, United States
CATEGORIES:Class,Upcoming Events
ATTACH;FMTTYPE=image/jpeg:https://eadn-wc01-5191420.nxedge.io/wp-content/uploads/2025/01/2000-px-horizontal-accordion-book.jpg
ORGANIZER;CN="Friends of Bushwick Inlet Park":MAILTO:info@bushwickinletpark.org
GEO:40.72206;-73.9614455
X-APPLE-STRUCTURED-LOCATION;VALUE=URI;X-ADDRESS=86 Kent 86 Kent Avenue Brooklyn NY 11249 United States;X-APPLE-RADIUS=500;X-TITLE=86 Kent Avenue:geo:-73.9614455,40.72206
END:VEVENT
END:VCALENDAR