BEGIN:VCALENDAR
VERSION:2.0
PRODID:-//Friends of Bushwick Inlet Park - ECPv6.15.20//NONSGML v1.0//EN
CALSCALE:GREGORIAN
METHOD:PUBLISH
X-WR-CALNAME:Friends of Bushwick Inlet Park
X-ORIGINAL-URL:https://bushwickinletpark.org
X-WR-CALDESC:Events for Friends of Bushwick Inlet Park
REFRESH-INTERVAL;VALUE=DURATION:PT1H
X-Robots-Tag:noindex
X-PUBLISHED-TTL:PT1H
BEGIN:VTIMEZONE
TZID:America/New_York
BEGIN:DAYLIGHT
TZOFFSETFROM:-0500
TZOFFSETTO:-0400
TZNAME:EDT
DTSTART:20240310T070000
END:DAYLIGHT
BEGIN:STANDARD
TZOFFSETFROM:-0400
TZOFFSETTO:-0500
TZNAME:EST
DTSTART:20241103T060000
END:STANDARD
BEGIN:DAYLIGHT
TZOFFSETFROM:-0500
TZOFFSETTO:-0400
TZNAME:EDT
DTSTART:20250309T070000
END:DAYLIGHT
BEGIN:STANDARD
TZOFFSETFROM:-0400
TZOFFSETTO:-0500
TZNAME:EST
DTSTART:20251102T060000
END:STANDARD
BEGIN:DAYLIGHT
TZOFFSETFROM:-0500
TZOFFSETTO:-0400
TZNAME:EDT
DTSTART:20260308T070000
END:DAYLIGHT
BEGIN:STANDARD
TZOFFSETFROM:-0400
TZOFFSETTO:-0500
TZNAME:EST
DTSTART:20261101T060000
END:STANDARD
END:VTIMEZONE
BEGIN:VEVENT
DTSTART;TZID=America/New_York:20250910T180000
DTEND;TZID=America/New_York:20250910T193000
DTSTAMP:20260423T022808
CREATED:20250325T120443Z
LAST-MODIFIED:20250603T213547Z
UID:10000673-1757527200-1757532600@bushwickinletpark.org
SUMMARY:Weeding Wednesdays 2025
DESCRIPTION:Join us every week on Wednesday from 6pm to sunset as we weed\, mulch\, tend plants and blossoms\, sometimes plant and water (if necessary). We have tools and gloves (but bring yours if you have them). Bring a water bottle. Everyone welcome but please note in your sign up if you are bringing others. \nWe focus on open spaces at 50 Kent Avenue and 86 Kent Avenue. Please keep an eye on your email after registering to confirm which location we’ll meet at on a given day! \nSign up.
URL:https://bushwickinletpark.org/event/weeding-wednesdays-2025/2025-09-10/
LOCATION:Location TBD Each Week
CATEGORIES:Gardening
ATTACH;FMTTYPE=image/png:https://eadn-wc01-5191420.nxedge.io/wp-content/uploads/2025/03/WEEDING-wednesdays-2025-header.png
ORGANIZER;CN="Friends of Bushwick Inlet Park":MAILTO:info@bushwickinletpark.org
END:VEVENT
BEGIN:VEVENT
DTSTART;TZID=America/New_York:20250910T180000
DTEND;TZID=America/New_York:20250910T193000
DTSTAMP:20260423T022808
CREATED:20250915T145847Z
LAST-MODIFIED:20250915T150130Z
UID:10000700-1757527200-1757532600@bushwickinletpark.org
SUMMARY:Weeding Wednesdays 2025
DESCRIPTION:Join us every week on Wednesday from 6pm to sunset as we weed\, mulch\, tend plants and blossoms\, sometimes plant and water (if necessary). We have tools and gloves (but bring yours if you have them). Bring a water bottle. Everyone welcome but please note in your sign up if you are bringing others. \nWe focus on open spaces at 50 Kent Avenue and 86 Kent Avenue. Please keep an eye on your email after registering to confirm which location we’ll meet at on a given day! \nSign up.
URL:https://bushwickinletpark.org/event/weeding-wednesdays-2025-3/2025-09-10/
LOCATION:Location TBD Each Week
CATEGORIES:Gardening
ATTACH;FMTTYPE=image/png:https://eadn-wc01-5191420.nxedge.io/wp-content/uploads/2025/03/WEEDING-wednesdays-2025-header.png
ORGANIZER;CN="Friends of Bushwick Inlet Park":MAILTO:info@bushwickinletpark.org
END:VEVENT
BEGIN:VEVENT
DTSTART;TZID=America/New_York:20250917T180000
DTEND;TZID=America/New_York:20250917T193000
DTSTAMP:20260423T022808
CREATED:20250915T145847Z
LAST-MODIFIED:20250915T150130Z
UID:10000701-1758132000-1758137400@bushwickinletpark.org
SUMMARY:Weeding Wednesdays 2025
DESCRIPTION:Join us every week on Wednesday from 6pm to sunset as we weed\, mulch\, tend plants and blossoms\, sometimes plant and water (if necessary). We have tools and gloves (but bring yours if you have them). Bring a water bottle. Everyone welcome but please note in your sign up if you are bringing others. \nWe focus on open spaces at 50 Kent Avenue and 86 Kent Avenue. Please keep an eye on your email after registering to confirm which location we’ll meet at on a given day! \nSign up.
URL:https://bushwickinletpark.org/event/weeding-wednesdays-2025-3/2025-09-17/
LOCATION:Location TBD Each Week
CATEGORIES:Gardening
ATTACH;FMTTYPE=image/png:https://eadn-wc01-5191420.nxedge.io/wp-content/uploads/2025/03/WEEDING-wednesdays-2025-header.png
ORGANIZER;CN="Friends of Bushwick Inlet Park":MAILTO:info@bushwickinletpark.org
END:VEVENT
BEGIN:VEVENT
DTSTART;TZID=America/New_York:20250920T120000
DTEND;TZID=America/New_York:20250920T143000
DTSTAMP:20260423T022808
CREATED:20250910T194919Z
LAST-MODIFIED:20250910T194919Z
UID:10000712-1758369600-1758378600@bushwickinletpark.org
SUMMARY:Oyster Monitoring Fall 2025
DESCRIPTION:Please join Friends of Bushwick Inlet Park and our partners from the North Brooklyn Community Boathouse  and the Billion Oyster Project for our next survey of our oyster restoration project in Bushwick Inlet. \nIn Bushwick Inlet lies 4 living docks and 16 Oyster Research Station (ORS) cages. The boat club will retrieve the cages\, we will count and measure the oysters\, see and engage with the other marine life cohabitating with the oysters and learn more about why oysters are so important to the East River ecosystem and why we support them! \nWe will be meeting at the East River waterfront in Bushwick Inlet Park. (Enter at 86 Kent Ave. [soccer field] and walk all the way back to the water.) Wear old clothes and plan to get a little dirty! \nSpaces are limited and registration is required.
URL:https://bushwickinletpark.org/event/oyster-monitoring-fall-2025/
LOCATION:Bushwick Inlet Park (86K)\, 86 Kent Ave\, Brooklyn\, NY\, 11249\, United States
CATEGORIES:86 Kent,Environmental Education
ATTACH;FMTTYPE=image/jpeg:https://eadn-wc01-5191420.nxedge.io/wp-content/uploads/2023/05/oyster-surveyors-skyline-june-2022.jpg
ORGANIZER;CN="Friends of Bushwick Inlet Park":MAILTO:info@bushwickinletpark.org
GEO:40.72206;-73.9614455
X-APPLE-STRUCTURED-LOCATION;VALUE=URI;X-ADDRESS=Bushwick Inlet Park (86K) 86 Kent Ave Brooklyn NY 11249 United States;X-APPLE-RADIUS=500;X-TITLE=86 Kent Ave:geo:-73.9614455,40.72206
END:VEVENT
BEGIN:VEVENT
DTSTART;TZID=America/New_York:20250924T180000
DTEND;TZID=America/New_York:20250924T193000
DTSTAMP:20260423T022808
CREATED:20250915T145847Z
LAST-MODIFIED:20250915T150130Z
UID:10000713-1758736800-1758742200@bushwickinletpark.org
SUMMARY:Weeding Wednesdays 2025
DESCRIPTION:Join us every week on Wednesday from 6pm to sunset as we weed\, mulch\, tend plants and blossoms\, sometimes plant and water (if necessary). We have tools and gloves (but bring yours if you have them). Bring a water bottle. Everyone welcome but please note in your sign up if you are bringing others. \nWe focus on open spaces at 50 Kent Avenue and 86 Kent Avenue. Please keep an eye on your email after registering to confirm which location we’ll meet at on a given day! \nSign up.
URL:https://bushwickinletpark.org/event/weeding-wednesdays-2025-3/2025-09-24/
LOCATION:Location TBD Each Week
CATEGORIES:Gardening
ATTACH;FMTTYPE=image/png:https://eadn-wc01-5191420.nxedge.io/wp-content/uploads/2025/03/WEEDING-wednesdays-2025-header.png
ORGANIZER;CN="Friends of Bushwick Inlet Park":MAILTO:info@bushwickinletpark.org
END:VEVENT
BEGIN:VEVENT
DTSTART;TZID=America/New_York:20250928T170000
DTEND;TZID=America/New_York:20250928T183000
DTSTAMP:20260423T022808
CREATED:20250701T194321Z
LAST-MODIFIED:20250922T114359Z
UID:10000711-1759078800-1759084200@bushwickinletpark.org
SUMMARY:Summer Music Series 2025: Carol Sudhalter Quintet
DESCRIPTION:*Make up date \nFor the 5th summer FBIP brings music to the beautiful waterfront in Bushwick Inlet Park with our Summer Music in BIP 2025 series. Come take in a skyline river sunset on the 86 Kent shoreline esplanade while absorbing great musical vibes from multiple genres. \nThe Jazz Foundation of America presents Carol Sudhalter Quintet. \nFlautist and saxophonist Carol Sudhalter didn’t take up music until her third year of college (biology major)\, but hasn’t let up since. She was the first graduate of Smith College to become a professional jazz musician\, and in 1978 moved from Boston to New York City to join the all-women Latin band\, Latin Fever. In 1986 she founded the 13-piece Astoria Big Band\, and later founded several performance initiatives in Queens\, including the Athens Square Park Jazz Mondays series\, Astoria / LIC Waterfront Jazz Festival\, and Sunset Jazz Concerts in Ralph Demarco Park. Sudhalter has worked with many notable artists including Etta Jones\, Jimmy McGriff\, Sarah McLawler\, Henry Butler\, Chico Freeman\, Jimmy Cobb and Jason Marsalis. She currently holds court as the intrepid leader of Flushing Town Hall’s Louis Armstrong Legacy Jam. \nFriends of Bushwick Inlet Park is sponsored\, in part\, by the Greater New York Arts Development Fund of the New York City Department of Cultural Affairs\, administered by Brooklyn Arts Council. \nA big thanks goes out this year’s sponsors & supporters: \n \n\n\n 
URL:https://bushwickinletpark.org/event/summer-music-series-2025-carol-sudhalter-quintet/
LOCATION:Bushwick Inlet Park (86K)\, 86 Kent Ave\, Brooklyn\, NY\, 11249\, United States
CATEGORIES:86 Kent,Summer Music in BIP,Upcoming Events
ATTACH;FMTTYPE=image/jpeg:https://eadn-wc01-5191420.nxedge.io/wp-content/uploads/2025/07/Carol-Sudhalter-updated.jpg
ORGANIZER;CN="Friends of Bushwick Inlet Park":MAILTO:info@bushwickinletpark.org
GEO:40.72206;-73.9614455
X-APPLE-STRUCTURED-LOCATION;VALUE=URI;X-ADDRESS=Bushwick Inlet Park (86K) 86 Kent Ave Brooklyn NY 11249 United States;X-APPLE-RADIUS=500;X-TITLE=86 Kent Ave:geo:-73.9614455,40.72206
END:VEVENT
END:VCALENDAR