BEGIN:VCALENDAR
VERSION:2.0
PRODID:-//Friends of Bushwick Inlet Park - ECPv6.15.20//NONSGML v1.0//EN
CALSCALE:GREGORIAN
METHOD:PUBLISH
X-ORIGINAL-URL:https://bushwickinletpark.org
X-WR-CALDESC:Events for Friends of Bushwick Inlet Park
REFRESH-INTERVAL;VALUE=DURATION:PT1H
X-Robots-Tag:noindex
X-PUBLISHED-TTL:PT1H
BEGIN:VTIMEZONE
TZID:America/New_York
BEGIN:DAYLIGHT
TZOFFSETFROM:-0500
TZOFFSETTO:-0400
TZNAME:EDT
DTSTART:20240310T070000
END:DAYLIGHT
BEGIN:STANDARD
TZOFFSETFROM:-0400
TZOFFSETTO:-0500
TZNAME:EST
DTSTART:20241103T060000
END:STANDARD
BEGIN:DAYLIGHT
TZOFFSETFROM:-0500
TZOFFSETTO:-0400
TZNAME:EDT
DTSTART:20250309T070000
END:DAYLIGHT
BEGIN:STANDARD
TZOFFSETFROM:-0400
TZOFFSETTO:-0500
TZNAME:EST
DTSTART:20251102T060000
END:STANDARD
BEGIN:DAYLIGHT
TZOFFSETFROM:-0500
TZOFFSETTO:-0400
TZNAME:EDT
DTSTART:20260308T070000
END:DAYLIGHT
BEGIN:STANDARD
TZOFFSETFROM:-0400
TZOFFSETTO:-0500
TZNAME:EST
DTSTART:20261101T060000
END:STANDARD
END:VTIMEZONE
BEGIN:VEVENT
DTSTART;TZID=America/New_York:20251001T170000
DTEND;TZID=America/New_York:20251001T183000
DTSTAMP:20260423T005128
CREATED:20251001T003359Z
LAST-MODIFIED:20251001T003605Z
UID:10000718-1759338000-1759343400@bushwickinletpark.org
SUMMARY:Weeding Wednesdays 2025
DESCRIPTION:Join us every week on Wednesday from 6pm (5pm starting Oct 1st) to sunset as we weed\, mulch\, tend plants and blossoms\, sometimes plant and water (if necessary). We have tools and gloves (but bring yours if you have them). Bring a water bottle. Everyone welcome but please note in your sign up if you are bringing others. \nWe focus on open spaces at 50 Kent Avenue and 86 Kent Avenue. Please keep an eye on your email after registering to confirm which location we’ll meet at on a given day! \nSign up.
URL:https://bushwickinletpark.org/event/weeding-wednesdays-2025-3-2/
LOCATION:Location TBD Each Week
CATEGORIES:Gardening
ATTACH;FMTTYPE=image/png:https://eadn-wc01-5191420.nxedge.io/wp-content/uploads/2025/03/WEEDING-wednesdays-2025-header.png
ORGANIZER;CN="Friends of Bushwick Inlet Park":MAILTO:info@bushwickinletpark.org
END:VEVENT
BEGIN:VEVENT
DTSTART;TZID=America/New_York:20251008T170000
DTEND;TZID=America/New_York:20251008T183000
DTSTAMP:20260423T005128
CREATED:20251001T003930Z
LAST-MODIFIED:20251001T003930Z
UID:10000715-1759942800-1759948200@bushwickinletpark.org
SUMMARY:Weeding Wednesdays 2025
DESCRIPTION:Join us every week on Wednesday from 6pm (5pm starting Oct 1st) to sunset as we weed\, mulch\, tend plants and blossoms\, sometimes plant and water (if necessary). We have tools and gloves (but bring yours if you have them). Bring a water bottle. Everyone welcome but please note in your sign up if you are bringing others. \nWe focus on open spaces at 50 Kent Avenue and 86 Kent Avenue. Please keep an eye on your email after registering to confirm which location we’ll meet at on a given day! \nSign up.
URL:https://bushwickinletpark.org/event/weeding-wednesdays-2025-3-2-2/2025-10-08/
LOCATION:Location TBD Each Week
CATEGORIES:Gardening
ATTACH;FMTTYPE=image/png:https://eadn-wc01-5191420.nxedge.io/wp-content/uploads/2025/03/WEEDING-wednesdays-2025-header.png
ORGANIZER;CN="Friends of Bushwick Inlet Park":MAILTO:info@bushwickinletpark.org
END:VEVENT
BEGIN:VEVENT
DTSTART;TZID=America/New_York:20251011T093000
DTEND;TZID=America/New_York:20251011T110000
DTSTAMP:20260423T005128
CREATED:20251001T200827Z
LAST-MODIFIED:20251001T203051Z
UID:10000720-1760175000-1760180400@bushwickinletpark.org
SUMMARY:Birds of BIP- World Migratory Bird Day
DESCRIPTION:Join Friends of Bushwick Inlet Park and the team at Save the Inlet for a special event: World Migratory Bird Day! Together\, we’ll celebrate this day with a guided walk through the park to discuss the Birds of BIP and shared spaces this World Migratory Bird Day and how we can help the spaces they rely upon year-round. This is an all-ages event.\n\nDate and Timing: Saturday\, October 11\, 2025\, at 9:30 AM\nLocation: Bushwick Inlet Park \n\n\nEvent Location Start: Bushwick Inlet Park- 86 Kent Avenue\, Brooklyn\, NY (see below for “meeting place”)\nEvent Location End: Bushwick Inlet Park- 50 Kent Avenue\, Brooklyn\, NY\n\n\nSign up\n…\nMeeting Place\nUse the provided coordinates for the meeting place at Bushwick Inlet Park at 86 Kent Avenue\, Brooklyn\, NY (Coordinates for park entrance meet up: 40.721607\, -73.960715).\n \nEvent is rain or shine (with the exception of thunderstorms or flash flooding)\n\n\nADA Information:  This event will take place outdoors on paved paths\, sidewalks within the parks’ parcels\, and on grass. There is a slight incline at the back of 86 Kent Avenue. Both 86 and 50 Kent offer ramps for wheelchairs and other accessibility needs.\n\nThis guided walk adheres to all NYC Park rules\, including those regarding off-leash dogs. Thank you in advance for your understanding.\n\n\nContact us at savethebushwickinlet@gmail.com for any follow-up questions.
URL:https://bushwickinletpark.org/event/birds-of-bip-world-migratory-bird-day/
LOCATION:Bushwick Inlet Park (86K)\, 86 Kent Ave\, Brooklyn\, NY\, 11249\, United States
CATEGORIES:50 Kent,86 Kent,Class,Environmental Education
ATTACH;FMTTYPE=image/png:https://eadn-wc01-5191420.nxedge.io/wp-content/uploads/2025/10/BIRD-WITH-BIP-website.png
ORGANIZER;CN="Friends of Bushwick Inlet Park":MAILTO:info@bushwickinletpark.org
GEO:40.72206;-73.9614455
X-APPLE-STRUCTURED-LOCATION;VALUE=URI;X-ADDRESS=Bushwick Inlet Park (86K) 86 Kent Ave Brooklyn NY 11249 United States;X-APPLE-RADIUS=500;X-TITLE=86 Kent Ave:geo:-73.9614455,40.72206
END:VEVENT
BEGIN:VEVENT
DTSTART;TZID=America/New_York:20251015T170000
DTEND;TZID=America/New_York:20251015T183000
DTSTAMP:20260423T005128
CREATED:20251001T004136Z
LAST-MODIFIED:20251001T004136Z
UID:10000716-1760547600-1760553000@bushwickinletpark.org
SUMMARY:Weeding Wednesdays 2025
DESCRIPTION:Join us every week on Wednesday from 6pm (5pm starting Oct 1st) to sunset as we weed\, mulch\, tend plants and blossoms\, sometimes plant and water (if necessary). We have tools and gloves (but bring yours if you have them). Bring a water bottle. Everyone welcome but please note in your sign up if you are bringing others. \nWe focus on open spaces at 50 Kent Avenue and 86 Kent Avenue. Please keep an eye on your email after registering to confirm which location we’ll meet at on a given day! \nSign up.
URL:https://bushwickinletpark.org/event/weeding-wednesdays-2025-3-2-2-2/
LOCATION:Location TBD Each Week
CATEGORIES:Gardening
ATTACH;FMTTYPE=image/png:https://eadn-wc01-5191420.nxedge.io/wp-content/uploads/2025/03/WEEDING-wednesdays-2025-header.png
ORGANIZER;CN="Friends of Bushwick Inlet Park":MAILTO:info@bushwickinletpark.org
END:VEVENT
BEGIN:VEVENT
DTSTART;TZID=America/New_York:20251022T170000
DTEND;TZID=America/New_York:20251022T183000
DTSTAMP:20260423T005128
CREATED:20251001T004217Z
LAST-MODIFIED:20251001T004217Z
UID:10000717-1761152400-1761157800@bushwickinletpark.org
SUMMARY:Weeding Wednesdays 2025
DESCRIPTION:Join us every week on Wednesday from 6pm (5pm starting Oct 1st) to sunset as we weed\, mulch\, tend plants and blossoms\, sometimes plant and water (if necessary). We have tools and gloves (but bring yours if you have them). Bring a water bottle. Everyone welcome but please note in your sign up if you are bringing others. \nWe focus on open spaces at 50 Kent Avenue and 86 Kent Avenue. Please keep an eye on your email after registering to confirm which location we’ll meet at on a given day! \nSign up.
URL:https://bushwickinletpark.org/event/weeding-wednesdays-2025-3-2-2-3/
LOCATION:Location TBD Each Week
CATEGORIES:Gardening
ATTACH;FMTTYPE=image/png:https://eadn-wc01-5191420.nxedge.io/wp-content/uploads/2025/03/WEEDING-wednesdays-2025-header.png
ORGANIZER;CN="Friends of Bushwick Inlet Park":MAILTO:info@bushwickinletpark.org
END:VEVENT
END:VCALENDAR