BEGIN:VCALENDAR
VERSION:2.0
PRODID:-//Friends of Bushwick Inlet Park - ECPv6.15.20//NONSGML v1.0//EN
CALSCALE:GREGORIAN
METHOD:PUBLISH
X-WR-CALNAME:Friends of Bushwick Inlet Park
X-ORIGINAL-URL:https://bushwickinletpark.org
X-WR-CALDESC:Events for Friends of Bushwick Inlet Park
REFRESH-INTERVAL;VALUE=DURATION:PT1H
X-Robots-Tag:noindex
X-PUBLISHED-TTL:PT1H
BEGIN:VTIMEZONE
TZID:America/New_York
BEGIN:DAYLIGHT
TZOFFSETFROM:-0500
TZOFFSETTO:-0400
TZNAME:EDT
DTSTART:20250309T070000
END:DAYLIGHT
BEGIN:STANDARD
TZOFFSETFROM:-0400
TZOFFSETTO:-0500
TZNAME:EST
DTSTART:20251102T060000
END:STANDARD
BEGIN:DAYLIGHT
TZOFFSETFROM:-0500
TZOFFSETTO:-0400
TZNAME:EDT
DTSTART:20260308T070000
END:DAYLIGHT
BEGIN:STANDARD
TZOFFSETFROM:-0400
TZOFFSETTO:-0500
TZNAME:EST
DTSTART:20261101T060000
END:STANDARD
BEGIN:DAYLIGHT
TZOFFSETFROM:-0500
TZOFFSETTO:-0400
TZNAME:EDT
DTSTART:20270314T070000
END:DAYLIGHT
BEGIN:STANDARD
TZOFFSETFROM:-0400
TZOFFSETTO:-0500
TZNAME:EST
DTSTART:20271107T060000
END:STANDARD
END:VTIMEZONE
BEGIN:VEVENT
DTSTART;TZID=America/New_York:20260603T180000
DTEND;TZID=America/New_York:20260603T193000
DTSTAMP:20260422T181608
CREATED:20260413T143558Z
LAST-MODIFIED:20260421T193535Z
UID:10000737-1780509600-1780515000@bushwickinletpark.org
SUMMARY:Weeding Wednesdays 2026
DESCRIPTION:Join us every week on Wednesday from 6pm to sunset as we weed\, mulch\, tend plants and blossoms\, sometimes plant and water (if necessary). We have tools and gloves (but bring yours if you have them/prefer). Bring a water bottle (hydration is key! for us and the gardens). Everyone welcome but please note in your sign up if you are bringing others. \nRequired signup. \nCome hang – meet other garden aficionados\, get grounded – literally\, identify plants\, discuss best gardening practices! \nWe focus on open spaces at 50 Kent Avenue and 86 Kent Avenue. Please keep an eye on your email (or instagram) after registering to confirm which location we’ll meet at on a given day!
URL:https://bushwickinletpark.org/event/weeding-wednesdays-2026/2026-06-03/
LOCATION:Bushwick Inlet Park (50 Kent Ave)\, 50 Kent Ave\, Brooklyn\, NY\, 11249\, United States
CATEGORIES:50 Kent,86 Kent,Gardening
ATTACH;FMTTYPE=image/jpeg:https://eadn-wc01-5191420.nxedge.io/wp-content/uploads/2026/04/weeding-wednesdays-2026-v2-scaled.jpg
ORGANIZER;CN="Friends of Bushwick Inlet Park":MAILTO:info@bushwickinletpark.org
GEO:40.7231845;-73.9597003
X-APPLE-STRUCTURED-LOCATION;VALUE=URI;X-ADDRESS=Bushwick Inlet Park (50 Kent Ave) 50 Kent Ave Brooklyn NY 11249 United States;X-APPLE-RADIUS=500;X-TITLE=50 Kent Ave:geo:-73.9597003,40.7231845
END:VEVENT
BEGIN:VEVENT
DTSTART;TZID=America/New_York:20260604T183000
DTEND;TZID=America/New_York:20260604T210000
DTSTAMP:20260422T181608
CREATED:20260421T185717Z
LAST-MODIFIED:20260421T190739Z
UID:10000759-1780597800-1780606800@bushwickinletpark.org
SUMMARY:3rd Annual Park~raiser
DESCRIPTION:Join us for Park~Raiser 2026\, our annual fundraiser in support of Bushwick Inlet Park. \nA night on the Williamsburg waterfront bringing together neighbors\, friends\, and local supporters to connect\, celebrate our shared commitment to the park\, and help keep this green space thriving. \nEnjoy: \n\nOpen bar\nFood and drinks from local partners\nMusic and a lively atmosphere\nSilent auction\n200+ guests from the North Brooklyn community\n\nLast year’s event sold out. We are excited to make this one even better. \nYour support helps sustain park stewardship\, expand community programming\, and shape the future of Bushwick Inlet Park. \nCocktail Attire. \n~ Friends of Bushwick Inlet Park \n  \nGET TICKETS\n\n  \nSponsors\n  \n \n  \n 
URL:https://bushwickinletpark.org/event/3rd-annual-parkraiser/
LOCATION:Vesper Events\, 25 Kent Ave\, South Bldg 4th Fl\, Brooklyn\, 11249\, United States
CATEGORIES:Gala,Upcoming Events
ATTACH;FMTTYPE=image/jpeg:https://eadn-wc01-5191420.nxedge.io/wp-content/uploads/2026/04/FBIP-Gala-Website-v2.jpeg
ORGANIZER;CN="Friends of Bushwick Inlet Park":MAILTO:info@bushwickinletpark.org
GEO:40.7230345;-73.9575412
X-APPLE-STRUCTURED-LOCATION;VALUE=URI;X-ADDRESS=Vesper Events 25 Kent Ave South Bldg 4th Fl Brooklyn 11249 United States;X-APPLE-RADIUS=500;X-TITLE=25 Kent Ave\, South Bldg 4th Fl:geo:-73.9575412,40.7230345
END:VEVENT
BEGIN:VEVENT
DTSTART;TZID=America/New_York:20260610T180000
DTEND;TZID=America/New_York:20260610T193000
DTSTAMP:20260422T181608
CREATED:20260413T143558Z
LAST-MODIFIED:20260421T193535Z
UID:10000738-1781114400-1781119800@bushwickinletpark.org
SUMMARY:Weeding Wednesdays 2026
DESCRIPTION:Join us every week on Wednesday from 6pm to sunset as we weed\, mulch\, tend plants and blossoms\, sometimes plant and water (if necessary). We have tools and gloves (but bring yours if you have them/prefer). Bring a water bottle (hydration is key! for us and the gardens). Everyone welcome but please note in your sign up if you are bringing others. \nRequired signup. \nCome hang – meet other garden aficionados\, get grounded – literally\, identify plants\, discuss best gardening practices! \nWe focus on open spaces at 50 Kent Avenue and 86 Kent Avenue. Please keep an eye on your email (or instagram) after registering to confirm which location we’ll meet at on a given day!
URL:https://bushwickinletpark.org/event/weeding-wednesdays-2026/2026-06-10/
LOCATION:Bushwick Inlet Park (50 Kent Ave)\, 50 Kent Ave\, Brooklyn\, NY\, 11249\, United States
CATEGORIES:50 Kent,86 Kent,Gardening
ATTACH;FMTTYPE=image/jpeg:https://eadn-wc01-5191420.nxedge.io/wp-content/uploads/2026/04/weeding-wednesdays-2026-v2-scaled.jpg
ORGANIZER;CN="Friends of Bushwick Inlet Park":MAILTO:info@bushwickinletpark.org
GEO:40.7231845;-73.9597003
X-APPLE-STRUCTURED-LOCATION;VALUE=URI;X-ADDRESS=Bushwick Inlet Park (50 Kent Ave) 50 Kent Ave Brooklyn NY 11249 United States;X-APPLE-RADIUS=500;X-TITLE=50 Kent Ave:geo:-73.9597003,40.7231845
END:VEVENT
BEGIN:VEVENT
DTSTART;TZID=America/New_York:20260617T180000
DTEND;TZID=America/New_York:20260617T193000
DTSTAMP:20260422T181608
CREATED:20260413T143558Z
LAST-MODIFIED:20260421T193535Z
UID:10000739-1781719200-1781724600@bushwickinletpark.org
SUMMARY:Weeding Wednesdays 2026
DESCRIPTION:Join us every week on Wednesday from 6pm to sunset as we weed\, mulch\, tend plants and blossoms\, sometimes plant and water (if necessary). We have tools and gloves (but bring yours if you have them/prefer). Bring a water bottle (hydration is key! for us and the gardens). Everyone welcome but please note in your sign up if you are bringing others. \nRequired signup. \nCome hang – meet other garden aficionados\, get grounded – literally\, identify plants\, discuss best gardening practices! \nWe focus on open spaces at 50 Kent Avenue and 86 Kent Avenue. Please keep an eye on your email (or instagram) after registering to confirm which location we’ll meet at on a given day!
URL:https://bushwickinletpark.org/event/weeding-wednesdays-2026/2026-06-17/
LOCATION:Bushwick Inlet Park (50 Kent Ave)\, 50 Kent Ave\, Brooklyn\, NY\, 11249\, United States
CATEGORIES:50 Kent,86 Kent,Gardening
ATTACH;FMTTYPE=image/jpeg:https://eadn-wc01-5191420.nxedge.io/wp-content/uploads/2026/04/weeding-wednesdays-2026-v2-scaled.jpg
ORGANIZER;CN="Friends of Bushwick Inlet Park":MAILTO:info@bushwickinletpark.org
GEO:40.7231845;-73.9597003
X-APPLE-STRUCTURED-LOCATION;VALUE=URI;X-ADDRESS=Bushwick Inlet Park (50 Kent Ave) 50 Kent Ave Brooklyn NY 11249 United States;X-APPLE-RADIUS=500;X-TITLE=50 Kent Ave:geo:-73.9597003,40.7231845
END:VEVENT
BEGIN:VEVENT
DTSTART;TZID=America/New_York:20260624T180000
DTEND;TZID=America/New_York:20260624T193000
DTSTAMP:20260422T181608
CREATED:20260413T143558Z
LAST-MODIFIED:20260421T193535Z
UID:10000740-1782324000-1782329400@bushwickinletpark.org
SUMMARY:Weeding Wednesdays 2026
DESCRIPTION:Join us every week on Wednesday from 6pm to sunset as we weed\, mulch\, tend plants and blossoms\, sometimes plant and water (if necessary). We have tools and gloves (but bring yours if you have them/prefer). Bring a water bottle (hydration is key! for us and the gardens). Everyone welcome but please note in your sign up if you are bringing others. \nRequired signup. \nCome hang – meet other garden aficionados\, get grounded – literally\, identify plants\, discuss best gardening practices! \nWe focus on open spaces at 50 Kent Avenue and 86 Kent Avenue. Please keep an eye on your email (or instagram) after registering to confirm which location we’ll meet at on a given day!
URL:https://bushwickinletpark.org/event/weeding-wednesdays-2026/2026-06-24/
LOCATION:Bushwick Inlet Park (50 Kent Ave)\, 50 Kent Ave\, Brooklyn\, NY\, 11249\, United States
CATEGORIES:50 Kent,86 Kent,Gardening
ATTACH;FMTTYPE=image/jpeg:https://eadn-wc01-5191420.nxedge.io/wp-content/uploads/2026/04/weeding-wednesdays-2026-v2-scaled.jpg
ORGANIZER;CN="Friends of Bushwick Inlet Park":MAILTO:info@bushwickinletpark.org
GEO:40.7231845;-73.9597003
X-APPLE-STRUCTURED-LOCATION;VALUE=URI;X-ADDRESS=Bushwick Inlet Park (50 Kent Ave) 50 Kent Ave Brooklyn NY 11249 United States;X-APPLE-RADIUS=500;X-TITLE=50 Kent Ave:geo:-73.9597003,40.7231845
END:VEVENT
END:VCALENDAR