BEGIN:VCALENDAR
VERSION:2.0
PRODID:-//Friends of Bushwick Inlet Park - ECPv6.15.20//NONSGML v1.0//EN
CALSCALE:GREGORIAN
METHOD:PUBLISH
X-ORIGINAL-URL:https://bushwickinletpark.org
X-WR-CALDESC:Events for Friends of Bushwick Inlet Park
REFRESH-INTERVAL;VALUE=DURATION:PT1H
X-Robots-Tag:noindex
X-PUBLISHED-TTL:PT1H
BEGIN:VTIMEZONE
TZID:America/New_York
BEGIN:DAYLIGHT
TZOFFSETFROM:-0500
TZOFFSETTO:-0400
TZNAME:EDT
DTSTART:20250309T070000
END:DAYLIGHT
BEGIN:STANDARD
TZOFFSETFROM:-0400
TZOFFSETTO:-0500
TZNAME:EST
DTSTART:20251102T060000
END:STANDARD
BEGIN:DAYLIGHT
TZOFFSETFROM:-0500
TZOFFSETTO:-0400
TZNAME:EDT
DTSTART:20260308T070000
END:DAYLIGHT
BEGIN:STANDARD
TZOFFSETFROM:-0400
TZOFFSETTO:-0500
TZNAME:EST
DTSTART:20261101T060000
END:STANDARD
BEGIN:DAYLIGHT
TZOFFSETFROM:-0500
TZOFFSETTO:-0400
TZNAME:EDT
DTSTART:20270314T070000
END:DAYLIGHT
BEGIN:STANDARD
TZOFFSETFROM:-0400
TZOFFSETTO:-0500
TZNAME:EST
DTSTART:20271107T060000
END:STANDARD
END:VTIMEZONE
BEGIN:VEVENT
DTSTART;TZID=America/New_York:20260909T180000
DTEND;TZID=America/New_York:20260909T193000
DTSTAMP:20260421T205603
CREATED:20260413T143558Z
LAST-MODIFIED:20260421T193535Z
UID:10000751-1788976800-1788982200@bushwickinletpark.org
SUMMARY:Weeding Wednesdays 2026
DESCRIPTION:Join us every week on Wednesday from 6pm to sunset as we weed\, mulch\, tend plants and blossoms\, sometimes plant and water (if necessary). We have tools and gloves (but bring yours if you have them/prefer). Bring a water bottle (hydration is key! for us and the gardens). Everyone welcome but please note in your sign up if you are bringing others. \nRequired signup. \nCome hang – meet other garden aficionados\, get grounded – literally\, identify plants\, discuss best gardening practices! \nWe focus on open spaces at 50 Kent Avenue and 86 Kent Avenue. Please keep an eye on your email (or instagram) after registering to confirm which location we’ll meet at on a given day!
URL:https://bushwickinletpark.org/event/weeding-wednesdays-2026/2026-09-09/
LOCATION:Bushwick Inlet Park (50 Kent Ave)\, 50 Kent Ave\, Brooklyn\, NY\, 11249\, United States
CATEGORIES:50 Kent,86 Kent,Gardening
ATTACH;FMTTYPE=image/jpeg:https://eadn-wc01-5191420.nxedge.io/wp-content/uploads/2026/04/weeding-wednesdays-2026-v2-scaled.jpg
ORGANIZER;CN="Friends of Bushwick Inlet Park":MAILTO:info@bushwickinletpark.org
GEO:40.7231845;-73.9597003
X-APPLE-STRUCTURED-LOCATION;VALUE=URI;X-ADDRESS=Bushwick Inlet Park (50 Kent Ave) 50 Kent Ave Brooklyn NY 11249 United States;X-APPLE-RADIUS=500;X-TITLE=50 Kent Ave:geo:-73.9597003,40.7231845
END:VEVENT
BEGIN:VEVENT
DTSTART;TZID=America/New_York:20260916T180000
DTEND;TZID=America/New_York:20260916T193000
DTSTAMP:20260421T205603
CREATED:20260413T143558Z
LAST-MODIFIED:20260421T193535Z
UID:10000752-1789581600-1789587000@bushwickinletpark.org
SUMMARY:Weeding Wednesdays 2026
DESCRIPTION:Join us every week on Wednesday from 6pm to sunset as we weed\, mulch\, tend plants and blossoms\, sometimes plant and water (if necessary). We have tools and gloves (but bring yours if you have them/prefer). Bring a water bottle (hydration is key! for us and the gardens). Everyone welcome but please note in your sign up if you are bringing others. \nRequired signup. \nCome hang – meet other garden aficionados\, get grounded – literally\, identify plants\, discuss best gardening practices! \nWe focus on open spaces at 50 Kent Avenue and 86 Kent Avenue. Please keep an eye on your email (or instagram) after registering to confirm which location we’ll meet at on a given day!
URL:https://bushwickinletpark.org/event/weeding-wednesdays-2026/2026-09-16/
LOCATION:Bushwick Inlet Park (50 Kent Ave)\, 50 Kent Ave\, Brooklyn\, NY\, 11249\, United States
CATEGORIES:50 Kent,86 Kent,Gardening
ATTACH;FMTTYPE=image/jpeg:https://eadn-wc01-5191420.nxedge.io/wp-content/uploads/2026/04/weeding-wednesdays-2026-v2-scaled.jpg
ORGANIZER;CN="Friends of Bushwick Inlet Park":MAILTO:info@bushwickinletpark.org
GEO:40.7231845;-73.9597003
X-APPLE-STRUCTURED-LOCATION;VALUE=URI;X-ADDRESS=Bushwick Inlet Park (50 Kent Ave) 50 Kent Ave Brooklyn NY 11249 United States;X-APPLE-RADIUS=500;X-TITLE=50 Kent Ave:geo:-73.9597003,40.7231845
END:VEVENT
BEGIN:VEVENT
DTSTART;TZID=America/New_York:20260923T180000
DTEND;TZID=America/New_York:20260923T193000
DTSTAMP:20260421T205603
CREATED:20260413T143558Z
LAST-MODIFIED:20260421T193535Z
UID:10000753-1790186400-1790191800@bushwickinletpark.org
SUMMARY:Weeding Wednesdays 2026
DESCRIPTION:Join us every week on Wednesday from 6pm to sunset as we weed\, mulch\, tend plants and blossoms\, sometimes plant and water (if necessary). We have tools and gloves (but bring yours if you have them/prefer). Bring a water bottle (hydration is key! for us and the gardens). Everyone welcome but please note in your sign up if you are bringing others. \nRequired signup. \nCome hang – meet other garden aficionados\, get grounded – literally\, identify plants\, discuss best gardening practices! \nWe focus on open spaces at 50 Kent Avenue and 86 Kent Avenue. Please keep an eye on your email (or instagram) after registering to confirm which location we’ll meet at on a given day!
URL:https://bushwickinletpark.org/event/weeding-wednesdays-2026/2026-09-23/
LOCATION:Bushwick Inlet Park (50 Kent Ave)\, 50 Kent Ave\, Brooklyn\, NY\, 11249\, United States
CATEGORIES:50 Kent,86 Kent,Gardening
ATTACH;FMTTYPE=image/jpeg:https://eadn-wc01-5191420.nxedge.io/wp-content/uploads/2026/04/weeding-wednesdays-2026-v2-scaled.jpg
ORGANIZER;CN="Friends of Bushwick Inlet Park":MAILTO:info@bushwickinletpark.org
GEO:40.7231845;-73.9597003
X-APPLE-STRUCTURED-LOCATION;VALUE=URI;X-ADDRESS=Bushwick Inlet Park (50 Kent Ave) 50 Kent Ave Brooklyn NY 11249 United States;X-APPLE-RADIUS=500;X-TITLE=50 Kent Ave:geo:-73.9597003,40.7231845
END:VEVENT
BEGIN:VEVENT
DTSTART;TZID=America/New_York:20260930T180000
DTEND;TZID=America/New_York:20260930T193000
DTSTAMP:20260421T205603
CREATED:20260413T143558Z
LAST-MODIFIED:20260421T193535Z
UID:10000754-1790791200-1790796600@bushwickinletpark.org
SUMMARY:Weeding Wednesdays 2026
DESCRIPTION:Join us every week on Wednesday from 6pm to sunset as we weed\, mulch\, tend plants and blossoms\, sometimes plant and water (if necessary). We have tools and gloves (but bring yours if you have them/prefer). Bring a water bottle (hydration is key! for us and the gardens). Everyone welcome but please note in your sign up if you are bringing others. \nRequired signup. \nCome hang – meet other garden aficionados\, get grounded – literally\, identify plants\, discuss best gardening practices! \nWe focus on open spaces at 50 Kent Avenue and 86 Kent Avenue. Please keep an eye on your email (or instagram) after registering to confirm which location we’ll meet at on a given day!
URL:https://bushwickinletpark.org/event/weeding-wednesdays-2026/2026-09-30/
LOCATION:Bushwick Inlet Park (50 Kent Ave)\, 50 Kent Ave\, Brooklyn\, NY\, 11249\, United States
CATEGORIES:50 Kent,86 Kent,Gardening
ATTACH;FMTTYPE=image/jpeg:https://eadn-wc01-5191420.nxedge.io/wp-content/uploads/2026/04/weeding-wednesdays-2026-v2-scaled.jpg
ORGANIZER;CN="Friends of Bushwick Inlet Park":MAILTO:info@bushwickinletpark.org
GEO:40.7231845;-73.9597003
X-APPLE-STRUCTURED-LOCATION;VALUE=URI;X-ADDRESS=Bushwick Inlet Park (50 Kent Ave) 50 Kent Ave Brooklyn NY 11249 United States;X-APPLE-RADIUS=500;X-TITLE=50 Kent Ave:geo:-73.9597003,40.7231845
END:VEVENT
BEGIN:VEVENT
DTSTART;TZID=America/New_York:20261007T180000
DTEND;TZID=America/New_York:20261007T193000
DTSTAMP:20260421T205603
CREATED:20260413T143558Z
LAST-MODIFIED:20260421T193535Z
UID:10000755-1791396000-1791401400@bushwickinletpark.org
SUMMARY:Weeding Wednesdays 2026
DESCRIPTION:Join us every week on Wednesday from 6pm to sunset as we weed\, mulch\, tend plants and blossoms\, sometimes plant and water (if necessary). We have tools and gloves (but bring yours if you have them/prefer). Bring a water bottle (hydration is key! for us and the gardens). Everyone welcome but please note in your sign up if you are bringing others. \nRequired signup. \nCome hang – meet other garden aficionados\, get grounded – literally\, identify plants\, discuss best gardening practices! \nWe focus on open spaces at 50 Kent Avenue and 86 Kent Avenue. Please keep an eye on your email (or instagram) after registering to confirm which location we’ll meet at on a given day!
URL:https://bushwickinletpark.org/event/weeding-wednesdays-2026/2026-10-07/
LOCATION:Bushwick Inlet Park (50 Kent Ave)\, 50 Kent Ave\, Brooklyn\, NY\, 11249\, United States
CATEGORIES:50 Kent,86 Kent,Gardening
ATTACH;FMTTYPE=image/jpeg:https://eadn-wc01-5191420.nxedge.io/wp-content/uploads/2026/04/weeding-wednesdays-2026-v2-scaled.jpg
ORGANIZER;CN="Friends of Bushwick Inlet Park":MAILTO:info@bushwickinletpark.org
GEO:40.7231845;-73.9597003
X-APPLE-STRUCTURED-LOCATION;VALUE=URI;X-ADDRESS=Bushwick Inlet Park (50 Kent Ave) 50 Kent Ave Brooklyn NY 11249 United States;X-APPLE-RADIUS=500;X-TITLE=50 Kent Ave:geo:-73.9597003,40.7231845
END:VEVENT
BEGIN:VEVENT
DTSTART;TZID=America/New_York:20261014T180000
DTEND;TZID=America/New_York:20261014T193000
DTSTAMP:20260421T205603
CREATED:20260413T143558Z
LAST-MODIFIED:20260421T193535Z
UID:10000756-1792000800-1792006200@bushwickinletpark.org
SUMMARY:Weeding Wednesdays 2026
DESCRIPTION:Join us every week on Wednesday from 6pm to sunset as we weed\, mulch\, tend plants and blossoms\, sometimes plant and water (if necessary). We have tools and gloves (but bring yours if you have them/prefer). Bring a water bottle (hydration is key! for us and the gardens). Everyone welcome but please note in your sign up if you are bringing others. \nRequired signup. \nCome hang – meet other garden aficionados\, get grounded – literally\, identify plants\, discuss best gardening practices! \nWe focus on open spaces at 50 Kent Avenue and 86 Kent Avenue. Please keep an eye on your email (or instagram) after registering to confirm which location we’ll meet at on a given day!
URL:https://bushwickinletpark.org/event/weeding-wednesdays-2026/2026-10-14/
LOCATION:Bushwick Inlet Park (50 Kent Ave)\, 50 Kent Ave\, Brooklyn\, NY\, 11249\, United States
CATEGORIES:50 Kent,86 Kent,Gardening
ATTACH;FMTTYPE=image/jpeg:https://eadn-wc01-5191420.nxedge.io/wp-content/uploads/2026/04/weeding-wednesdays-2026-v2-scaled.jpg
ORGANIZER;CN="Friends of Bushwick Inlet Park":MAILTO:info@bushwickinletpark.org
GEO:40.7231845;-73.9597003
X-APPLE-STRUCTURED-LOCATION;VALUE=URI;X-ADDRESS=Bushwick Inlet Park (50 Kent Ave) 50 Kent Ave Brooklyn NY 11249 United States;X-APPLE-RADIUS=500;X-TITLE=50 Kent Ave:geo:-73.9597003,40.7231845
END:VEVENT
BEGIN:VEVENT
DTSTART;TZID=America/New_York:20261021T180000
DTEND;TZID=America/New_York:20261021T193000
DTSTAMP:20260421T205603
CREATED:20260413T143558Z
LAST-MODIFIED:20260421T193535Z
UID:10000757-1792605600-1792611000@bushwickinletpark.org
SUMMARY:Weeding Wednesdays 2026
DESCRIPTION:Join us every week on Wednesday from 6pm to sunset as we weed\, mulch\, tend plants and blossoms\, sometimes plant and water (if necessary). We have tools and gloves (but bring yours if you have them/prefer). Bring a water bottle (hydration is key! for us and the gardens). Everyone welcome but please note in your sign up if you are bringing others. \nRequired signup. \nCome hang – meet other garden aficionados\, get grounded – literally\, identify plants\, discuss best gardening practices! \nWe focus on open spaces at 50 Kent Avenue and 86 Kent Avenue. Please keep an eye on your email (or instagram) after registering to confirm which location we’ll meet at on a given day!
URL:https://bushwickinletpark.org/event/weeding-wednesdays-2026/2026-10-21/
LOCATION:Bushwick Inlet Park (50 Kent Ave)\, 50 Kent Ave\, Brooklyn\, NY\, 11249\, United States
CATEGORIES:50 Kent,86 Kent,Gardening
ATTACH;FMTTYPE=image/jpeg:https://eadn-wc01-5191420.nxedge.io/wp-content/uploads/2026/04/weeding-wednesdays-2026-v2-scaled.jpg
ORGANIZER;CN="Friends of Bushwick Inlet Park":MAILTO:info@bushwickinletpark.org
GEO:40.7231845;-73.9597003
X-APPLE-STRUCTURED-LOCATION;VALUE=URI;X-ADDRESS=Bushwick Inlet Park (50 Kent Ave) 50 Kent Ave Brooklyn NY 11249 United States;X-APPLE-RADIUS=500;X-TITLE=50 Kent Ave:geo:-73.9597003,40.7231845
END:VEVENT
BEGIN:VEVENT
DTSTART;TZID=America/New_York:20261028T180000
DTEND;TZID=America/New_York:20261028T193000
DTSTAMP:20260421T205603
CREATED:20260413T143558Z
LAST-MODIFIED:20260421T193535Z
UID:10000758-1793210400-1793215800@bushwickinletpark.org
SUMMARY:Weeding Wednesdays 2026
DESCRIPTION:Join us every week on Wednesday from 6pm to sunset as we weed\, mulch\, tend plants and blossoms\, sometimes plant and water (if necessary). We have tools and gloves (but bring yours if you have them/prefer). Bring a water bottle (hydration is key! for us and the gardens). Everyone welcome but please note in your sign up if you are bringing others. \nRequired signup. \nCome hang – meet other garden aficionados\, get grounded – literally\, identify plants\, discuss best gardening practices! \nWe focus on open spaces at 50 Kent Avenue and 86 Kent Avenue. Please keep an eye on your email (or instagram) after registering to confirm which location we’ll meet at on a given day!
URL:https://bushwickinletpark.org/event/weeding-wednesdays-2026/2026-10-28/
LOCATION:Bushwick Inlet Park (50 Kent Ave)\, 50 Kent Ave\, Brooklyn\, NY\, 11249\, United States
CATEGORIES:50 Kent,86 Kent,Gardening
ATTACH;FMTTYPE=image/jpeg:https://eadn-wc01-5191420.nxedge.io/wp-content/uploads/2026/04/weeding-wednesdays-2026-v2-scaled.jpg
ORGANIZER;CN="Friends of Bushwick Inlet Park":MAILTO:info@bushwickinletpark.org
GEO:40.7231845;-73.9597003
X-APPLE-STRUCTURED-LOCATION;VALUE=URI;X-ADDRESS=Bushwick Inlet Park (50 Kent Ave) 50 Kent Ave Brooklyn NY 11249 United States;X-APPLE-RADIUS=500;X-TITLE=50 Kent Ave:geo:-73.9597003,40.7231845
END:VEVENT
END:VCALENDAR