BEGIN:VCALENDAR
VERSION:2.0
PRODID:-//Friends of Bushwick Inlet Park - ECPv6.15.20//NONSGML v1.0//EN
CALSCALE:GREGORIAN
METHOD:PUBLISH
X-WR-CALNAME:Friends of Bushwick Inlet Park
X-ORIGINAL-URL:https://bushwickinletpark.org
X-WR-CALDESC:Events for Friends of Bushwick Inlet Park
REFRESH-INTERVAL;VALUE=DURATION:PT1H
X-Robots-Tag:noindex
X-PUBLISHED-TTL:PT1H
BEGIN:VTIMEZONE
TZID:America/New_York
BEGIN:DAYLIGHT
TZOFFSETFROM:-0500
TZOFFSETTO:-0400
TZNAME:EDT
DTSTART:20170312T070000
END:DAYLIGHT
BEGIN:STANDARD
TZOFFSETFROM:-0400
TZOFFSETTO:-0500
TZNAME:EST
DTSTART:20171105T060000
END:STANDARD
BEGIN:DAYLIGHT
TZOFFSETFROM:-0500
TZOFFSETTO:-0400
TZNAME:EDT
DTSTART:20180311T070000
END:DAYLIGHT
BEGIN:STANDARD
TZOFFSETFROM:-0400
TZOFFSETTO:-0500
TZNAME:EST
DTSTART:20181104T060000
END:STANDARD
BEGIN:DAYLIGHT
TZOFFSETFROM:-0500
TZOFFSETTO:-0400
TZNAME:EDT
DTSTART:20190310T070000
END:DAYLIGHT
BEGIN:STANDARD
TZOFFSETFROM:-0400
TZOFFSETTO:-0500
TZNAME:EST
DTSTART:20191103T060000
END:STANDARD
END:VTIMEZONE
BEGIN:VEVENT
DTSTART;TZID=America/New_York:20181114T190000
DTEND;TZID=America/New_York:20181114T210000
DTSTAMP:20260424T063259
CREATED:20181012T214001Z
LAST-MODIFIED:20181027T120519Z
UID:10000112-1542222000-1542229200@bushwickinletpark.org
SUMMARY:Water Futures Lecture: An Ecological History of the Bushwick Inlet and its Environment
DESCRIPTION:Brooklyn with Brooks\, Bushwick with Bushes – A Talk with Eric Sanderson\nGiven the rush to develop the East River shore\, one might think the high rises sprouting like mushrooms are inevitable\, even natural\, but that would be to misread the long-term history of this precious and productive part of the shore. There were times when reeds were more populous than people and migrating waterfowl rather than millennials flocked to Greenpoint. Although those times may be passed\, the ecology of that time helps us understand what the future could be. Dr. Eric Sanderson\, of the Welikia Project at the Wildlife Conservation Society\, will discuss his latest research studies of the historical ecology of extreme western Long Island\, centered on the Bushwick Inlet\, in the context of nature goals for the city at large\, and how we can all be visionmakers when it comes to the future ecology of our neighborhoods. \nPlease register. This event is free. \nPhoto Credit: Jesse Moy / Wildlife Conservation Society’s Welikia Project
URL:https://bushwickinletpark.org/event/water-futures/
LOCATION:A/D/O\, 29 Norman Ave\, Brooklyn\, NY\, 11222
CATEGORIES:Upcoming Events
ATTACH;FMTTYPE=image/jpeg:https://eadn-wc01-5191420.nxedge.io/wp-content/uploads/2018/10/brooklyn-with-brooks-header.jpg
GEO:40.7246788;-73.9548791
X-APPLE-STRUCTURED-LOCATION;VALUE=URI;X-ADDRESS=A/D/O 29 Norman Ave Brooklyn NY 11222;X-APPLE-RADIUS=500;X-TITLE=29 Norman Ave:geo:-73.9548791,40.7246788
END:VEVENT
END:VCALENDAR