BEGIN:VCALENDAR
VERSION:2.0
PRODID:-//Friends of Bushwick Inlet Park - ECPv6.15.20//NONSGML v1.0//EN
CALSCALE:GREGORIAN
METHOD:PUBLISH
X-WR-CALNAME:Friends of Bushwick Inlet Park
X-ORIGINAL-URL:https://bushwickinletpark.org
X-WR-CALDESC:Events for Friends of Bushwick Inlet Park
REFRESH-INTERVAL;VALUE=DURATION:PT1H
X-Robots-Tag:noindex
X-PUBLISHED-TTL:PT1H
BEGIN:VTIMEZONE
TZID:America/New_York
BEGIN:DAYLIGHT
TZOFFSETFROM:-0500
TZOFFSETTO:-0400
TZNAME:EDT
DTSTART:20180311T070000
END:DAYLIGHT
BEGIN:STANDARD
TZOFFSETFROM:-0400
TZOFFSETTO:-0500
TZNAME:EST
DTSTART:20181104T060000
END:STANDARD
BEGIN:DAYLIGHT
TZOFFSETFROM:-0500
TZOFFSETTO:-0400
TZNAME:EDT
DTSTART:20190310T070000
END:DAYLIGHT
BEGIN:STANDARD
TZOFFSETFROM:-0400
TZOFFSETTO:-0500
TZNAME:EST
DTSTART:20191103T060000
END:STANDARD
BEGIN:DAYLIGHT
TZOFFSETFROM:-0500
TZOFFSETTO:-0400
TZNAME:EDT
DTSTART:20200308T070000
END:DAYLIGHT
BEGIN:STANDARD
TZOFFSETFROM:-0400
TZOFFSETTO:-0500
TZNAME:EST
DTSTART:20201101T060000
END:STANDARD
END:VTIMEZONE
BEGIN:VEVENT
DTSTART;TZID=America/New_York:20191119T183000
DTEND;TZID=America/New_York:20191119T200000
DTSTAMP:20260423T232555
CREATED:20190926T182228Z
LAST-MODIFIED:20190926T182228Z
UID:10000030-1574188200-1574193600@bushwickinletpark.org
SUMMARY:Whose Waterfront? North Brooklyn’s Environmental Justice Saga
DESCRIPTION:How are communities building the future of the waterfront? \nFifteen years after the rezoning of the North Brooklyn waterfront\, Brooklyn Brewery Co-Founder Steve Hindy moderates a discussion on the Williamsburg and Greenpoint communities as a locus of environmental activism\, from successfully fighting what would have been the East Coast’s largest trash transfer station in the 1990s\, to halting a massive powerplant in the 00s\, to continued advocacy for realizing the promise of Bushwick Inlet Park today. Join us for this conversation on the power of neighborhood coalitions to protect public health and foster equitable public spaces. Panelists include Frances Lucerna of El Puente\, Adam Perlmutter\, NYC Criminal Court Judge whose prior legal work included putting a stop to building the TransGas power plant in North Brooklyn\, and Katherine Conkling Thompson of Friends of Bushwick Inlet Park. \nPresented in connection with the exhibitions Taking Care of Brooklyn on Pierrepont Street and Waterfront at BHS DUMBO \n\nAdmission \n\nGeneral Admission $10 \nMember Admission $5 \nReserve tickets.
URL:https://bushwickinletpark.org/event/whose-waterfront-north-brooklyns-environmental-justice-saga/
LOCATION:Brooklyn Historical Society\, 128 Pierrepoint Street\, Brooklyn\, NY\, 11201
CATEGORIES:Upcoming Events
ATTACH;FMTTYPE=image/jpeg:https://eadn-wc01-5191420.nxedge.io/wp-content/uploads/2019/09/bhs-talk.jpg
GEO:40.6947963;-73.992441
X-APPLE-STRUCTURED-LOCATION;VALUE=URI;X-ADDRESS=Brooklyn Historical Society 128 Pierrepoint Street Brooklyn NY 11201;X-APPLE-RADIUS=500;X-TITLE=128 Pierrepoint Street:geo:-73.992441,40.6947963
END:VEVENT
END:VCALENDAR